Template-Declare v0.47 Perl 5 v5.34.1 aarch64-linux-ld
- Status
- Pass
- From
- D Ruth Holloway
- Dist
-
Template-Declare v0.47
- Platform
- Perl 5 v5.34.1 aarch64-linux-ld
- Date
- 2022-04-11 09:59:57
- ID
- 24d9d3e4-b97e-11ec-a87c-530ca7e32d23
This distribution has been tested as part of the CPAN Testers
project, supporting the Perl programming language. See
http://wiki.cpantesters.org/ for more information or email
questions to cpan-testers-discuss@perl.org
--
Dear Alex Vandiver,
This is a computer-generated report for Template-Declare-0.47
on perl 5.34.1, created by CPAN-Reporter-1.2018.
Thank you for uploading your work to CPAN. Congratulations!
All tests were successful.
Sections of this report:
* Tester comments
* Program output
* Prerequisites
* Environment and other context
------------------------------
TESTER COMMENTS
------------------------------
Additional comments from tester:
this report is from an automated smoke testing program
and was not reviewed by a human for accuracy
------------------------------
PROGRAM OUTPUT
------------------------------
Output from '/usr/bin/make test':
PERL_DL_NONLAZY=1 "/home/cpantester/perl5/perlbrew/perls/perl-5.34.1-ld/bin/perl" "-MExtUtils::Command::MM" "-MTest::Harness" "-e" "undef *Test::Harness::Switches; test_harness(0, 'inc', 'blib/lib', 'blib/arch')" t/99-pod-coverage.t t/99-pod-spelling.t t/99-pod.t t/aliasing.t t/alternative.t t/arg-declaration-styles.t t/arg-passing.t t/attributes.t t/closures.t t/composition.t t/deep_aliasing.t t/deep_importing.t t/deep_mixing.t t/dispatch_order.t t/duplicate_element_ids.t t/forms.t t/import-regression.t t/importing.t t/indent.t t/indexhtml.t t/inline-tagset.t t/inline_xml_rendering.t t/instrumentation.t t/mixing.t t/namespace.t t/nested_show.t t/overloaded.t t/pitfalls.t t/postprocessor.t t/private.t t/relative-aliasing.t t/relative-mixing.t t/relative-pathing.t t/rt-37622.t t/self.t t/siblings.t t/similar-aliases.t t/smart_tag_wrapper.t t/strict.t t/subclassing.t t/subtemplates.t t/tag_sub_list.t t/tagset_html.t t/tagset_mix.t t/tagset_rdf.t t/tagset_rdf_em.t t/tagset_xul.t t/trivial.t t/utf8.t t/wrappers.t t/xss.t
t/99-pod-coverage.t ......... skipped: Coverage tests only run for authors
t/99-pod-spelling.t ......... skipped: Test::Spelling required for testing POD spelling
t/99-pod.t .................. skipped: Coverage tests only run for authors
t/aliasing.t ................ ok
t/alternative.t ............. ok
t/arg-declaration-styles.t .. ok
t/arg-passing.t ............. ok
t/attributes.t .............. ok
t/closures.t ................ ok
t/composition.t ............. ok
t/deep_aliasing.t ........... ok
t/deep_importing.t .......... ok
t/deep_mixing.t ............. ok
t/dispatch_order.t .......... ok
t/duplicate_element_ids.t ... ok
t/forms.t ................... ok
t/import-regression.t ....... ok
t/importing.t ............... ok
t/indent.t .................. ok
t/indexhtml.t ............... ok
t/inline-tagset.t ........... ok
t/inline_xml_rendering.t .... ok
t/instrumentation.t ......... ok
t/mixing.t .................. ok
t/namespace.t ............... ok
t/nested_show.t ............. ok
t/overloaded.t .............. ok
t/pitfalls.t ................ ok
t/postprocessor.t ........... ok
t/private.t ................. ok
t/relative-aliasing.t ....... ok
t/relative-mixing.t ......... ok
t/relative-pathing.t ........ ok
t/rt-37622.t ................ ok
t/self.t .................... ok
t/siblings.t ................ ok
t/similar-aliases.t ......... ok
t/smart_tag_wrapper.t ....... ok
t/strict.t .................. ok
t/subclassing.t ............. ok
t/subtemplates.t ............ ok
t/tag_sub_list.t ............ ok
t/tagset_html.t ............. ok
t/tagset_mix.t .............. ok
t/tagset_rdf.t .............. ok
t/tagset_rdf_em.t ........... ok
t/tagset_xul.t .............. ok
t/trivial.t ................. ok
t/utf8.t .................... ok
t/wrappers.t ................ ok
t/xss.t ..................... ok
All tests successful.
Files=51, Tests=478, 11 wallclock secs ( 0.38 usr 0.12 sys + 8.96 cusr 1.61 csys = 11.07 CPU)
Result: PASS
------------------------------
PREREQUISITES
------------------------------
Prerequisite modules loaded:
requires:
Module Need Have
------------------------ -------- --------
Class::Accessor::Fast 0 0.51
Class::Data::Inheritable 0 0.09
Class::ISA 0 0.36
perl 5.008002 5.034001
String::BufferStack 1.1 1.16
Test::More 0 1.302190
Test::Warn 0.11 0.36
build_requires:
Module Need Have
------------------------ -------- --------
ExtUtils::MakeMaker 6.59 7.62
Test::More 0 1.302190
Test::Warn 0.11 0.36
configure_requires:
Module Need Have
------------------------ -------- --------
ExtUtils::MakeMaker 6.59 7.62
------------------------------
ENVIRONMENT AND OTHER CONTEXT
------------------------------
Environment variables:
AUTOMATED_TESTING = 1
LANG = en_GB.UTF-8
PATH = /usr/bin:/bin
PERL5LIB = /home/cpantester/.cpan/build/String-BufferStack-1.16-1/blib/arch:/home/cpantester/.cpan/build/String-BufferStack-1.16-1/blib/lib:/home/cpantester/.cpan/build/Class-Accessor-0.51-1/blib/arch:/home/cpantester/.cpan/build/Class-Accessor-0.51-1/blib/lib:/home/cpantester/.cpan/build/Dancer-1.3513-1/blib/arch:/home/cpantester/.cpan/build/Dancer-1.3513-1/blib/lib:/home/cpantester/.cpan/build/Class-ISA-0.36-1/blib/arch:/home/cpantester/.cpan/build/Class-ISA-0.36-1/blib/lib:/home/cpantester/.cpan/build/Plack-1.0048-1/blib/arch:/home/cpantester/.cpan/build/Plack-1.0048-1/blib/lib
PERL5OPT =
PERL5_CPANPLUS_IS_RUNNING = 80902
PERL5_CPAN_IS_RUNNING = 80902
PERL5_CPAN_IS_RUNNING_IN_RECURSION = 9359,80902
PERL5_MINISMOKEBOX = 0.68
PERL_EXTUTILS_AUTOINSTALL = --defaultdeps
PERL_MM_USE_DEFAULT = 1
PERL_USE_UNSAFE_INC = 1
SHELL = /bin/sh
Perl special variables (and OS-specific diagnostics, for MSWin32):
$^X = /home/cpantester/perl5/perlbrew/perls/perl-5.34.1-ld/bin/perl
$UID/$EUID = 1001 / 1001
$GID = 1001 1001
$EGID = 1001 1001
Perl module toolchain versions installed:
Module Have
------------------- --------
CPAN 2.33
CPAN::Meta 2.150010
Cwd 3.80
ExtUtils::CBuilder 0.280236
ExtUtils::Command 7.62
ExtUtils::Install 2.20
ExtUtils::MakeMaker 7.62
ExtUtils::Manifest 1.73
ExtUtils::ParseXS 3.43
File::Spec 3.80
JSON n/a
JSON::PP 4.06
Module::Build 0.4231
Module::Signature n/a
Parse::CPAN::Meta 2.150010
Test::Harness 3.43
Test::More 1.302190
YAML 1.30
YAML::Syck n/a
version 0.9928
--
Summary of my perl5 (revision 5 version 34 subversion 1) configuration:
Platform:
osname=linux
osvers=5.15.30-v8+
archname=aarch64-linux-ld
uname='linux test-arm7 5.15.30-v8+ #1536 smp preempt mon mar 28 13:53:14 bst 2022 aarch64 gnulinux '
config_args='-de -Dprefix=/home/cpantester/perl5/perlbrew/perls/perl-5.34.1-ld -Dman1dir=none -Dman3dir=none -Duselongdouble -Aeval:scriptdir=/home/cpantester/perl5/perlbrew/perls/perl-5.34.1-ld/bin'
hint=recommended
useposix=true
d_sigaction=define
useithreads=undef
usemultiplicity=undef
use64bitint=define
use64bitall=define
uselongdouble=define
usemymalloc=n
default_inc_excludes_dot=define
Compiler:
cc='cc'
ccflags ='-fwrapv -fno-strict-aliasing -pipe -fstack-protector-strong -I/usr/local/include -D_LARGEFILE_SOURCE -D_FILE_OFFSET_BITS=64 -D_FORTIFY_SOURCE=2'
optimize='-O2'
cppflags='-fwrapv -fno-strict-aliasing -pipe -fstack-protector-strong -I/usr/local/include'
ccversion=''
gccversion='10.2.1 20210110'
gccosandvers=''
intsize=4
longsize=8
ptrsize=8
doublesize=8
byteorder=12345678
doublekind=3
d_longlong=define
longlongsize=8
d_longdbl=define
longdblsize=16
longdblkind=1
ivtype='long'
ivsize=8
nvtype='long double'
nvsize=16
Off_t='off_t'
lseeksize=8
alignbytes=16
prototype=define
Linker and Libraries:
ld='cc'
ldflags =' -fstack-protector-strong -L/usr/local/lib'
libpth=/usr/local/lib /usr/lib/aarch64-linux-gnu /usr/lib
libs=-lpthread -lnsl -ldl -lm -lcrypt -lutil -lc
perllibs=-lpthread -lnsl -ldl -lm -lcrypt -lutil -lc
libc=libc-2.31.so
so=so
useshrplib=false
libperl=libperl.a
gnulibc_version='2.31'
Dynamic Linking:
dlsrc=dl_dlopen.xs
dlext=so
d_dlsymun=undef
ccdlflags='-Wl,-E'
cccdlflags='-fPIC'
lddlflags='-shared -O2 -L/usr/local/lib -fstack-protector-strong'
Characteristics of this binary (from libperl):
Compile-time options:
HAS_TIMES
PERLIO_LAYERS
PERL_COPY_ON_WRITE
PERL_DONT_CREATE_GVSV
PERL_MALLOC_WRAP
PERL_OP_PARENT
PERL_PRESERVE_IVUV
USE_64_BIT_ALL
USE_64_BIT_INT
USE_LARGE_FILES
USE_LOCALE
USE_LOCALE_COLLATE
USE_LOCALE_CTYPE
USE_LOCALE_NUMERIC
USE_LOCALE_TIME
USE_LONG_DOUBLE
USE_PERLIO
USE_PERL_ATOF
Built under linux
Compiled at Apr 4 2022 20:06:25
%ENV:
PERL5LIB="/home/cpantester/.cpan/build/String-BufferStack-1.16-1/blib/arch:/home/cpantester/.cpan/build/String-BufferStack-1.16-1/blib/lib:/home/cpantester/.cpan/build/Class-Accessor-0.51-1/blib/arch:/home/cpantester/.cpan/build/Class-Accessor-0.51-1/blib/lib:/home/cpantester/.cpan/build/Dancer-1.3513-1/blib/arch:/home/cpantester/.cpan/build/Dancer-1.3513-1/blib/lib:/home/cpantester/.cpan/build/Class-ISA-0.36-1/blib/arch:/home/cpantester/.cpan/build/Class-ISA-0.36-1/blib/lib:/home/cpantester/.cpan/build/Plack-1.0048-1/blib/arch:/home/cpantester/.cpan/build/Plack-1.0048-1/blib/lib"
PERL5OPT=""
PERL5_CPANPLUS_IS_RUNNING="80902"
PERL5_CPAN_IS_RUNNING="80902"
PERL5_CPAN_IS_RUNNING_IN_RECURSION="9359,80902"
PERL5_MINISMOKEBOX="0.68"
PERL_EXTUTILS_AUTOINSTALL="--defaultdeps"
PERL_MM_USE_DEFAULT="1"
PERL_USE_UNSAFE_INC="1"
@INC:
/home/cpantester/.cpan/build/String-BufferStack-1.16-1/blib/arch
/home/cpantester/.cpan/build/String-BufferStack-1.16-1/blib/lib
/home/cpantester/.cpan/build/Class-Accessor-0.51-1/blib/arch
/home/cpantester/.cpan/build/Class-Accessor-0.51-1/blib/lib
/home/cpantester/.cpan/build/Dancer-1.3513-1/blib/arch
/home/cpantester/.cpan/build/Dancer-1.3513-1/blib/lib
/home/cpantester/.cpan/build/Class-ISA-0.36-1/blib/arch
/home/cpantester/.cpan/build/Class-ISA-0.36-1/blib/lib
/home/cpantester/.cpan/build/Plack-1.0048-1/blib/arch
/home/cpantester/.cpan/build/Plack-1.0048-1/blib/lib
/home/cpantester/perl5/perlbrew/perls/perl-5.34.1-ld/lib/site_perl/5.34.1/aarch64-linux-ld
/home/cpantester/perl5/perlbrew/perls/perl-5.34.1-ld/lib/site_perl/5.34.1
/home/cpantester/perl5/perlbrew/perls/perl-5.34.1-ld/lib/5.34.1/aarch64-linux-ld
/home/cpantester/perl5/perlbrew/perls/perl-5.34.1-ld/lib/5.34.1
.