HTTP-Exception v0.04007 Perl 5 v5.30.1 i86pc-solaris-64

Status
Pass
From
Chris Williams (BINGOS)
Dist
HTTP-Exception v0.04007
Platform
Perl 5 v5.30.1 i86pc-solaris-64
Date
2025-05-11 02:39:21
ID
24f9ce8c-2e11-11f0-acaa-c91c7f7edd59
This distribution has been tested as part of the CPAN Testers
project, supporting the Perl programming language.  See
http://wiki.cpantesters.org/ for more information or email
questions to cpan-testers-discuss@perl.org


--

Dear Thomas Mueller,

This is a computer-generated error report created automatically by
CPANPLUS, version 0.9916. Testers personal comments may appear
at the end of this report.


Thank you for uploading your work to CPAN.  Congratulations!
All tests were successful.

TEST RESULTS:

Below is the error stack from stage 'make test':

PERL_DL_NONLAZY=1 "/home/cpan/pit/bare/perl-5.30.1/bin/perl" "-MExtUtils::Command::MM" "-MTest::Harness" "-e" "undef *Test::Harness::Switches; test_harness(0, 'blib/lib', 'blib/arch')" t/*.t
t/00-load.t ............... ok
t/01-exceptions.t ......... ok
t/02-combinations.t ....... ok
t/03-nice.t ............... ok
t/04-subclassing.t ........ ok
t/05-plack.t .............. skipped: Plack 0.9913 or newer required for this test
t/06-is_methods.t ......... ok
t/07-status_messages.t .... ok
t/08-teapot.t ............. ok
t/10-fields_1xx.t ......... skipped: no fields for HTTP::Exception::1XX yet
t/11-fields_2xx.t ......... skipped: no fields for HTTP::Exception::2XX yet
t/12-fields_3xx.t ......... ok
t/13-fields_4xx.t ......... skipped: no fields for HTTP::Exception::4XX yet
t/14-fields_5xx.t ......... skipped: no fields for HTTP::Exception::5XX yet
t/15-fields_ec.t .......... ok
t/20-load_1XX.t ........... ok
t/21-load_2XX.t ........... ok
t/22-load_3XX.t ........... ok
t/23-load_4XX.t ........... ok
t/24-load_5XX.t ........... ok
t/25-load_all.t ........... ok
t/26-load_server_error.t .. ok
t/27-load_client_error.t .. ok
t/28-load_errors.t ........ ok
t/29-load_redirection.t ... ok
t/30-implicit_all.t ....... ok
t/31-load_mixed.t ......... ok
t/32-load_warnings.t ...... ok
t/boilerplate.t ........... skipped: Author tests not required for installation
t/eol.t ................... skipped: Author tests not required for installation
t/eol_special.t ........... skipped: Author tests not required for installation
t/manifest.t .............. skipped: Author tests not required for installation
t/pod.t ................... skipped: Author tests not required for installation
All tests successful.
Files=33, Tests=4933,  9 wallclock secs ( 0.79 usr  0.16 sys +  7.04 cusr  1.22 csys =  9.21 CPU)
Result: PASS


PREREQUISITES:

Here is a list of prerequisites you specified and versions we
managed to load:

	  Module Name                        Have     Want
	  Exception::Class                   1.45     1.29
	  ExtUtils::MakeMaker                7.74        0
	  HTTP::Status                       7.00    5.817
	  Scalar::Util                       1.50     1.22
	  Test::Exception                    0.43     0.29
	  Test::More                     1.302210     0.88
	  Test::NoWarnings                   1.06     1.04
	  base                               2.27        0
	  strict                             1.11        0
	  warnings                           1.44        0

Perl module toolchain versions installed:
	Module Name                        Have
	CPANPLUS                         0.9916
	CPANPLUS::Dist::Build              0.90
	Cwd                                3.78
	ExtUtils::CBuilder             0.280236
	ExtUtils::Command                  7.74
	ExtUtils::Install                  2.22
	ExtUtils::MakeMaker                7.74
	ExtUtils::Manifest                 1.75
	ExtUtils::ParseXS                  3.51
	File::Spec                         3.78
	Module::Build                    0.4234
	Pod::Parser                        1.63
	Pod::Simple                        3.35
	Test2                          1.302210
	Test::Harness                      3.50
	Test::More                     1.302210
	version                          0.9933

******************************** NOTE ********************************
The comments above are created mechanically, possibly without manual
checking by the sender.  As there are many people performing automatic
tests on each upload to CPAN, it is likely that you will receive
identical messages about the same problem.

If you believe that the message is mistaken, please reply to the first
one with correction and/or additional informations, and do not take
it personally.  We appreciate your patience. :)
**********************************************************************

Additional comments:


This report was machine-generated by CPANPLUS::Dist::YACSmoke 1.08.
Powered by minismokebox version 0.68

CPANPLUS is prefering Build.PL

------------------------------
ENVIRONMENT AND OTHER CONTEXT
------------------------------

Environment variables:

    AUTOMATED_TESTING = 1
    LANG = en_GB.UTF-8
    NONINTERACTIVE_TESTING = 1
    PATH = /usr/bin:/usr/sbin:/sbin:/opt/ooce/bin:/usr/gnu/bin
    PERL5LIB = /home/cpan/pit/jail/UDV6VK1wf7/lib/perl5:/home/cpan/pit/bare/conf/perl-5.30.1/.cpanplus/5.30.1/build/9tyarkEDXb/HTTP-Exception-0.04007/blib/lib:/home/cpan/pit/bare/conf/perl-5.30.1/.cpanplus/5.30.1/build/9tyarkEDXb/HTTP-Exception-0.04007/blib/arch
    PERL5_CPANPLUS_IS_RUNNING = 21236
    PERL5_CPANPLUS_IS_VERSION = 0.9916
    PERL5_MINISMOKEBOX = 0.68
    PERL5_YACSMOKE_BASE = /home/cpan/pit/bare/conf/perl-5.30.1
    PERL_EXTUTILS_AUTOINSTALL = --defaultdeps
    PERL_LOCAL_LIB_ROOT = /home/cpan/pit/jail/UDV6VK1wf7
    PERL_MB_OPT = --install_base "/home/cpan/pit/jail/UDV6VK1wf7"
    PERL_MM_OPT = INSTALL_BASE=/home/cpan/pit/jail/UDV6VK1wf7
    PERL_MM_USE_DEFAULT = 1
    PERL_USE_UNSAFE_INC = 1
    SHELL = /bin/bash
    TERM = screen.xterm-256color

Perl special variables (and OS-specific diagnostics, for MSWin32):

    Perl: $^X = /home/cpan/pit/bare/perl-5.30.1/bin/perl
    UID:  $<  = 101
    EUID: $>  = 101
    GID:  $(  = 101 101
    EGID: $)  = 101 101


-------------------------------


--

Summary of my perl5 (revision 5 version 30 subversion 1) configuration:
   
  Platform:
    osname=solaris
    osvers=2.11
    archname=i86pc-solaris-64
    uname='sunos ouzel 5.11 omnios-r151034-0d278a0cc5 i86pc i386 i86pc '
    config_args='-des -Dprefix=/home/cpan/pit/bare/perl-5.30.1 -Duse64bitall -Dcc=gcc'
    hint=recommended
    useposix=true
    d_sigaction=define
    useithreads=undef
    usemultiplicity=undef
    use64bitint=define
    use64bitall=define
    uselongdouble=undef
    usemymalloc=n
    default_inc_excludes_dot=define
    bincompat5005=undef
  Compiler:
    cc='gcc'
    ccflags ='-m64 -fwrapv -fno-strict-aliasing -pipe -fstack-protector-strong -D_LARGEFILE_SOURCE -D_FILE_OFFSET_BITS=64 -D_FORTIFY_SOURCE=2 -DPERL_USE_SAFE_PUTENV'
    optimize='-O'
    cppflags='-m64 -fwrapv -fno-strict-aliasing -pipe -fstack-protector-strong'
    ccversion=''
    gccversion='9.3.0'
    gccosandvers=''
    intsize=4
    longsize=8
    ptrsize=8
    doublesize=8
    byteorder=12345678
    doublekind=3
    d_longlong=define
    longlongsize=8
    d_longdbl=define
    longdblsize=16
    longdblkind=3
    ivtype='long'
    ivsize=8
    nvtype='double'
    nvsize=8
    Off_t='off_t'
    lseeksize=8
    alignbytes=8
    prototype=define
  Linker and Libraries:
    ld='gcc'
    ldflags =' -m64 -fstack-protector-strong -L/usr/gnu/lib '
    libpth=/opt/gcc-9/lib /opt/gcc-9/lib/gcc/x86_64-pc-solaris2.11/9.3.0/include-fixed /usr/lib /usr/gnu/lib /usr/ccs/lib
    libs=-lpthread -lsocket -lnsl -ldl -lm -lc
    perllibs=-lpthread -lsocket -lnsl -ldl -lm -lc
    libc=/lib/libc.so
    so=so
    useshrplib=true
    libperl=libperl.so
    gnulibc_version=''
  Dynamic Linking:
    dlsrc=dl_dlopen.xs
    dlext=so
    d_dlsymun=undef
    ccdlflags='  -R /home/cpan/pit/bare/perl-5.30.1/lib/5.30.1/i86pc-solaris-64/CORE'
    cccdlflags='-fPIC'
    lddlflags=' -shared -m64 -L/usr/gnu/lib -fstack-protector-strong'


Characteristics of this binary (from libperl): 
  Compile-time options:
    HAS_TIMES
    PERLIO_LAYERS
    PERL_COPY_ON_WRITE
    PERL_DONT_CREATE_GVSV
    PERL_MALLOC_WRAP
    PERL_OP_PARENT
    PERL_PRESERVE_IVUV
    PERL_USE_SAFE_PUTENV
    USE_64_BIT_ALL
    USE_64_BIT_INT
    USE_LARGE_FILES
    USE_LOCALE
    USE_LOCALE_COLLATE
    USE_LOCALE_CTYPE
    USE_LOCALE_NUMERIC
    USE_LOCALE_TIME
    USE_PERLIO
    USE_PERL_ATOF
  Locally applied patches:
    Devel::PatchPerl 2.00
  Built under solaris
  Compiled at Aug 19 2020 18:32:14
  %ENV:
    PERL5LIB="/home/cpan/pit/jail/UDV6VK1wf7/lib/perl5:/home/cpan/pit/bare/conf/perl-5.30.1/.cpanplus/5.30.1/build/9tyarkEDXb/HTTP-Exception-0.04007/blib/lib:/home/cpan/pit/bare/conf/perl-5.30.1/.cpanplus/5.30.1/build/9tyarkEDXb/HTTP-Exception-0.04007/blib/arch"
    PERL5_CPANPLUS_IS_RUNNING="21236"
    PERL5_CPANPLUS_IS_VERSION="0.9916"
    PERL5_MINISMOKEBOX="0.68"
    PERL5_YACSMOKE_BASE="/home/cpan/pit/bare/conf/perl-5.30.1"
    PERL_EXTUTILS_AUTOINSTALL="--defaultdeps"
    PERL_LOCAL_LIB_ROOT="/home/cpan/pit/jail/UDV6VK1wf7"
    PERL_MB_OPT="--install_base "/home/cpan/pit/jail/UDV6VK1wf7""
    PERL_MM_OPT="INSTALL_BASE=/home/cpan/pit/jail/UDV6VK1wf7"
    PERL_MM_USE_DEFAULT="1"
    PERL_USE_UNSAFE_INC="1"
  @INC:
    /home/cpan/pit/jail/UDV6VK1wf7/lib/perl5/5.30.1/i86pc-solaris-64
    /home/cpan/pit/jail/UDV6VK1wf7/lib/perl5/5.30.1
    /home/cpan/pit/jail/UDV6VK1wf7/lib/perl5/i86pc-solaris-64
    /home/cpan/pit/jail/UDV6VK1wf7/lib/perl5
    /home/cpan/pit/bare/conf/perl-5.30.1/.cpanplus/5.30.1/build/9tyarkEDXb/HTTP-Exception-0.04007/blib/lib
    /home/cpan/pit/bare/conf/perl-5.30.1/.cpanplus/5.30.1/build/9tyarkEDXb/HTTP-Exception-0.04007/blib/arch
    /home/cpan/pit/bare/perl-5.30.1/lib/site_perl/5.30.1/i86pc-solaris-64
    /home/cpan/pit/bare/perl-5.30.1/lib/site_perl/5.30.1
    /home/cpan/pit/bare/perl-5.30.1/lib/5.30.1/i86pc-solaris-64
    /home/cpan/pit/bare/perl-5.30.1/lib/5.30.1
    .