HTTP-Promise vv0.5.3 Perl 5 v5.32.1 x86_64-linux

Status
Pass
From
Slaven Rezić
Dist
HTTP-Promise vv0.5.3
Platform
Perl 5 v5.32.1 x86_64-linux
Date
2025-03-11 07:40:46
ID
24fa8cf4-fe4c-11ef-91e7-27e06d8775ea
This distribution has been tested as part of the CPAN Testers
project, supporting the Perl programming language.  See
http://wiki.cpantesters.org/ for more information or email
questions to cpan-testers-discuss@perl.org


--
Dear Jacques Deguest,

This is a computer-generated report for HTTP-Promise-v0.5.3
on perl 5.32.1, created by CPAN-Reporter-1.2020.

Thank you for uploading your work to CPAN.  Congratulations!
All tests were successful.

Sections of this report:

    * Tester comments
    * Program output
    * Prerequisites
    * Environment and other context

------------------------------
TESTER COMMENTS
------------------------------

Additional comments from tester:

none provided

------------------------------
PROGRAM OUTPUT
------------------------------

Output from '/usr/bin/make test':

PERL_DL_NONLAZY=1 "/opt/perl-5.32.1/bin/perl" "-MExtUtils::Command::MM" "-MTest::Harness" "-e" "undef *Test::Harness::Switches; test_harness(0, 'blib/lib', 'blib/arch')" t/*.t
t/01.load.t ................ ok
Bad request within package HTTP::Promise::Parser at line 455 in file lib/HTTP/Promise/Parser.pm
Trace begun at lib/HTTP/Promise/Parser.pm line 455
	HTTP::Promise::Parser::parse_headers('HTTP::Promise::Parser', 'SCALAR(0x560e9485f078)') called at lib/HTTP/Promise/Parser.pm line 786
	HTTP::Promise::Parser::parse_request_pp('HTTP::Promise::Parser', 'SCALAR(0x560e9485f078)') called at t/02.parser.t line 190
	main::__ANON__ at /opt/perl-5.32.1/lib/site_perl/5.32.1/Test/Builder.pm line 368
	eval {...} at /opt/perl-5.32.1/lib/site_perl/5.32.1/Test/Builder.pm line 368
	Test::Builder::subtest('Test::Builder=HASH(0x560e92b180a8)', 'request', 'CODE(0x560e94800a78)') called at /opt/perl-5.32.1/lib/site_perl/5.32.1/Test/More.pm line 831
	Test::More::subtest('request', 'CODE(0x560e94800a78)') called at t/02.parser.t line 203
Bad request within package HTTP::Promise::Parser at line 455 in file lib/HTTP/Promise/Parser.pm
Trace begun at lib/HTTP/Promise/Parser.pm line 455
	HTTP::Promise::Parser::parse_headers('HTTP::Promise::Parser', 'SCALAR(0x560e9485f078)') called at lib/HTTP/Promise/Parser.pm line 786
	HTTP::Promise::Parser::parse_request_pp('HTTP::Promise::Parser', 'SCALAR(0x560e9485f078)') called at t/02.parser.t line 190
	main::__ANON__ at /opt/perl-5.32.1/lib/site_perl/5.32.1/Test/Builder.pm line 368
	eval {...} at /opt/perl-5.32.1/lib/site_perl/5.32.1/Test/Builder.pm line 368
	Test::Builder::subtest('Test::Builder=HASH(0x560e92b180a8)', 'request', 'CODE(0x560e94800a78)') called at /opt/perl-5.32.1/lib/site_perl/5.32.1/Test/More.pm line 831
	Test::More::subtest('request', 'CODE(0x560e94800a78)') called at t/02.parser.t line 203
Bad Request-Line within package HTTP::Promise::Parser at line 450 in file lib/HTTP/Promise/Parser.pm
Trace begun at lib/HTTP/Promise/Parser.pm line 450
	HTTP::Promise::Parser::parse_headers('HTTP::Promise::Parser', 'SCALAR(0x560e9485f078)') called at lib/HTTP/Promise/Parser.pm line 786
	HTTP::Promise::Parser::parse_request_pp('HTTP::Promise::Parser', 'SCALAR(0x560e9485f078)') called at t/02.parser.t line 190
	main::__ANON__ at /opt/perl-5.32.1/lib/site_perl/5.32.1/Test/Builder.pm line 368
	eval {...} at /opt/perl-5.32.1/lib/site_perl/5.32.1/Test/Builder.pm line 368
	Test::Builder::subtest('Test::Builder=HASH(0x560e92b180a8)', 'request', 'CODE(0x560e94800a78)') called at /opt/perl-5.32.1/lib/site_perl/5.32.1/Test/More.pm line 831
	Test::More::subtest('request', 'CODE(0x560e94800a78)') called at t/02.parser.t line 203
Incomplete request, call again when there is more data. within package HTTP::Promise::Parser at line 414 in file lib/HTTP/Promise/Parser.pm
Trace begun at lib/HTTP/Promise/Parser.pm line 414
	HTTP::Promise::Parser::parse_headers('HTTP::Promise::Parser', 'SCALAR(0x560e9485f078)') called at lib/HTTP/Promise/Parser.pm line 786
	HTTP::Promise::Parser::parse_request_pp('HTTP::Promise::Parser', 'SCALAR(0x560e9485f078)') called at t/02.parser.t line 190
	main::__ANON__ at /opt/perl-5.32.1/lib/site_perl/5.32.1/Test/Builder.pm line 368
	eval {...} at /opt/perl-5.32.1/lib/site_perl/5.32.1/Test/Builder.pm line 368
	Test::Builder::subtest('Test::Builder=HASH(0x560e92b180a8)', 'request', 'CODE(0x560e94800a78)') called at /opt/perl-5.32.1/lib/site_perl/5.32.1/Test/More.pm line 831
	Test::More::subtest('request', 'CODE(0x560e94800a78)') called at t/02.parser.t line 203
Bad request within package HTTP::Promise::Parser at line 455 in file lib/HTTP/Promise/Parser.pm
Trace begun at lib/HTTP/Promise/Parser.pm line 455
	HTTP::Promise::Parser::parse_headers('HTTP::Promise::Parser', 'SCALAR(0x560e9485f078)') called at lib/HTTP/Promise/Parser.pm line 786
	HTTP::Promise::Parser::parse_request_pp('HTTP::Promise::Parser', 'SCALAR(0x560e9485f078)') called at t/02.parser.t line 190
	main::__ANON__ at /opt/perl-5.32.1/lib/site_perl/5.32.1/Test/Builder.pm line 368
	eval {...} at /opt/perl-5.32.1/lib/site_perl/5.32.1/Test/Builder.pm line 368
	Test::Builder::subtest('Test::Builder=HASH(0x560e92b180a8)', 'request', 'CODE(0x560e94800a78)') called at /opt/perl-5.32.1/lib/site_perl/5.32.1/Test/More.pm line 831
	Test::More::subtest('request', 'CODE(0x560e94800a78)') called at t/02.parser.t line 203
Bad Request-Line within package HTTP::Promise::Parser at line 450 in file lib/HTTP/Promise/Parser.pm
Trace begun at lib/HTTP/Promise/Parser.pm line 450
	HTTP::Promise::Parser::parse_headers('HTTP::Promise::Parser', 'SCALAR(0x560e9485f078)') called at lib/HTTP/Promise/Parser.pm line 786
	HTTP::Promise::Parser::parse_request_pp('HTTP::Promise::Parser', 'SCALAR(0x560e9485f078)') called at t/02.parser.t line 190
	main::__ANON__ at /opt/perl-5.32.1/lib/site_perl/5.32.1/Test/Builder.pm line 368
	eval {...} at /opt/perl-5.32.1/lib/site_perl/5.32.1/Test/Builder.pm line 368
	Test::Builder::subtest('Test::Builder=HASH(0x560e92b180a8)', 'request', 'CODE(0x560e94800a78)') called at /opt/perl-5.32.1/lib/site_perl/5.32.1/Test/More.pm line 831
	Test::More::subtest('request', 'CODE(0x560e94800a78)') called at t/02.parser.t line 203
Incomplete request, call again when there is more data. within package HTTP::Promise::Parser at line 414 in file lib/HTTP/Promise/Parser.pm
Trace begun at lib/HTTP/Promise/Parser.pm line 414
	HTTP::Promise::Parser::parse_headers('HTTP::Promise::Parser', 'SCALAR(0x560e9485f078)') called at lib/HTTP/Promise/Parser.pm line 786
	HTTP::Promise::Parser::parse_request_pp('HTTP::Promise::Parser', 'SCALAR(0x560e9485f078)') called at t/02.parser.t line 190
	main::__ANON__ at /opt/perl-5.32.1/lib/site_perl/5.32.1/Test/Builder.pm line 368
	eval {...} at /opt/perl-5.32.1/lib/site_perl/5.32.1/Test/Builder.pm line 368
	Test::Builder::subtest('Test::Builder=HASH(0x560e92b180a8)', 'request', 'CODE(0x560e94800a78)') called at /opt/perl-5.32.1/lib/site_perl/5.32.1/Test/More.pm line 831
	Test::More::subtest('request', 'CODE(0x560e94800a78)') called at t/02.parser.t line 203
Bad request within package HTTP::Promise::Parser at line 476 in file lib/HTTP/Promise/Parser.pm
Trace begun at lib/HTTP/Promise/Parser.pm line 476
	HTTP::Promise::Parser::parse_headers('HTTP::Promise::Parser', 'SCALAR(0x560e9485f078)') called at lib/HTTP/Promise/Parser.pm line 786
	HTTP::Promise::Parser::parse_request_pp('HTTP::Promise::Parser', 'SCALAR(0x560e9485f078)') called at t/02.parser.t line 190
	main::__ANON__ at /opt/perl-5.32.1/lib/site_perl/5.32.1/Test/Builder.pm line 368
	eval {...} at /opt/perl-5.32.1/lib/site_perl/5.32.1/Test/Builder.pm line 368
	Test::Builder::subtest('Test::Builder=HASH(0x560e92b180a8)', 'request', 'CODE(0x560e94800a78)') called at /opt/perl-5.32.1/lib/site_perl/5.32.1/Test/More.pm line 831
	Test::More::subtest('request', 'CODE(0x560e94800a78)') called at t/02.parser.t line 203
Bad Request-Line within package HTTP::Promise::Parser at line 450 in file lib/HTTP/Promise/Parser.pm
Trace begun at lib/HTTP/Promise/Parser.pm line 450
	HTTP::Promise::Parser::parse_headers('HTTP::Promise::Parser', 'SCALAR(0x560e9485f078)') called at lib/HTTP/Promise/Parser.pm line 786
	HTTP::Promise::Parser::parse_request_pp('HTTP::Promise::Parser', 'SCALAR(0x560e9485f078)') called at t/02.parser.t line 190
	main::__ANON__ at /opt/perl-5.32.1/lib/site_perl/5.32.1/Test/Builder.pm line 368
	eval {...} at /opt/perl-5.32.1/lib/site_perl/5.32.1/Test/Builder.pm line 368
	Test::Builder::subtest('Test::Builder=HASH(0x560e92b180a8)', 'request', 'CODE(0x560e94800a78)') called at /opt/perl-5.32.1/lib/site_perl/5.32.1/Test/More.pm line 831
	Test::More::subtest('request', 'CODE(0x560e94800a78)') called at t/02.parser.t line 203
Bad request within package HTTP::Promise::Parser at line 788 in file lib/HTTP/Promise/Parser.pm
Trace begun at lib/HTTP/Promise/Parser.pm line 788
	HTTP::Promise::Parser::parse_request_pp('HTTP::Promise::Parser', 'SCALAR(0x560e9485f078)') called at t/02.parser.t line 190
	main::__ANON__ at /opt/perl-5.32.1/lib/site_perl/5.32.1/Test/Builder.pm line 368
	eval {...} at /opt/perl-5.32.1/lib/site_perl/5.32.1/Test/Builder.pm line 368
	Test::Builder::subtest('Test::Builder=HASH(0x560e92b180a8)', 'request', 'CODE(0x560e94800a78)') called at /opt/perl-5.32.1/lib/site_perl/5.32.1/Test/More.pm line 831
	Test::More::subtest('request', 'CODE(0x560e94800a78)') called at t/02.parser.t line 203
Bad Response-Line within package HTTP::Promise::Parser at line 450 in file lib/HTTP/Promise/Parser.pm
Trace begun at lib/HTTP/Promise/Parser.pm line 450
	HTTP::Promise::Parser::parse_headers('HTTP::Promise::Parser', 'SCALAR(0x560e94870228)', 'HASH(0x560e94bf9740)') called at lib/HTTP/Promise/Parser.pm line 840
	HTTP::Promise::Parser::parse_response_pp('HTTP::Promise::Parser', 'SCALAR(0x560e94870228)') called at t/02.parser.t line 287
	main::__ANON__ at /opt/perl-5.32.1/lib/site_perl/5.32.1/Test/Builder.pm line 368
	eval {...} at /opt/perl-5.32.1/lib/site_perl/5.32.1/Test/Builder.pm line 368
	Test::Builder::subtest('Test::Builder=HASH(0x560e92b180a8)', 'response', 'CODE(0x560e948688a0)') called at /opt/perl-5.32.1/lib/site_perl/5.32.1/Test/More.pm line 831
	Test::More::subtest('response', 'CODE(0x560e948688a0)') called at t/02.parser.t line 300
Incomplete request, call again when there is more data. within package HTTP::Promise::Parser at line 414 in file lib/HTTP/Promise/Parser.pm
Trace begun at lib/HTTP/Promise/Parser.pm line 414
	HTTP::Promise::Parser::parse_headers('HTTP::Promise::Parser', 'SCALAR(0x560e94870228)', 'HASH(0x560e94c16278)') called at lib/HTTP/Promise/Parser.pm line 840
	HTTP::Promise::Parser::parse_response_pp('HTTP::Promise::Parser', 'SCALAR(0x560e94870228)') called at t/02.parser.t line 287
	main::__ANON__ at /opt/perl-5.32.1/lib/site_perl/5.32.1/Test/Builder.pm line 368
	eval {...} at /opt/perl-5.32.1/lib/site_perl/5.32.1/Test/Builder.pm line 368
	Test::Builder::subtest('Test::Builder=HASH(0x560e92b180a8)', 'response', 'CODE(0x560e948688a0)') called at /opt/perl-5.32.1/lib/site_perl/5.32.1/Test/More.pm line 831
	Test::More::subtest('response', 'CODE(0x560e948688a0)') called at t/02.parser.t line 300
Bad Response-Line within package HTTP::Promise::Parser at line 450 in file lib/HTTP/Promise/Parser.pm
Trace begun at lib/HTTP/Promise/Parser.pm line 450
	HTTP::Promise::Parser::parse_headers('HTTP::Promise::Parser', 'SCALAR(0x560e94870228)', 'HASH(0x560e94c12910)') called at lib/HTTP/Promise/Parser.pm line 840
	HTTP::Promise::Parser::parse_response_pp('HTTP::Promise::Parser', 'SCALAR(0x560e94870228)') called at t/02.parser.t line 287
	main::__ANON__ at /opt/perl-5.32.1/lib/site_perl/5.32.1/Test/Builder.pm line 368
	eval {...} at /opt/perl-5.32.1/lib/site_perl/5.32.1/Test/Builder.pm line 368
	Test::Builder::subtest('Test::Builder=HASH(0x560e92b180a8)', 'response', 'CODE(0x560e948688a0)') called at /opt/perl-5.32.1/lib/site_perl/5.32.1/Test/More.pm line 831
	Test::More::subtest('response', 'CODE(0x560e948688a0)') called at t/02.parser.t line 300
Incomplete request, call again when there is more data. within package HTTP::Promise::Parser at line 414 in file lib/HTTP/Promise/Parser.pm
Trace begun at lib/HTTP/Promise/Parser.pm line 414
	HTTP::Promise::Parser::parse_headers('HTTP::Promise::Parser', 'SCALAR(0x560e94870228)', 'HASH(0x560e94c0d068)') called at lib/HTTP/Promise/Parser.pm line 840
	HTTP::Promise::Parser::parse_response_pp('HTTP::Promise::Parser', 'SCALAR(0x560e94870228)') called at t/02.parser.t line 287
	main::__ANON__ at /opt/perl-5.32.1/lib/site_perl/5.32.1/Test/Builder.pm line 368
	eval {...} at /opt/perl-5.32.1/lib/site_perl/5.32.1/Test/Builder.pm line 368
	Test::Builder::subtest('Test::Builder=HASH(0x560e92b180a8)', 'response', 'CODE(0x560e948688a0)') called at /opt/perl-5.32.1/lib/site_perl/5.32.1/Test/More.pm line 831
	Test::More::subtest('response', 'CODE(0x560e948688a0)') called at t/02.parser.t line 300
Bad response within package HTTP::Promise::Parser at line 476 in file lib/HTTP/Promise/Parser.pm
Trace begun at lib/HTTP/Promise/Parser.pm line 476
	HTTP::Promise::Parser::parse_headers('HTTP::Promise::Parser', 'SCALAR(0x560e94870228)', 'HASH(0x560e94bf92a8)') called at lib/HTTP/Promise/Parser.pm line 840
	HTTP::Promise::Parser::parse_response_pp('HTTP::Promise::Parser', 'SCALAR(0x560e94870228)') called at t/02.parser.t line 287
	main::__ANON__ at /opt/perl-5.32.1/lib/site_perl/5.32.1/Test/Builder.pm line 368
	eval {...} at /opt/perl-5.32.1/lib/site_perl/5.32.1/Test/Builder.pm line 368
	Test::Builder::subtest('Test::Builder=HASH(0x560e92b180a8)', 'response', 'CODE(0x560e948688a0)') called at /opt/perl-5.32.1/lib/site_perl/5.32.1/Test/More.pm line 831
	Test::More::subtest('response', 'CODE(0x560e948688a0)') called at t/02.parser.t line 300
t/02.parser.t .............. ok
Basic authorisation user name cannot contain ':'. within package HTTP::Promise::Headers at line 634 in file lib/HTTP/Promise/Headers.pm
Trace begun at lib/HTTP/Promise/Headers.pm line 634
	HTTP::Promise::Headers::error('HTTP::Promise::Headers=HASH(0x55d32d46eb38)', 'Basic authorisation user name cannot contain \':\'.') called at lib/HTTP/Promise/Headers.pm line 1481
	HTTP::Promise::Headers::_basic_auth('HTTP::Promise::Headers=HASH(0x55d32d46eb38)', 'Authorization', 'u2:p') called at lib/HTTP/Promise/Headers.pm line 258
	HTTP::Promise::Headers::authorization_basic('HTTP::Promise::Headers=HASH(0x55d32d46eb38)', 'u2:p') called at t/03.headers.t line 433
t/03.headers.t ............. ok
No headers data could be retrieved in the first 1 bytes of data read. within package HTTP::Promise::Parser at line 294 in file lib/HTTP/Promise/Parser.pm
Trace begun at lib/HTTP/Promise/Parser.pm line 294
	HTTP::Promise::Parser::parse_fh('HTTP::Promise::Parser=HASH(0x5577010cc150)', 'Module::Generic::Scalar::IO=GLOB(0x557701241218)') called at lib/HTTP/Promise/Parser.pm line 223
	HTTP::Promise::Parser::parse('HTTP::Promise::Parser=HASH(0x5577010cc150)', 'SCALAR(0x5577001dc910)') called at lib/HTTP/Promise/Message.pm line 835
	HTTP::Promise::Message::parse('HTTP::Promise::Message', '^J', 'debug', 0) called at t/04.message.t line 96
Bad request within package HTTP::Promise::Parser at line 455 in file lib/HTTP/Promise/Parser.pm
Trace begun at lib/HTTP/Promise/Parser.pm line 455
	HTTP::Promise::Parser::parse_headers('HTTP::Promise::Parser=HASH(0x557701257568)', 'SCALAR(0x5577011bd148)', 'HASH(0x557701254848)') called at lib/HTTP/Promise/Parser.pm line 307
	HTTP::Promise::Parser::parse_fh('HTTP::Promise::Parser=HASH(0x557701257568)', 'Module::Generic::Scalar::IO=GLOB(0x557700f1b868)') called at lib/HTTP/Promise/Parser.pm line 223
	HTTP::Promise::Parser::parse('HTTP::Promise::Parser=HASH(0x557701257568)', 'SCALAR(0x5577001dc910)') called at lib/HTTP/Promise/Message.pm line 835
	HTTP::Promise::Message::parse('HTTP::Promise::Message', '^J^J', 'debug', 0) called at t/04.message.t line 99
No headers data could be retrieved in the first 3 bytes of data read. within package HTTP::Promise::Parser at line 294 in file lib/HTTP/Promise/Parser.pm
Trace begun at lib/HTTP/Promise/Parser.pm line 294
	HTTP::Promise::Parser::parse_fh('HTTP::Promise::Parser=HASH(0x55770126a300)', 'Module::Generic::Scalar::IO=GLOB(0x55770119b7d8)') called at lib/HTTP/Promise/Parser.pm line 223
	HTTP::Promise::Parser::parse('HTTP::Promise::Parser=HASH(0x55770126a300)', 'SCALAR(0x5577001dc910)') called at lib/HTTP/Promise/Message.pm line 835
	HTTP::Promise::Message::parse('HTTP::Promise::Message', 'foo', 'debug', 0) called at t/04.message.t line 105
No headers data could be retrieved in the first 11 bytes of data read. within package HTTP::Promise::Parser at line 294 in file lib/HTTP/Promise/Parser.pm
Trace begun at lib/HTTP/Promise/Parser.pm line 294
	HTTP::Promise::Parser::parse_fh('HTTP::Promise::Parser=HASH(0x557701259270)', 'Module::Generic::Scalar::IO=GLOB(0x5577012834c0)') called at lib/HTTP/Promise/Parser.pm line 223
	HTTP::Promise::Parser::parse('HTTP::Promise::Parser=HASH(0x557701259270)', 'SCALAR(0x5577001dc910)') called at lib/HTTP/Promise/Message.pm line 835
	HTTP::Promise::Message::parse('HTTP::Promise::Message', 'foo_bar: 1^J', 'debug', 0) called at t/04.message.t line 111
Incomplete request, call again when there is more data. within package HTTP::Promise::Parser at line 414 in file lib/HTTP/Promise/Parser.pm
Trace begun at lib/HTTP/Promise/Parser.pm line 414
	HTTP::Promise::Parser::parse_headers('HTTP::Promise::Parser=HASH(0x557701257040)', 'SCALAR(0x5577011bd148)', 'HASH(0x557701282cf8)') called at lib/HTTP/Promise/Parser.pm line 307
	HTTP::Promise::Parser::parse_fh('HTTP::Promise::Parser=HASH(0x557701257040)', 'Module::Generic::Scalar::IO=GLOB(0x55770127b110)') called at lib/HTTP/Promise/Parser.pm line 223
	HTTP::Promise::Parser::parse('HTTP::Promise::Parser=HASH(0x557701257040)', 'SCALAR(0x5577001dc910)') called at lib/HTTP/Promise/Message.pm line 835
	HTTP::Promise::Message::parse('HTTP::Promise::Message', 'foo: 1^Jfoo', 'debug', 0) called at t/04.message.t line 115
No headers data could be retrieved in the first 10 bytes of data read. within package HTTP::Promise::Parser at line 294 in file lib/HTTP/Promise/Parser.pm
Trace begun at lib/HTTP/Promise/Parser.pm line 294
	HTTP::Promise::Parser::parse_fh('HTTP::Promise::Parser=HASH(0x557701257040)', 'Module::Generic::Scalar::IO=GLOB(0x55770127b110)') called at lib/HTTP/Promise/Parser.pm line 223
	HTTP::Promise::Parser::parse('HTTP::Promise::Parser=HASH(0x557701257040)', 'SCALAR(0x5577001dc910)') called at lib/HTTP/Promise/Message.pm line 835
	HTTP::Promise::Message::parse('HTTP::Promise::Message', 'foo: 1^Jfoo', 'debug', 0) called at t/04.message.t line 115
Incomplete request, call again when there is more data. within package HTTP::Promise::Parser at line 414 in file lib/HTTP/Promise/Parser.pm
Trace begun at lib/HTTP/Promise/Parser.pm line 414
	HTTP::Promise::Parser::parse_headers('HTTP::Promise::Parser=HASH(0x55770127fd10)', 'SCALAR(0x5577011bd148)', 'HASH(0x55770119a250)') called at lib/HTTP/Promise/Parser.pm line 307
	HTTP::Promise::Parser::parse_fh('HTTP::Promise::Parser=HASH(0x55770127fd10)', 'Module::Generic::Scalar::IO=GLOB(0x5577012a7168)') called at lib/HTTP/Promise/Parser.pm line 223
	HTTP::Promise::Parser::parse('HTTP::Promise::Parser=HASH(0x55770127fd10)', 'SCALAR(0x5577001dc910)') called at lib/HTTP/Promise/Message.pm line 835
	HTTP::Promise::Message::parse('HTTP::Promise::Message', '  abc^Jfoo: 1^J', 'debug', 0) called at t/04.message.t line 154
No headers data could be retrieved in the first 13 bytes of data read. within package HTTP::Promise::Parser at line 294 in file lib/HTTP/Promise/Parser.pm
Trace begun at lib/HTTP/Promise/Parser.pm line 294
	HTTP::Promise::Parser::parse_fh('HTTP::Promise::Parser=HASH(0x55770127fd10)', 'Module::Generic::Scalar::IO=GLOB(0x5577012a7168)') called at lib/HTTP/Promise/Parser.pm line 223
	HTTP::Promise::Parser::parse('HTTP::Promise::Parser=HASH(0x55770127fd10)', 'SCALAR(0x5577001dc910)') called at lib/HTTP/Promise/Message.pm line 835
	HTTP::Promise::Message::parse('HTTP::Promise::Message', '  abc^Jfoo: 1^J', 'debug', 0) called at t/04.message.t line 154
No headers data could be retrieved in the first 9 bytes of data read. within package HTTP::Promise::Parser at line 294 in file lib/HTTP/Promise/Parser.pm
Trace begun at lib/HTTP/Promise/Parser.pm line 294
	HTTP::Promise::Parser::parse_fh('HTTP::Promise::Parser=HASH(0x557701241ae8)', 'Module::Generic::Scalar::IO=GLOB(0x55770129ea68)') called at lib/HTTP/Promise/Parser.pm line 223
	HTTP::Promise::Parser::parse('HTTP::Promise::Parser=HASH(0x557701241ae8)', 'SCALAR(0x5577001dc910)') called at lib/HTTP/Promise/Message.pm line 835
	HTTP::Promise::Message::parse('HTTP::Promise::Message', ' foo : 1^J', 'debug', 0) called at t/04.message.t line 157
Incomplete request, call again when there is more data. within package HTTP::Promise::Parser at line 414 in file lib/HTTP/Promise/Parser.pm
Trace begun at lib/HTTP/Promise/Parser.pm line 414
	HTTP::Promise::Parser::parse_headers('HTTP::Promise::Parser=HASH(0x557701287778)', 'SCALAR(0x5577011bd148)', 'HASH(0x5577012a5460)') called at lib/HTTP/Promise/Parser.pm line 307
	HTTP::Promise::Parser::parse_fh('HTTP::Promise::Parser=HASH(0x557701287778)', 'Module::Generic::Scalar::IO=GLOB(0x55770127ab10)') called at lib/HTTP/Promise/Parser.pm line 223
	HTTP::Promise::Parser::parse('HTTP::Promise::Parser=HASH(0x557701287778)', 'SCALAR(0x5577001dc910)') called at lib/HTTP/Promise/Message.pm line 835
	HTTP::Promise::Message::parse('HTTP::Promise::Message', '^Jfoo: bar^J', 'debug', 0) called at t/04.message.t line 160
No headers data could be retrieved in the first 10 bytes of data read. within package HTTP::Promise::Parser at line 294 in file lib/HTTP/Promise/Parser.pm
Trace begun at lib/HTTP/Promise/Parser.pm line 294
	HTTP::Promise::Parser::parse_fh('HTTP::Promise::Parser=HASH(0x557701287778)', 'Module::Generic::Scalar::IO=GLOB(0x55770127ab10)') called at lib/HTTP/Promise/Parser.pm line 223
	HTTP::Promise::Parser::parse('HTTP::Promise::Parser=HASH(0x557701287778)', 'SCALAR(0x5577001dc910)') called at lib/HTTP/Promise/Message.pm line 835
	HTTP::Promise::Message::parse('HTTP::Promise::Message', '^Jfoo: bar^J', 'debug', 0) called at t/04.message.t line 160
Only one part allowed for message/http; boundary=aaa content within package HTTP::Promise::Message at line 889 in file lib/HTTP/Promise/Message.pm
Trace begun at lib/HTTP/Promise/Message.pm line 889
	HTTP::Promise::Message::parts('HTTP::Promise::Message=HASH(0x5577012b8fb8)', 'HTTP::Promise::Message=HASH(0x557701339830)', 'HTTP::Promise::Message=HASH(0x5577013273e0)') called at t/04.message.t line 331
Warning: no part name set for this part No. 1
Warning: no part name set for this part No. 2
Warning: no part name set for this part No. 1
Cannot encode multipart/* messages within package HTTP::Promise::Message at line 708 in file lib/HTTP/Promise/Message.pm
Trace begun at lib/HTTP/Promise/Message.pm line 708
	HTTP::Promise::Message::encode(undef) called at t/04.message.t line 428
Cannot encode message/* messages within package HTTP::Promise::Message at line 709 in file lib/HTTP/Promise/Message.pm
Trace begun at lib/HTTP/Promise/Message.pm line 709
	HTTP::Promise::Message::encode(undef) called at t/04.message.t line 431
UTF-8 "\xFF" does not map to Unicode at lib/HTTP/Promise/Entity.pm line 1222. within package HTTP::Promise::Entity at line 1239 in file lib/HTTP/Promise/Entity.pm
Trace begun at lib/HTTP/Promise/Entity.pm line 1239
	HTTP::Promise::Entity::io_encoding('HTTP::Promise::Entity=HASH(0x557702987268)', 'charset_strict', 1) called at t/04.message.t line 545
UTF-8 "\xFF" does not map to Unicode at lib/HTTP/Promise/Entity.pm line 1222. within package HTTP::Promise::Entity at line 1239 in file lib/HTTP/Promise/Entity.pm
Trace begun at lib/HTTP/Promise/Entity.pm line 1239
	HTTP::Promise::Entity::io_encoding('HTTP::Promise::Entity=HASH(0x557702987268)', 'body', 'HTTP::Promise::Body::Scalar=SCALAR(0x557702a40ff0)', 'charset_strict', 1) called at lib/HTTP/Promise/Message.pm line 544
	HTTP::Promise::Message::decoded_content('HTTP::Promise::Message=HASH(0x5577027509d8)', 'charset_strict', 1) called at t/04.message.t line 547
Decoding provided "foobar" is unsupported. within package HTTP::Promise::Stream at line 666 in file lib/HTTP/Promise/Stream.pm
Trace begun at lib/HTTP/Promise/Stream.pm line 666
	HTTP::Promise::Stream::init('HTTP::Promise::Stream=HASH(0x557702a189b8)', 'HTTP::Promise::Body::Scalar=SCALAR(0x557702a40ff0)', 'decoding', 'foobar', 'fatal', 0, 'debug', undef) called at /opt/perl-5.32.1/lib/site_perl/5.32.1/Module/Generic.pm line 359
	Module::Generic::new('HTTP::Promise::Stream', 'HTTP::Promise::Body::Scalar=SCALAR(0x557702a40ff0)', 'decoding', 'foobar', 'fatal', 0, 'debug', undef) called at lib/HTTP/Promise/Entity.pm line 705
	HTTP::Promise::Entity::decode_body('HTTP::Promise::Entity=HASH(0x557702987268)', 'Module::Generic::Array=ARRAY(0x557702a4d148)', 'HASH(0x557702a18130)') called at lib/HTTP/Promise/Message.pm line 517
	HTTP::Promise::Message::decode_content('HTTP::Promise::Message=HASH(0x5577027509d8)', 'HASH(0x557702a18130)') called at lib/HTTP/Promise/Message.pm line 530
	HTTP::Promise::Message::decoded_content('HTTP::Promise::Message=HASH(0x5577027509d8)') called at t/04.message.t line 551
# $@ is 'Decoding provided "foobar" is unsupported. within package HTTP::Promise::Stream at line 666 in file lib/HTTP/Promise/Stream.pm
# Trace begun at lib/HTTP/Promise/Stream.pm line 666
# 	HTTP::Promise::Stream::init('HTTP::Promise::Stream=HASH(0x557702a18fe8)', 'HTTP::Promise::Body::Scalar=SCALAR(0x557702a40ff0)', 'decoding', 'foobar', 'fatal', 1, 'debug', undef) called at /opt/perl-5.32.1/lib/site_perl/5.32.1/Module/Generic.pm line 359
# 	Module::Generic::new('HTTP::Promise::Stream', 'HTTP::Promise::Body::Scalar=SCALAR(0x557702a40ff0)', 'decoding', 'foobar', 'fatal', 1, 'debug', undef) called at lib/HTTP/Promise/Entity.pm line 705
# 	HTTP::Promise::Entity::decode_body('HTTP::Promise::Entity=HASH(0x557702987268)', 'Module::Generic::Array=ARRAY(0x557702a4dfe8)', 'HASH(0x557702a4b1a8)') called at lib/HTTP/Promise/Message.pm line 517
# 	HTTP::Promise::Message::decode_content('HTTP::Promise::Message=HASH(0x5577027509d8)', 'HASH(0x557702a4b1a8)') called at lib/HTTP/Promise/Message.pm line 530
# 	HTTP::Promise::Message::decoded_content('HTTP::Promise::Message=HASH(0x5577027509d8)', 'raise_error', 1) called at t/04.message.t line 558
# 	eval {...} at t/04.message.t line 557
# '
HTTP::Promise::Message content must be bytes within package HTTP::Promise::Message at line 1071 in file lib/HTTP/Promise/Message.pm
Trace begun at lib/HTTP/Promise/Message.pm line 1071
	HTTP::Promise::Message::_utf8_downgrade('HTTP::Promise::Message=HASH(0x557702a4b430)', '☺') called at lib/HTTP/Promise/Message.pm line 114
	HTTP::Promise::Message::init('HTTP::Promise::Message=HASH(0x557702a4b430)', 'ARRAY(0x557702a47de0)', '☺', 'HASH(0x557702983f38)') called at /opt/perl-5.32.1/lib/site_perl/5.32.1/Module/Generic.pm line 359
	Module::Generic::new('HTTP::Promise::Message', 'ARRAY(0x557702a47de0)', '☺', 'HASH(0x557702983f38)') called at t/04.message.t line 565
HTTP::Promise::Message content must be bytes within package HTTP::Promise::Message at line 1071 in file lib/HTTP/Promise/Message.pm
Trace begun at lib/HTTP/Promise/Message.pm line 1071
	HTTP::Promise::Message::_utf8_downgrade('HTTP::Promise::Message=HASH(0x557702a46270)', '☺') called at lib/HTTP/Promise/Message.pm line 166
	HTTP::Promise::Message::add_content('HTTP::Promise::Message=HASH(0x557702a46270)', '☺') called at t/04.message.t line 569
HTTP::Promise::Message content must be bytes within package HTTP::Promise::Message at line 1071 in file lib/HTTP/Promise/Message.pm
Trace begun at lib/HTTP/Promise/Message.pm line 1071
	HTTP::Promise::Message::_utf8_downgrade('HTTP::Promise::Message=HASH(0x557702a46270)', '☺') called at lib/HTTP/Promise/Message.pm line 402
	HTTP::Promise::Message::content('HTTP::Promise::Message=HASH(0x557702a46270)', '☺') called at t/04.message.t line 572
Unable to decode 14 bytes of data into the stream with deflate and input 'SCALAR(0x557702aab4a0)' and output '/var/tmp/cpansmoker-1023/2025031003/B70A31C0-FD5D-11EF-9CED-EAD017057BDD': Header Error: CRC mismatch. within package HTTP::Promise::Stream at line 902 in file lib/HTTP/Promise/Stream.pm
Trace begun at lib/HTTP/Promise/Stream.pm line 902
	HTTP::Promise::Stream::read('HTTP::Promise::Stream=HASH(0x557702aa7420)', 'Module::Generic::Scalar=SCALAR(0x557702a92120)') called at lib/HTTP/Promise/Entity.pm line 709
	HTTP::Promise::Entity::decode_body('HTTP::Promise::Entity=HASH(0x557702a91fe8)', 'Module::Generic::Array=ARRAY(0x557702a80f38)', 'HASH(0x557702a6df00)') called at lib/HTTP/Promise/Message.pm line 517
	HTTP::Promise::Message::decode_content('HTTP::Promise::Message=HASH(0x557702a46570)', 'HASH(0x557702a6df00)') called at lib/HTTP/Promise/Message.pm line 530
	HTTP::Promise::Message::decoded_content('HTTP::Promise::Message=HASH(0x557702a46570)') called at t/04.message.t line 627
Encoding provided "not-an-encoding" is unsupported. within package HTTP::Promise::Stream at line 662 in file lib/HTTP/Promise/Stream.pm
Trace begun at lib/HTTP/Promise/Stream.pm line 662
	HTTP::Promise::Stream::init('HTTP::Promise::Stream=HASH(0x557702a80890)', 'HTTP::Promise::Body::Scalar=SCALAR(0x557702adabb8)', 'encoding', 'not-an-encoding') called at /opt/perl-5.32.1/lib/site_perl/5.32.1/Module/Generic.pm line 359
	Module::Generic::new('HTTP::Promise::Stream', 'HTTP::Promise::Body::Scalar=SCALAR(0x557702adabb8)', 'encoding', 'not-an-encoding') called at lib/HTTP/Promise/Entity.pm line 1056
	HTTP::Promise::Entity::encode_body('HTTP::Promise::Entity=HASH(0x557702a920c0)', 'Module::Generic::Array=ARRAY(0x5577027272f0)') called at lib/HTTP/Promise/Message.pm line 727
	HTTP::Promise::Message::encode(undef, 'not-an-encoding') called at t/04.message.t line 697
Bad header argument: bad-header within package HTTP::Promise::Message at line 81 in file lib/HTTP/Promise/Message.pm
Trace begun at lib/HTTP/Promise/Message.pm line 81
	HTTP::Promise::Message::init('HTTP::Promise::Message=HASH(0x557702aa6fe8)', 'bad-header') called at /opt/perl-5.32.1/lib/site_perl/5.32.1/Module/Generic.pm line 359
	Module::Generic::new('HTTP::Promise::Message', 'bad-header') called at t/04.message.t line 718
Decoding provided "foo" is unsupported. within package HTTP::Promise::Stream at line 666 in file lib/HTTP/Promise/Stream.pm
Trace begun at lib/HTTP/Promise/Stream.pm line 666
	HTTP::Promise::Stream::init('HTTP::Promise::Stream=HASH(0x557702a927f8)', 'HTTP::Promise::Body::Scalar=SCALAR(0x557702a4ae48)', 'decoding', 'foo', 'fatal', 0, 'debug', undef) called at /opt/perl-5.32.1/lib/site_perl/5.32.1/Module/Generic.pm line 359
	Module::Generic::new('HTTP::Promise::Stream', 'HTTP::Promise::Body::Scalar=SCALAR(0x557702a4ae48)', 'decoding', 'foo', 'fatal', 0, 'debug', undef) called at lib/HTTP/Promise/Entity.pm line 705
	HTTP::Promise::Entity::decode_body('HTTP::Promise::Entity=HASH(0x557702aefb60)', 'Module::Generic::Array=ARRAY(0x557702ab88d0)') called at lib/HTTP/Promise/Message.pm line 499
	HTTP::Promise::Message::decode('HTTP::Promise::Message=HASH(0x557702adabe8)') called at t/04.message.t line 723
I was expecting a string or a scalar reference, but instead got ARRAY within package HTTP::Promise::Message at line 399 in file lib/HTTP/Promise/Message.pm
Trace begun at lib/HTTP/Promise/Message.pm line 399
	HTTP::Promise::Message::content('HTTP::Promise::Message=HASH(0x557702a804b8)', 'ARRAY(0x557702a889b8)') called at t/04.message.t line 731
t/04.message.t ............. ok
URI value provided 'HASH(0x55727b2fb9d0)' does not look like an URI, so I do not know what to do with it: Cannot use a reference as an URI. Received 'HASH(0x55727b2fb9d0)' at /opt/perl-5.32.1/lib/site_perl/5.32.1/Module/Generic.pm line 5357. within package HTTP::Promise::Request at line 379 in file lib/HTTP/Promise/Request.pm
Trace begun at lib/HTTP/Promise/Request.pm line 379
	HTTP::Promise::Request::uri('HTTP::Promise::Request=HASH(0x55727a946598)', 'HASH(0x55727b2fb9d0)') called at t/05.request.t line 78
URI value provided 'ARRAY(0x557278a5d148)' does not look like an URI, so I do not know what to do with it: Cannot use a reference as an URI. Received 'ARRAY(0x557278a5d148)' at /opt/perl-5.32.1/lib/site_perl/5.32.1/Module/Generic.pm line 5357. within package HTTP::Promise::Request at line 379 in file lib/HTTP/Promise/Request.pm
Trace begun at lib/HTTP/Promise/Request.pm line 379
	HTTP::Promise::Request::uri('HTTP::Promise::Request=HASH(0x55727a946598)', 'ARRAY(0x557278a5d148)') called at t/05.request.t line 81
Unable to open file "/home/cpansand/.cpan/build/2025031003/HTTP-Promise-v0.5.3-1/unknown": Unable to open file "/home/cpansand/.cpan/build/2025031003/HTTP-Promise-v0.5.3-1/unknown" with arguments: '<': Bad file descriptor within package Module::Generic::File::IO at line 54 in file /opt/perl-5.32.1/lib/site_perl/5.32.1/Module/Generic/File/IO.pm
Trace begun at /opt/perl-5.32.1/lib/site_perl/5.32.1/Module/Generic/File/IO.pm line 54
	Module::Generic::File::IO::new('Module::Generic::File::IO', '/home/cpansand/.cpan/build/2025031003/HTTP-Promise-v0.5.3-1/unknown', '<') called at /opt/perl-5.32.1/lib/site_perl/5.32.1/Module/Generic/File.pm line 2513
	eval {...} at /opt/perl-5.32.1/lib/site_perl/5.32.1/Module/Generic/File.pm line 2512
	Module::Generic::File::open('Module::Generic::File=HASH(0x55727b2fbe50)', '<') called at lib/HTTP/Promise/Parser.pm line 221
	HTTP::Promise::Parser::parse('HTTP::Promise::Parser=HASH(0x55727b331200)', 'unknown', 'HASH(0x557278a40788)') called at lib/HTTP/Promise/Request.pm line 333
	HTTP::Promise::Request::parse('HTTP::Promise::Request', 'unknown') called at t/05.request.t line 117 within package Module::Generic::File at line 2519 in file /opt/perl-5.32.1/lib/site_perl/5.32.1/Module/Generic/File.pm
Trace begun at /opt/perl-5.32.1/lib/site_perl/5.32.1/Module/Generic/File.pm line 2519
	Module::Generic::File::open('Module::Generic::File=HASH(0x55727b2fbe50)', '<') called at lib/HTTP/Promise/Parser.pm line 221
	HTTP::Promise::Parser::parse('HTTP::Promise::Parser=HASH(0x55727b331200)', 'unknown', 'HASH(0x557278a40788)') called at lib/HTTP/Promise/Request.pm line 333
	HTTP::Promise::Request::parse('HTTP::Promise::Request', 'unknown') called at t/05.request.t line 117
Invalid parameters received. I was expecting either an hash reference or at least a method and a valid uri, but instead got: 'get', '/', 'HTTP::Promise::Headers=HASH(0x55727b342848)', 'HASH(0x55727b3599e8)' within package HTTP::Promise::Request at line 91 in file lib/HTTP/Promise/Request.pm
Trace begun at lib/HTTP/Promise/Request.pm line 91
	HTTP::Promise::Request::init('HTTP::Promise::Request=HASH(0x55727b35f2c8)', 'get', 'URI::_generic=SCALAR(0x55727a5fb080)', 'HTTP::Promise::Headers=HASH(0x55727b342848)', 'HASH(0x55727b3599e8)') called at /opt/perl-5.32.1/lib/site_perl/5.32.1/Module/Generic.pm line 359
	Module::Generic::new('HTTP::Promise::Request', 'get', 'URI::_generic=SCALAR(0x55727a5fb080)', 'HTTP::Promise::Headers=HASH(0x55727b342848)', 'HASH(0x55727b3599e8)') called at lib/HTTP/Promise/Parser.pm line 344
	HTTP::Promise::Parser::parse_fh('HTTP::Promise::Parser=HASH(0x55727b32d4c8)', 'Module::Generic::Scalar::IO=GLOB(0x55727b30af30)', 'HASH(0x55727a5fb3c8)') called at lib/HTTP/Promise/Parser.pm line 223
	HTTP::Promise::Parser::parse('HTTP::Promise::Parser=HASH(0x55727b32d4c8)', 'SCALAR(0x55727b342f80)', 'HASH(0x55727a5fb3c8)') called at lib/HTTP/Promise/Request.pm line 333
	HTTP::Promise::Request::parse('HTTP::Promise::Request', 'SCALAR(0x55727b342f80)', 'debug', 0) called at t/05.request.t line 119
t/05.request.t ............. ok
Only supported charset is 'utf-8'. within package HTTP::Promise::Headers::ContentDisposition at line 132 in file lib/HTTP/Promise/Headers/ContentDisposition.pm
Trace begun at lib/HTTP/Promise/Headers/ContentDisposition.pm line 132
	HTTP::Promise::Headers::ContentDisposition::filename_charset('HTTP::Promise::Headers::ContentDisposition=HASH(0x55d608c0fcd8)', 'US-ASCII') called at lib/HTTP/Promise/Headers/ContentDisposition.pm line 108
	HTTP::Promise::Headers::ContentDisposition::filename('HTTP::Promise::Headers::ContentDisposition=HASH(0x55d608c0fcd8)') called at lib/HTTP/Promise/Response.pm line 179
	HTTP::Promise::Response::filename('HTTP::Promise::Response=HASH(0x55d608b4d9b8)') called at t/06.response.t line 230
Error encoding content disposition file name from 'NOT-A-CHARSET' to 'locale_fs': Unknown encoding 'NOT-A-CHARSET' at lib/HTTP/Promise/Headers.pm line 515.
 at lib/HTTP/Promise/Headers/Generic.pm line 56.
Only supported charset is 'utf-8'. within package HTTP::Promise::Headers::ContentDisposition at line 132 in file lib/HTTP/Promise/Headers/ContentDisposition.pm
Trace begun at lib/HTTP/Promise/Headers/ContentDisposition.pm line 132
	HTTP::Promise::Headers::ContentDisposition::filename_charset('HTTP::Promise::Headers::ContentDisposition=HASH(0x55d608b99f08)', 'NOT-A-CHARSET') called at lib/HTTP/Promise/Headers/ContentDisposition.pm line 108
	HTTP::Promise::Headers::ContentDisposition::filename('HTTP::Promise::Headers::ContentDisposition=HASH(0x55d608b99f08)') called at lib/HTTP/Promise/Response.pm line 179
	HTTP::Promise::Response::filename('HTTP::Promise::Response=HASH(0x55d608b4d9b8)') called at t/06.response.t line 232
Only supported charset is 'utf-8'. within package HTTP::Promise::Headers::ContentDisposition at line 132 in file lib/HTTP/Promise/Headers/ContentDisposition.pm
Trace begun at lib/HTTP/Promise/Headers/ContentDisposition.pm line 132
	HTTP::Promise::Headers::ContentDisposition::filename_charset('HTTP::Promise::Headers::ContentDisposition=HASH(0x55d608b99ab8)', 'US-ASCII') called at lib/HTTP/Promise/Headers/ContentDisposition.pm line 108
	HTTP::Promise::Headers::ContentDisposition::filename('HTTP::Promise::Headers::ContentDisposition=HASH(0x55d608b99ab8)') called at lib/HTTP/Promise/Response.pm line 179
	HTTP::Promise::Response::filename('HTTP::Promise::Response=HASH(0x55d608b4d9b8)') called at t/06.response.t line 234
Only supported charset is 'utf-8'. within package HTTP::Promise::Headers::ContentDisposition at line 132 in file lib/HTTP/Promise/Headers/ContentDisposition.pm
Trace begun at lib/HTTP/Promise/Headers/ContentDisposition.pm line 132
	HTTP::Promise::Headers::ContentDisposition::filename_charset('HTTP::Promise::Headers::ContentDisposition=HASH(0x55d608a55620)', 'US-ASCII') called at lib/HTTP/Promise/Headers/ContentDisposition.pm line 108
	HTTP::Promise::Headers::ContentDisposition::filename('HTTP::Promise::Headers::ContentDisposition=HASH(0x55d608a55620)') called at lib/HTTP/Promise/Response.pm line 179
	HTTP::Promise::Response::filename('HTTP::Promise::Response=HASH(0x55d608b4d9b8)') called at t/06.response.t line 236
t/06.response.t ............ ok
Unknown encoding provided "unknown". within package HTTP::Promise::Stream at line 835 in file lib/HTTP/Promise/Stream.pm
Trace begun at lib/HTTP/Promise/Stream.pm line 835
	HTTP::Promise::Stream::encoding2suffix('HTTP::Promise::Stream=HASH(0x561ba2c1ffa0)', 'Module::Generic::Array=ARRAY(0x561ba2ee3750)') called at t/07.stream-suffix.t line 71
	main::__ANON__ at /opt/perl-5.32.1/lib/site_perl/5.32.1/Test2/API.pm line 718
	eval {...} at /opt/perl-5.32.1/lib/site_perl/5.32.1/Test2/API.pm line 718
	Test2::API::run_subtest('suffix', 'CODE(0x561ba182f180)', 'HASH(0x561ba180d5e8)') called at /opt/perl-5.32.1/lib/site_perl/5.32.1/Test2/Tools/Subtest.pm line 34
	Test2::Tools::Subtest::subtest_buffered('suffix', 'CODE(0x561ba182f180)') called at t/07.stream-suffix.t line 81
t/07.stream-suffix.t ....... ok
t/07.stream.t .............. ok
t/07.stream_b64.t .......... ok
t/07.stream_quotedprint.t .. ok
t/07.stream_uu.t ........... ok
t/08.status.t .............. ok
t/09.mime.t ................ ok
t/10.entity_body.t ......... ok
t/11.entity_part.t ......... ok
t/12.entity_parser.t ....... ok
t/12.parser.t .............. ok
t/13.header_fields.t ....... ok
t/14.reader.t .............. ok
t/15.body_form.t ........... ok
t/16.form-data.t ........... ok
t/17.serialisation.t ....... ok
t/90.coverage.t ............ skipped: These tests are for author or release candidate testing
t/91.pod.t ................. skipped: These tests are for author or release candidate testing
t/92.manifest.t ............ skipped: Author tests not required for installation
t/93.signature.t ........... skipped: Set the environment variable AUTHOR_TESTING to enable this test.
t/99.kwalitee.t ............ skipped: These tests are for author or release candidate testing
All tests successful.
Files=27, Tests=1019, 46 wallclock secs ( 0.35 usr  0.09 sys + 42.60 cusr  3.36 csys = 46.40 CPU)
Result: PASS

------------------------------
PREREQUISITES
------------------------------

Prerequisite modules loaded:

requires:

    Module                     Need       Have      
    -------------------------- ---------- ----------
    constant                   0          1.33      
    Cookie                     v0.3.5     v0.3.5    
    CryptX                     0.078      0.082     
    Cwd                        0          3.78      
    Data::UUID                 1.226      1.227     
    DateTime                   1.59       1.65      
    DateTime::Format::Strptime 1.79       1.79      
    DateTime::TimeZone         2.60       2.63      
    Encode                     3.19       3.21      
    Errno                      0          1.30      
    Fcntl                      0          1.13      
    File::MMagic               1.30       1.30      
    HTTP::Parser2::XS          0.01       0.01      
    HTTP::XSHeaders            0.400005   0.400005  
    IO::File                   0          1.55      
    JSON                       4.10       4.10      
    JSON::XS                   4.03       4.03      
    Module::Generic            v0.37.5    v0.37.6   
    parent                     0          0.238     
    perl                       5.026001   5.032001  
    Promise::Me                v0.5.0     v0.5.0    
    Regexp::Common             2017060201 2024080801
    Scalar::Util               1.63       1.68      
    Socket                     2.037      2.038     
    strict                     0          1.11      
    Symbol                     0          1.08      
    Time::HiRes                1.9764     1.9764    
    URI                        5.21       5.30      
    URI::Encode::XS            0.11       0.11      
    URI::Escape::XS            0.14       0.14      
    URL::Encode::XS            0.03       0.03      
    Want                       0.29       0.29      
    warnings                   0          1.47      

build_requires:

    Module                     Need       Have      
    -------------------------- ---------- ----------
    ExtUtils::MakeMaker        0          7.70      
    lib                        0          0.65      
    Test2::IPC                 1.302190   1.302207  
    Test2::V0                  0.000145   1.302207  
    Test::More                 1.302162   1.302207  
    Test::Pod                  1.52       1.52      
    utf8                       0          1.22      

configure_requires:

    Module                     Need       Have      
    -------------------------- ---------- ----------
    ExtUtils::MakeMaker        0          7.70      


------------------------------
ENVIRONMENT AND OTHER CONTEXT
------------------------------

Environment variables:

    LANG = C
    PATH = /usr/local/bin:/usr/bin:/bin:/usr/local/sbin:/usr/sbin:/sbin:/home/cpansand/bin/linux-gnu:/home/cpansand/bin/sh:/home/cpansand/bin:/usr/games:/home/cpansand/devel:/home/eserte/src/srezic-misc/scripts
    PERL5LIB = 
    PERL5OPT = 
    PERL5_CPANPLUS_IS_RUNNING = 3502954
    PERL5_CPAN_IS_RUNNING = 3502954
    PERL5_CPAN_IS_RUNNING_IN_RECURSION = 3502724,3502954
    PERLDOC = -MPod::Perldoc::ToTextOverstrike
    PERL_BATCH = yes
    PERL_CANARY_STABILITY_NOPROMPT = 1
    PERL_CPAN_REPORTER_CONFIG = /var/tmp/cpansmoker-1023/2025031003/cpanreporter_000_config.ini
    PERL_EXTUTILS_AUTOINSTALL = --defaultdeps
    PERL_USE_UNSAFE_INC = 1
    SHELL = /usr/bin/zsh
    TERM = screen
    TMPDIR = /var/tmp/cpansmoker-1023/2025031003

Perl special variables (and OS-specific diagnostics, for MSWin32):

    $^X = /opt/perl-5.32.1/bin/perl
    $UID/$EUID = 1023 / 1023
    $GID = 1023 1023
    $EGID = 1023 1023

Perl module toolchain versions installed:

    Module              Have    
    ------------------- --------
    CPAN                2.27    
    CPAN::Meta          2.150010
    Cwd                 3.78    
    ExtUtils::CBuilder  0.280236
    ExtUtils::Command   7.70    
    ExtUtils::Install   2.22    
    ExtUtils::MakeMaker 7.70    
    ExtUtils::Manifest  1.72    
    ExtUtils::ParseXS   3.40    
    File::Spec          3.78    
    JSON                4.10    
    JSON::PP            4.16    
    Module::Build       0.4234  
    Module::Signature   n/a     
    Parse::CPAN::Meta   2.150010
    Test2               1.302207
    Test::Harness       3.50    
    Test::More          1.302207
    YAML                1.31    
    YAML::Syck          1.34    
    version             0.9924  


--

Summary of my perl5 (revision 5 version 32 subversion 1) configuration:
   
  Platform:
    osname=linux
    osvers=6.1.0-26-amd64
    archname=x86_64-linux
    uname='linux cloud5.bbbike.org 6.1.0-26-amd64 #1 smp preempt_dynamic debian 6.1.112-1 (2024-09-30) x86_64 gnulinux '
    config_args='-ds -e -Dprefix=/opt/perl-5.32.1 -Uinstallusrbinperl -Dcf_email=srezic@cpan.org'
    hint=recommended
    useposix=true
    d_sigaction=define
    useithreads=undef
    usemultiplicity=undef
    use64bitint=define
    use64bitall=define
    uselongdouble=undef
    usemymalloc=n
    default_inc_excludes_dot=define
    bincompat5005=undef
  Compiler:
    cc='cc'
    ccflags ='-fwrapv -fno-strict-aliasing -pipe -fstack-protector-strong -I/usr/local/include -D_LARGEFILE_SOURCE -D_FILE_OFFSET_BITS=64 -D_FORTIFY_SOURCE=2'
    optimize='-O2'
    cppflags='-fwrapv -fno-strict-aliasing -pipe -fstack-protector-strong -I/usr/local/include'
    ccversion=''
    gccversion='12.2.0'
    gccosandvers=''
    intsize=4
    longsize=8
    ptrsize=8
    doublesize=8
    byteorder=12345678
    doublekind=3
    d_longlong=define
    longlongsize=8
    d_longdbl=define
    longdblsize=16
    longdblkind=3
    ivtype='long'
    ivsize=8
    nvtype='double'
    nvsize=8
    Off_t='off_t'
    lseeksize=8
    alignbytes=8
    prototype=define
  Linker and Libraries:
    ld='cc'
    ldflags =' -fstack-protector-strong -L/usr/local/lib'
    libpth=/usr/local/lib /usr/include/x86_64-linux-gnu /usr/lib /lib/x86_64-linux-gnu /lib/../lib /usr/lib/x86_64-linux-gnu /usr/lib/../lib /lib /lib64 /usr/lib64
    libs=-lpthread -lnsl -lgdbm -ldb -ldl -lm -lcrypt -lutil -lc
    perllibs=-lpthread -lnsl -ldl -lm -lcrypt -lutil -lc
    libc=/lib/x86_64-linux-gnu/libc.so.6
    so=so
    useshrplib=false
    libperl=libperl.a
    gnulibc_version='2.36'
  Dynamic Linking:
    dlsrc=dl_dlopen.xs
    dlext=so
    d_dlsymun=undef
    ccdlflags='-Wl,-E'
    cccdlflags='-fPIC'
    lddlflags='-shared -O2 -L/usr/local/lib -fstack-protector-strong'


Characteristics of this binary (from libperl): 
  Compile-time options:
    HAS_TIMES
    PERLIO_LAYERS
    PERL_COPY_ON_WRITE
    PERL_DONT_CREATE_GVSV
    PERL_MALLOC_WRAP
    PERL_OP_PARENT
    PERL_PRESERVE_IVUV
    USE_64_BIT_ALL
    USE_64_BIT_INT
    USE_LARGE_FILES
    USE_LOCALE
    USE_LOCALE_COLLATE
    USE_LOCALE_CTYPE
    USE_LOCALE_NUMERIC
    USE_LOCALE_TIME
    USE_PERLIO
    USE_PERL_ATOF
  Built under linux
  Compiled at Oct 15 2024 05:31:13
  %ENV:
    PERL5LIB=""
    PERL5OPT=""
    PERL5_CPANPLUS_IS_RUNNING="3502954"
    PERL5_CPAN_IS_RUNNING="3502954"
    PERL5_CPAN_IS_RUNNING_IN_RECURSION="3502724,3502954"
    PERLDOC="-MPod::Perldoc::ToTextOverstrike"
    PERL_BATCH="yes"
    PERL_CANARY_STABILITY_NOPROMPT="1"
    PERL_CPAN_REPORTER_CONFIG="/var/tmp/cpansmoker-1023/2025031003/cpanreporter_000_config.ini"
    PERL_EXTUTILS_AUTOINSTALL="--defaultdeps"
    PERL_USE_UNSAFE_INC="1"
  @INC:
    /opt/perl-5.32.1/lib/site_perl/5.32.1/x86_64-linux
    /opt/perl-5.32.1/lib/site_perl/5.32.1
    /opt/perl-5.32.1/lib/5.32.1/x86_64-linux
    /opt/perl-5.32.1/lib/5.32.1
    .