Report for Catalyst-Authentication-Credential-RemoteHTTP-0.05

Back
From: metabase:user:320bfe00-2aae-11df-837a-5e0a49663a4f
Subject: PASS Catalyst-Authentication-Credential-RemoteHTTP-0.05 v5.22.4 GNU/Linux
Date: 2017-08-01T14:17:26Z

This distribution has been tested as part of the CPAN Testers
project, supporting the Perl programming language.  See
http://wiki.cpantesters.org/ for more information or email
questions to cpan-testers-discuss@perl.org


--
Dear Nigel Metheringham,

This is a computer-generated report for Catalyst-Authentication-Credential-RemoteHTTP-0.05
on perl 5.22.4, created by CPAN-Reporter-1.2018.

Thank you for uploading your work to CPAN.  Congratulations!
All tests were successful.

Sections of this report:

    * Tester comments
    * Program output
    * Prerequisites
    * Environment and other context

------------------------------
TESTER COMMENTS
------------------------------

Additional comments from tester:

this report is from an automated smoke testing program
and was not reviewed by a human for accuracy

------------------------------
PROGRAM OUTPUT
------------------------------

Output from './Build test':

t/00-compile.t ............... ok
# Testing Catalyst::Authentication::Credential::RemoteHTTP 0.05, Perl 5.022004, /tmp/basesmoker-reloperl-lBKe/bin/perl
t/00-load.t .................. ok
# Testing with Perl 5.022004, /tmp/basesmoker-reloperl-lBKe/bin/perl
#     Carp version is 1.38
#     Catalyst version is 5.90115
#     Catalyst::Authentication::Store::Minimal version is undefined
#     Catalyst::Controller version is undefined
#     Catalyst::Exception version is undefined
#     Catalyst::Test version is undefined
#     English version is 1.09
#     File::Find version is 1.29
#     File::Temp version is 0.2304
#     HTTP::Server::Simple version is 0.52
#     HTTP::Server::Simple::CGI version is undefined
#     IO::Socket::INET version is 1.35
#     LWP::UserAgent version is 6.26
#     MIME::Base64 version is 3.15
#     Module::Build version is 0.4224
#     Moose version is 2.2006
#     MooseX::Types::Moose version is 0.50
#     Scalar::Util version is 1.48
#     Test::Exception version is 0.43
#     Test::More version is 1.302086
#     base version is 2.2201
#     namespace::autoclean version is 0.28
#     strict version is 1.09
#     warnings version is 1.34
t/000-report-versions.t ...... ok
t/author-critic.t ............ skipped: these tests are for testing by the author
t/author-pod-spell.t ......... skipped: these tests are for testing by the author
t/live.t ..................... ok
t/release-dist-manifest.t .... skipped: these tests are for release candidate testing
t/release-distmeta.t ......... skipped: these tests are for release candidate testing
t/release-eol.t .............. skipped: these tests are for release candidate testing
t/release-has-version.t ...... skipped: these tests are for release candidate testing
t/release-kwalitee.t ......... skipped: these tests are for release candidate testing
t/release-minimum-version.t .. skipped: these tests are for release candidate testing
t/release-no-tabs.t .......... skipped: these tests are for release candidate testing
t/release-pod-coverage.t ..... skipped: these tests are for release candidate testing
t/release-pod-syntax.t ....... skipped: these tests are for release candidate testing
t/release-portability.t ...... skipped: these tests are for release candidate testing
t/release-synopsis.t ......... skipped: these tests are for release candidate testing
t/release-unused-vars.t ...... skipped: these tests are for release candidate testing
All tests successful.
Files=18, Tests=43,  3 wallclock secs ( 0.05 usr  0.10 sys +  2.23 cusr  0.32 csys =  2.70 CPU)
Result: PASS

------------------------------
PREREQUISITES
------------------------------

Prerequisite modules loaded:

requires:

    Module                                   Need     Have    
    ---------------------------------------- -------- --------
    base                                     0        2.22_01 
    Catalyst::Exception                      0        0       
    LWP::UserAgent                           0        6.26    
    Moose                                    0        2.2006  
    MooseX::Types::Moose                     0        0.50    
    namespace::autoclean                     0        0.28    
    perl                                     5.008005 5.022004
    strict                                   0        1.09    
    warnings                                 0        1.34    

build_requires:

    Module                                   Need     Have    
    ---------------------------------------- -------- --------
    Carp                                     0        1.38    
    Catalyst                                 0        5.90115 
    Catalyst::Authentication::Store::Minimal 0        0       
    Catalyst::Controller                     0        0       
    Catalyst::Test                           0        0       
    English                                  0        1.09    
    File::Find                               0        1.29    
    File::Temp                               0        0.2304  
    HTTP::Server::Simple                     0        0.52    
    HTTP::Server::Simple::CGI                0        0       
    IO::Socket::INET                         0        1.35    
    MIME::Base64                             0        3.15    
    Module::Build                            0.3601   0.4224  
    Scalar::Util                             0        1.48    
    Test::Exception                          0        0.43    
    Test::More                               0.94     1.302086

configure_requires:

    Module                                   Need     Have    
    ---------------------------------------- -------- --------
    Module::Build                            0.3601   0.4224  


------------------------------
ENVIRONMENT AND OTHER CONTEXT
------------------------------

Environment variables:

    AUTOMATED_TESTING = 1
    LANG = en_US.UTF-8
    PATH = /home/sand/bin:/usr/local/bin:/usr/bin:/bin:/usr/games:/usr/local/perl/bin:/usr/X11/bin:/sbin:/usr/sbin
    PERL5LIB = 
    PERL5OPT = 
    PERL5_CPANPLUS_IS_RUNNING = 514
    PERL5_CPAN_IS_RUNNING = 514
    PERL_CANARY_STABILITY_NOPROMPT = 1
    PERL_MM_USE_DEFAULT = 1
    PERL_USE_UNSAFE_INC = 1
    SHELL = /usr/bin/zsh
    TERM = screen

Perl special variables (and OS-specific diagnostics, for MSWin32):

    $^X = /tmp/basesmoker-reloperl-lBKe/bin/perl
    $UID/$EUID = 1005 / 1005
    $GID = 1005 1005
    $EGID = 1005 1005

Perl module toolchain versions installed:

    Module              Have      
    ------------------- ----------
    CPAN                2.18      
    CPAN::Meta          2.150010  
    Cwd                 3.62      
    ExtUtils::CBuilder  0.280226  
    ExtUtils::Command   7.30      
    ExtUtils::Install   2.06      
    ExtUtils::MakeMaker 7.30      
    ExtUtils::Manifest  1.70      
    ExtUtils::ParseXS   3.28      
    File::Spec          3.62      
    JSON                2.94      
    JSON::PP            2.27300_01
    Module::Build       0.4224    
    Module::Signature   0.81      
    Parse::CPAN::Meta   2.150010  
    Test::Harness       3.39      
    Test::More          1.302086  
    YAML                1.23      
    YAML::Syck          1.30      
    version             0.9909    


--

Summary of my perl5 (revision 5 version 22 subversion 4) configuration:
  Commit id: a26666a1317770d8a2228ac3657ba58020c3511f
  Platform:
    osname=linux, osvers=4.11.0-2-amd64, archname=x86_64-linux
    uname='linux k93x64sid 4.11.0-2-amd64 #1 smp debian 4.11.11-1 (2017-07-22) x86_64 gnulinux '
    config_args='-Dprefix=/home/sand/src/perl/repoperls/installed-perls/host/k93x64sid/v5.22.4/f878 -Dmyhostname=k93x64sid -Dinstallusrbinperl=n -Uversiononly -Dusedevel -des -Ui_db -Dlibswanted=cl pthread socket inet nsl gdbm dbm malloc dl ld sun m crypt sec util c cposix posix ucb BSD gdbm_compat -Uuseithreads -Uuselongdouble'
    hint=recommended, useposix=true, d_sigaction=define
    useithreads=undef, usemultiplicity=undef
    use64bitint=define, use64bitall=define, uselongdouble=undef
    usemymalloc=n, bincompat5005=undef
  Compiler:
    cc='cc', ccflags ='-fwrapv -fno-strict-aliasing -pipe -fstack-protector-strong -I/usr/local/include -D_LARGEFILE_SOURCE -D_FILE_OFFSET_BITS=64',
    optimize='-O2',
    cppflags='-fwrapv -fno-strict-aliasing -pipe -fstack-protector-strong -I/usr/local/include'
    ccversion='', gccversion='6.4.0 20170724', gccosandvers=''
    intsize=4, longsize=8, ptrsize=8, doublesize=8, byteorder=12345678, doublekind=3
    d_longlong=define, longlongsize=8, d_longdbl=define, longdblsize=16, longdblkind=3
    ivtype='long', ivsize=8, nvtype='double', nvsize=8, Off_t='off_t', lseeksize=8
    alignbytes=8, prototype=define
  Linker and Libraries:
    ld='cc', ldflags =' -fstack-protector-strong -L/usr/local/lib'
    libpth=/usr/local/lib /usr/lib/gcc/x86_64-linux-gnu/6/include-fixed /usr/include/x86_64-linux-gnu /usr/lib /lib/x86_64-linux-gnu /lib/../lib /usr/lib/x86_64-linux-gnu /usr/lib/../lib /lib
    libs=-lpthread -lnsl -ldl -lm -lcrypt -lutil -lc
    perllibs=-lpthread -lnsl -ldl -lm -lcrypt -lutil -lc
    libc=libc-2.24.so, so=so, useshrplib=false, libperl=libperl.a
    gnulibc_version='2.24'
  Dynamic Linking:
    dlsrc=dl_dlopen.xs, dlext=so, d_dlsymun=undef, ccdlflags='-Wl,-E'
    cccdlflags='-fPIC', lddlflags='-shared -O2 -L/usr/local/lib -fstack-protector-strong'


Characteristics of this binary (from libperl): 
  Compile-time options: HAS_TIMES PERLIO_LAYERS PERL_DONT_CREATE_GVSV
                        PERL_HASH_FUNC_ONE_AT_A_TIME_HARD PERL_MALLOC_WRAP
                        PERL_NEW_COPY_ON_WRITE PERL_PRESERVE_IVUV
                        PERL_USE_DEVEL USE_64_BIT_ALL USE_64_BIT_INT
                        USE_LARGE_FILES USE_LOCALE USE_LOCALE_COLLATE
                        USE_LOCALE_CTYPE USE_LOCALE_NUMERIC USE_LOCALE_TIME
                        USE_PERLIO USE_PERL_ATOF
  Built under linux
  Compiled at Aug  1 2017 05:41:28
  %ENV:
    PERL5LIB=""
    PERL5OPT=""
    PERL5_CPANPLUS_IS_RUNNING="514"
    PERL5_CPAN_IS_RUNNING="514"
    PERL_CANARY_STABILITY_NOPROMPT="1"
    PERL_MM_USE_DEFAULT="1"
    PERL_USE_UNSAFE_INC="1"
  @INC:
    /home/sand/src/perl/repoperls/installed-perls/host/k93x64sid/v5.22.4/f878/lib/site_perl/5.22.4/x86_64-linux
    /home/sand/src/perl/repoperls/installed-perls/host/k93x64sid/v5.22.4/f878/lib/site_perl/5.22.4
    /home/sand/src/perl/repoperls/installed-perls/host/k93x64sid/v5.22.4/f878/lib/5.22.4/x86_64-linux
    /home/sand/src/perl/repoperls/installed-perls/host/k93x64sid/v5.22.4/f878/lib/5.22.4
    .