Devel-REPL v1.003029 Perl 5 v5.28.2 MSWin32-x86-multi-thread-64int

Status
Pass
From
aero
Dist
Devel-REPL v1.003029
Platform
Perl 5 v5.28.2 MSWin32-x86-multi-thread-64int
Date
2022-05-28 13:03:44
ID
254f854a-6cfd-1014-8029-3d9d7826cbcb
This distribution has been tested as part of the CPAN Testers
project, supporting the Perl programming language.  See
http://wiki.cpantesters.org/ for more information or email
questions to cpan-testers-discuss@perl.org


--
Dear Karen Etheridge,

This is a computer-generated report for Devel-REPL-1.003029
on perl 5.28.2, created by CPAN-Reporter-1.2018.

Thank you for uploading your work to CPAN.  Congratulations!
All tests were successful.

Sections of this report:

    * Tester comments
    * Program output
    * Prerequisites
    * Environment and other context

------------------------------
TESTER COMMENTS
------------------------------

Additional comments from tester:

none provided

------------------------------
PROGRAM OUTPUT
------------------------------

Output from 'C:\strawberry-perl-5.28-32bit\c\bin\gmake.exe test':

"C:\strawberry-perl-5.28-32bit\perl\bin\perl.exe" "-MExtUtils::Command::MM" "-MTest::Harness" "-e" "undef *Test::Harness::Switches; test_harness(0, 'blib\lib', 'blib\arch')" t/*.t
# 
# Versions for all modules listed in MYMETA.json (including optional ones):
# 
# === Configure Requires ===
# 
#     Module                       Want     Have
#     ------------------------ -------- --------
#     CPAN::Meta::Requirements 2.120620    2.140
#     ExtUtils::MakeMaker           any     7.64
#     Module::Metadata              any 1.000037
# 
# === Build Requires ===
# 
#     Module              Want Have
#     ------------------- ---- ----
#     ExtUtils::MakeMaker  any 7.64
# 
# === Test Requires ===
# 
#     Module              Want     Have
#     ------------------- ---- --------
#     ExtUtils::MakeMaker  any     7.64
#     File::Spec           any     3.75
#     Test::Fatal          any    0.016
#     Test::More          0.88 1.302190
#     if                   any   0.0608
# 
# === Test Recommends ===
# 
#     Module         Want     Have
#     ---------- -------- --------
#     CPAN::Meta 2.120900 2.150010
# 
# === Runtime Requires ===
# 
#     Module                      Want   Have
#     ------------------------- ------ ------
#     App::Nopaste                 any  1.013
#     B::Concise                  0.62  1.003
#     B::Keywords                  any   1.24
#     Data::Dump::Streamer        2.39   2.40
#     Data::Dumper::Concise        any  2.023
#     Devel::Peek                  any   1.27
#     File::Next                   any   1.18
#     File::Spec                   any   3.75
#     Lexical::Persistence         any  1.020
#     Module::Runtime              any  0.016
#     Moose                       0.93 2.2201
#     Moose::Meta::Role            any 2.2201
#     Moose::Role                  any 2.2201
#     MooseX::Getopt              0.18   0.75
#     MooseX::Object::Pluggable 0.0009 0.0014
#     PPI                          any  1.274
#     Scalar::Util                 any   1.62
#     Task::Weaken                 any   1.06
#     Term::ANSIColor              any   5.01
#     Term::ReadLine               any   1.17
#     Time::HiRes                  any 1.9764
#     namespace::autoclean         any   0.29
#     strict                       any   1.11
#     warnings                     any   1.42
# 
# === Runtime Recommends ===
# 
#     Module                 Want    Have
#     --------------------- ----- -------
#     App::Nopaste            any   1.013
#     B::Keywords             any    1.24
#     Data::Dump::Streamer   2.39    2.40
#     Data::Dumper::Concise   any   2.023
#     File::Next              any    1.18
#     Lexical::Persistence    any   1.020
#     Module::Refresh         any missing
#     PPI                     any   1.274
#     PPI::XS               0.902 missing
#     Sys::SigAction          any missing
# 
# === Other Modules ===
# 
#     Module            Have
#     --------------- ------
#     Encode            3.17
#     File::Temp      0.2311
#     JSON::PP          4.09
#     Module::Runtime  0.016
#     Sub::Name         0.26
#     YAML              1.30
#     autodie           2.34
# 
t/00-report-prereqs.t .. ok
t/load_core.t .......... ok
t/load_plugins.t ....... ok
All tests successful.
Files=3, Tests=61, 18 wallclock secs ( 0.27 usr +  0.03 sys =  0.30 CPU)
Result: PASS

------------------------------
PREREQUISITES
------------------------------

Prerequisite modules loaded:

requires:

    Module                    Need     Have    
    ------------------------- -------- --------
    App::Nopaste              0        1.013   
    B::Concise                0.62     1.003   
    B::Keywords               0        1.24    
    Data::Dump::Streamer      2.39     2.40    
    Data::Dumper::Concise     0        2.023   
    Devel::Peek               0        1.27    
    File::Next                0        1.18    
    File::Spec                0        3.75    
    Lexical::Persistence      0        1.020   
    Module::Runtime           0        0.016   
    Moose                     0.93     2.2201  
    Moose::Meta::Role         0        2.2201  
    Moose::Role               0        2.2201  
    MooseX::Getopt            0.18     0.75    
    MooseX::Object::Pluggable 0.0009   0.0014  
    namespace::autoclean      0        0.29    
    perl                      5.008001 5.028002
    PPI                       0        1.274   
    Scalar::Util              0        1.62    
    strict                    0        1.11    
    Task::Weaken              0        1.06    
    Term::ANSIColor           0        5.01    
    Term::ReadLine            0        1.17    
    Time::HiRes               0        1.9764  
    warnings                  0        1.42    

build_requires:

    Module                    Need     Have    
    ------------------------- -------- --------
    ExtUtils::MakeMaker       0        7.64    
    File::Spec                0        3.75    
    if                        0        0.0608  
    Test::Fatal               0        0.016   
    Test::More                0.88     1.302190

configure_requires:

    Module                    Need     Have    
    ------------------------- -------- --------
    CPAN::Meta::Requirements  2.120620 2.140   
    ExtUtils::MakeMaker       0        7.64    
    Module::Metadata          0        1.000037
    perl                      5.008001 5.028002

opt_requires:

    Module                    Need     Have    
    ------------------------- -------- --------
    App::Nopaste              0        1.013   
    B::Keywords               0        1.24    
    Data::Dump::Streamer      2.39     2.40    
    Data::Dumper::Concise     0        2.023   
    File::Next                0        1.18    
    Lexical::Persistence      0        1.020   
  ! Module::Refresh           0        n/a     
    PPI                       0        1.274   
  ! PPI::XS                   0.902    n/a     
  ! Sys::SigAction            0        n/a     

opt_build_requires:

    Module                    Need     Have    
    ------------------------- -------- --------
    CPAN::Meta                2.120900 2.150010


------------------------------
ENVIRONMENT AND OTHER CONTEXT
------------------------------

Environment variables:

    COMSPEC = C:\WINDOWS\system32\cmd.exe
    NONINTERACTIVE_TESTING = 1
    NUMBER_OF_PROCESSORS = 4
    PATH = C:\strawberry-perl-5.28-32bit\perl\site\bin;C:\strawberry-perl-5.28-32bit\perl\bin;C:\strawberry-perl-5.28-32bit\c\bin;C:\Program Files (x86)\Common Files\Oracle\Java\javapath;C:\ProgramData\Oracle\Java\javapath;C:\Program Files (x86)\Wizvera\Delfino;C:\WINDOWS\SYSTEM32;C:\WINDOWS;C:\WINDOWS\SYSTEM32\WBEM;C:\WINDOWS\SYSTEM32\WINDOWSPOWERSHELL\V1.0\;C:\PROGRAM FILES\THINKPAD\BLUETOOTH SOFTWARE\;C:\PROGRAM FILES\THINKPAD\BLUETOOTH SOFTWARE\SYSWOW64;C:\Program Files (x86)\Intel\OpenCL SDK\2.0\bin\x86;C:\Program Files (x86)\Intel\OpenCL SDK\2.0\bin\x64;C:\WINDOWS\system32;C:\WINDOWS;C:\WINDOWS\System32\Wbem;C:\WINDOWS\System32\WindowsPowerShell\v1.0\;C:\WINDOWS\System32\OpenSSH\;C:\Program Files\Microsoft VS Code\bin;C:\Program Files (x86)\Pulse Secure\VC142.CRT\X64\;C:\Program Files (x86)\Pulse Secure\VC142.CRT\X86\;C:\HashiCorp\Vagrant\bin;C:\Program Files\Git\cmd;C:\Program Files\Docker\Docker\resources\bin;C:\ProgramData\DockerDesktop\version-bin;C:\Program Files (x86)\Microsoft VS Code\bin;C:\Users\kang\AppData\Local\Microsoft\WindowsApps;
    PERL5LIB = 
    PERL5OPT = 
    PERL5_CPANPLUS_IS_RUNNING = 10848
    PERL5_CPAN_IS_RUNNING = 10848
    PERL_MM_USE_DEFAULT = 1
    PERL_USE_UNSAFE_INC = 1
    PROCESSOR_IDENTIFIER = Intel64 Family 6 Model 42 Stepping 7, GenuineIntel
    TEMP = C:\Users\kang\AppData\Local\Temp
    TERM = dumb

Perl special variables (and OS-specific diagnostics, for MSWin32):

    $^X = C:\strawberry-perl-5.28-32bit\perl\bin\perl.exe
    $UID/$EUID = 0 / 0
    $GID = 0
    $EGID = 0
    Win32::GetOSName = Win10
    Win32::GetOSVersion = , 10, 0, 19044, 2, 0, 0, 256, 1
    Win32::FsType = NTFS
    Win32::IsAdminUser = 0

Perl module toolchain versions installed:

    Module              Have    
    ------------------- --------
    CPAN                2.34    
    CPAN::Meta          2.150010
    Cwd                 3.75    
    ExtUtils::CBuilder  0.280236
    ExtUtils::Command   7.64    
    ExtUtils::Install   2.20    
    ExtUtils::MakeMaker 7.64    
    ExtUtils::Manifest  1.73    
    ExtUtils::ParseXS   3.44    
    File::Spec          3.75    
    JSON                4.06    
    JSON::PP            4.09    
    Module::Build       0.4231  
    Module::Signature   0.88    
    Parse::CPAN::Meta   2.150010
    Test::Harness       3.44    
    Test::More          1.302190
    YAML                1.30    
    YAML::Syck          n/a     
    version             0.9929  


--

Summary of my perl5 (revision 5 version 28 subversion 2) configuration:
   
  Platform:
    osname=MSWin32
    osvers=10.0.17763.437
    archname=MSWin32-x86-multi-thread-64int
    uname='Win32 strawberry-perl 5.28.2.1 #1 Wed May  1 09:54:39 2019 i386'
    config_args='undef'
    hint=recommended
    useposix=true
    d_sigaction=undef
    useithreads=define
    usemultiplicity=define
    use64bitint=define
    use64bitall=undef
    uselongdouble=undef
    usemymalloc=n
    default_inc_excludes_dot=define
    bincompat5005=undef
  Compiler:
    cc='gcc'
    ccflags =' -s -O2 -DWIN32 -D__USE_MINGW_ANSI_STDIO -DPERL_TEXTMODE_SCRIPTS -DPERL_IMPLICIT_CONTEXT -DPERL_IMPLICIT_SYS -DUSE_PERLIO -fwrapv -fno-strict-aliasing -mms-bitfields'
    optimize='-s -O2'
    cppflags='-DWIN32'
    ccversion=''
    gccversion='7.1.0'
    gccosandvers=''
    intsize=4
    longsize=4
    ptrsize=4
    doublesize=8
    byteorder=12345678
    doublekind=3
    d_longlong=define
    longlongsize=8
    d_longdbl=define
    longdblsize=12
    longdblkind=3
    ivtype='long long'
    ivsize=8
    nvtype='double'
    nvsize=8
    Off_t='long long'
    lseeksize=8
    alignbytes=8
    prototype=define
  Linker and Libraries:
    ld='g++.exe'
    ldflags ='-s -L"C:\strawberry-perl-5.28-32bit\perl\lib\CORE" -L"C:\strawberry-perl-5.28-32bit\c\lib"'
    libpth=C:\strawberry-perl-5.28-32bit\c\lib C:\strawberry-perl-5.28-32bit\c\i686-w64-mingw32\lib C:\strawberry-perl-5.28-32bit\c\lib\gcc\i686-w64-mingw32\7.1.0
    libs= -lmoldname -lkernel32 -luser32 -lgdi32 -lwinspool -lcomdlg32 -ladvapi32 -lshell32 -lole32 -loleaut32 -lnetapi32 -luuid -lws2_32 -lmpr -lwinmm -lversion -lodbc32 -lodbccp32 -lcomctl32
    perllibs= -lmoldname -lkernel32 -luser32 -lgdi32 -lwinspool -lcomdlg32 -ladvapi32 -lshell32 -lole32 -loleaut32 -lnetapi32 -luuid -lws2_32 -lmpr -lwinmm -lversion -lodbc32 -lodbccp32 -lcomctl32
    libc=
    so=dll
    useshrplib=true
    libperl=libperl528.a
    gnulibc_version=''
  Dynamic Linking:
    dlsrc=dl_win32.xs
    dlext=xs.dll
    d_dlsymun=undef
    ccdlflags=' '
    cccdlflags=' '
    lddlflags='-mdll -s -L"C:\strawberry-perl-5.28-32bit\perl\lib\CORE" -L"C:\strawberry-perl-5.28-32bit\c\lib"'


Characteristics of this binary (from libperl): 
  Compile-time options:
    HAS_TIMES
    HAVE_INTERP_INTERN
    MULTIPLICITY
    PERLIO_LAYERS
    PERL_COPY_ON_WRITE
    PERL_DONT_CREATE_GVSV
    PERL_IMPLICIT_CONTEXT
    PERL_IMPLICIT_SYS
    PERL_MALLOC_WRAP
    PERL_OP_PARENT
    PERL_PRESERVE_IVUV
    USE_64_BIT_INT
    USE_ITHREADS
    USE_LARGE_FILES
    USE_LOCALE
    USE_LOCALE_COLLATE
    USE_LOCALE_CTYPE
    USE_LOCALE_NUMERIC
    USE_LOCALE_TIME
    USE_PERLIO
    USE_PERL_ATOF
  Built under MSWin32
  Compiled at May  1 2019 10:15:48
  %ENV:
    PERL5_CPANPLUS_IS_RUNNING="10848"
    PERL5_CPAN_IS_RUNNING="10848"
    PERL_MM_USE_DEFAULT="1"
    PERL_USE_UNSAFE_INC="1"
  @INC:
    C:/strawberry-perl-5.28-32bit/perl/site/lib/MSWin32-x86-multi-thread-64int
    C:/strawberry-perl-5.28-32bit/perl/site/lib
    C:/strawberry-perl-5.28-32bit/perl/vendor/lib
    C:/strawberry-perl-5.28-32bit/perl/lib
    .