Report for Catalyst-Authentication-Credential-RemoteHTTP-0.05

Back
From: metabase:user:320bfe00-2aae-11df-837a-5e0a49663a4f
Subject: PASS Catalyst-Authentication-Credential-RemoteHTTP-0.05 v5.21.7 GNU/Linux
Date: 2014-11-24T19:57:40Z

This distribution has been tested as part of the CPAN Testers
project, supporting the Perl programming language.  See
http://wiki.cpantesters.org/ for more information or email
questions to cpan-testers-discuss@perl.org


--
Dear Nigel Metheringham,

This is a computer-generated report for Catalyst-Authentication-Credential-RemoteHTTP-0.05
on perl 5.21.7, created by CPAN-Reporter-1.2011.

Thank you for uploading your work to CPAN.  Congratulations!
All tests were successful.

Sections of this report:

    * Tester comments
    * Program output
    * Prerequisites
    * Environment and other context

------------------------------
TESTER COMMENTS
------------------------------

Additional comments from tester:

this report is from an automated smoke testing program
and was not reviewed by a human for accuracy

------------------------------
PROGRAM OUTPUT
------------------------------

Output from './Build test':

Constants from lexical variables potentially modified elsewhere are deprecated at /home/sand/src/perl/repoperls/installed-perls/perl/v5.21.6-63-ged996a5/a2da/lib/site_perl/5.21.7/aliased.pm line 46.
Constants from lexical variables potentially modified elsewhere are deprecated at /home/sand/src/perl/repoperls/installed-perls/perl/v5.21.6-63-ged996a5/a2da/lib/site_perl/5.21.7/aliased.pm line 46.
Constants from lexical variables potentially modified elsewhere are deprecated at /home/sand/src/perl/repoperls/installed-perls/perl/v5.21.6-63-ged996a5/a2da/lib/site_perl/5.21.7/aliased.pm line 46.
Constants from lexical variables potentially modified elsewhere are deprecated at /home/sand/src/perl/repoperls/installed-perls/perl/v5.21.6-63-ged996a5/a2da/lib/site_perl/5.21.7/aliased.pm line 46.
Constants from lexical variables potentially modified elsewhere are deprecated at /home/sand/src/perl/repoperls/installed-perls/perl/v5.21.6-63-ged996a5/a2da/lib/site_perl/5.21.7/aliased.pm line 46.
Constants from lexical variables potentially modified elsewhere are deprecated at /home/sand/src/perl/repoperls/installed-perls/perl/v5.21.6-63-ged996a5/a2da/lib/site_perl/5.21.7/aliased.pm line 46.
Constants from lexical variables potentially modified elsewhere are deprecated at /home/sand/src/perl/repoperls/installed-perls/perl/v5.21.6-63-ged996a5/a2da/lib/site_perl/5.21.7/aliased.pm line 46.
Constants from lexical variables potentially modified elsewhere are deprecated at /home/sand/src/perl/repoperls/installed-perls/perl/v5.21.6-63-ged996a5/a2da/lib/site_perl/5.21.7/aliased.pm line 46.
Constants from lexical variables potentially modified elsewhere are deprecated at /home/sand/src/perl/repoperls/installed-perls/perl/v5.21.6-63-ged996a5/a2da/lib/site_perl/5.21.7/aliased.pm line 46.
Constants from lexical variables potentially modified elsewhere are deprecated at /home/sand/src/perl/repoperls/installed-perls/perl/v5.21.6-63-ged996a5/a2da/lib/site_perl/5.21.7/aliased.pm line 46.
t/00-compile.t ............... ok
Constants from lexical variables potentially modified elsewhere are deprecated at /home/sand/src/perl/repoperls/installed-perls/perl/v5.21.6-63-ged996a5/a2da/lib/site_perl/5.21.7/aliased.pm line 46.
Constants from lexical variables potentially modified elsewhere are deprecated at /home/sand/src/perl/repoperls/installed-perls/perl/v5.21.6-63-ged996a5/a2da/lib/site_perl/5.21.7/aliased.pm line 46.
Constants from lexical variables potentially modified elsewhere are deprecated at /home/sand/src/perl/repoperls/installed-perls/perl/v5.21.6-63-ged996a5/a2da/lib/site_perl/5.21.7/aliased.pm line 46.
Constants from lexical variables potentially modified elsewhere are deprecated at /home/sand/src/perl/repoperls/installed-perls/perl/v5.21.6-63-ged996a5/a2da/lib/site_perl/5.21.7/aliased.pm line 46.
Constants from lexical variables potentially modified elsewhere are deprecated at /home/sand/src/perl/repoperls/installed-perls/perl/v5.21.6-63-ged996a5/a2da/lib/site_perl/5.21.7/aliased.pm line 46.
Constants from lexical variables potentially modified elsewhere are deprecated at /home/sand/src/perl/repoperls/installed-perls/perl/v5.21.6-63-ged996a5/a2da/lib/site_perl/5.21.7/aliased.pm line 46.
Constants from lexical variables potentially modified elsewhere are deprecated at /home/sand/src/perl/repoperls/installed-perls/perl/v5.21.6-63-ged996a5/a2da/lib/site_perl/5.21.7/aliased.pm line 46.
Constants from lexical variables potentially modified elsewhere are deprecated at /home/sand/src/perl/repoperls/installed-perls/perl/v5.21.6-63-ged996a5/a2da/lib/site_perl/5.21.7/aliased.pm line 46.
Constants from lexical variables potentially modified elsewhere are deprecated at /home/sand/src/perl/repoperls/installed-perls/perl/v5.21.6-63-ged996a5/a2da/lib/site_perl/5.21.7/aliased.pm line 46.
Constants from lexical variables potentially modified elsewhere are deprecated at /home/sand/src/perl/repoperls/installed-perls/perl/v5.21.6-63-ged996a5/a2da/lib/site_perl/5.21.7/aliased.pm line 46.
# Testing Catalyst::Authentication::Credential::RemoteHTTP 0.05, Perl 5.021007, /tmp/basesmoker-reloperl-7cqk/bin/perl
t/00-load.t .................. ok
# Testing with Perl 5.021007, /tmp/basesmoker-reloperl-7cqk/bin/perl
#     Carp version is 1.34
#     Catalyst version is 5.90077
#     Catalyst::Authentication::Store::Minimal version is undefined
#     Catalyst::Controller version is undefined
#     Catalyst::Exception version is undefined
#     Catalyst::Test version is undefined
#     English version is 1.09
#     File::Find version is 1.29
#     File::Temp version is 0.2304
#     HTTP::Server::Simple version is 0.44
#     HTTP::Server::Simple::CGI version is 0.44
#     IO::Socket::INET version is 1.35
#     LWP::UserAgent version is 6.06
#     MIME::Base64 version is 3.14
#     Module::Build version is 0.421
#     Moose version is 2.1402
#     MooseX::Types::Moose version is 0.45
#     Scalar::Util version is 1.41
#     Test::Exception version is 0.35
#     Test::More version is 1.301001078
#     base version is 2.22
#     namespace::autoclean version is 0.22
#     strict version is 1.08
#     warnings version is 1.29
t/000-report-versions.t ...... ok
t/author-critic.t ............ skipped: these tests are for testing by the author
t/author-pod-spell.t ......... skipped: these tests are for testing by the author
Constants from lexical variables potentially modified elsewhere are deprecated at /home/sand/src/perl/repoperls/installed-perls/perl/v5.21.6-63-ged996a5/a2da/lib/site_perl/5.21.7/aliased.pm line 46, <DATA> line 16.
Constants from lexical variables potentially modified elsewhere are deprecated at /home/sand/src/perl/repoperls/installed-perls/perl/v5.21.6-63-ged996a5/a2da/lib/site_perl/5.21.7/aliased.pm line 46, <DATA> line 16.
Constants from lexical variables potentially modified elsewhere are deprecated at /home/sand/src/perl/repoperls/installed-perls/perl/v5.21.6-63-ged996a5/a2da/lib/site_perl/5.21.7/aliased.pm line 46, <DATA> line 16.
Constants from lexical variables potentially modified elsewhere are deprecated at /home/sand/src/perl/repoperls/installed-perls/perl/v5.21.6-63-ged996a5/a2da/lib/site_perl/5.21.7/aliased.pm line 46, <DATA> line 16.
Constants from lexical variables potentially modified elsewhere are deprecated at /home/sand/src/perl/repoperls/installed-perls/perl/v5.21.6-63-ged996a5/a2da/lib/site_perl/5.21.7/aliased.pm line 46, <DATA> line 16.
Constants from lexical variables potentially modified elsewhere are deprecated at /home/sand/src/perl/repoperls/installed-perls/perl/v5.21.6-63-ged996a5/a2da/lib/site_perl/5.21.7/aliased.pm line 46, <DATA> line 16.
Constants from lexical variables potentially modified elsewhere are deprecated at /home/sand/src/perl/repoperls/installed-perls/perl/v5.21.6-63-ged996a5/a2da/lib/site_perl/5.21.7/aliased.pm line 46, <DATA> line 16.
Constants from lexical variables potentially modified elsewhere are deprecated at /home/sand/src/perl/repoperls/installed-perls/perl/v5.21.6-63-ged996a5/a2da/lib/site_perl/5.21.7/aliased.pm line 46, <DATA> line 16.
Constants from lexical variables potentially modified elsewhere are deprecated at /home/sand/src/perl/repoperls/installed-perls/perl/v5.21.6-63-ged996a5/a2da/lib/site_perl/5.21.7/aliased.pm line 46, <DATA> line 16.
Constants from lexical variables potentially modified elsewhere are deprecated at /home/sand/src/perl/repoperls/installed-perls/perl/v5.21.6-63-ged996a5/a2da/lib/site_perl/5.21.7/aliased.pm line 46, <DATA> line 16.
t/live.t ..................... ok
t/release-dist-manifest.t .... skipped: these tests are for release candidate testing
t/release-distmeta.t ......... skipped: these tests are for release candidate testing
t/release-eol.t .............. skipped: these tests are for release candidate testing
t/release-has-version.t ...... skipped: these tests are for release candidate testing
t/release-kwalitee.t ......... skipped: these tests are for release candidate testing
t/release-minimum-version.t .. skipped: these tests are for release candidate testing
t/release-no-tabs.t .......... skipped: these tests are for release candidate testing
t/release-pod-coverage.t ..... skipped: these tests are for release candidate testing
t/release-pod-syntax.t ....... skipped: these tests are for release candidate testing
t/release-portability.t ...... skipped: these tests are for release candidate testing
t/release-synopsis.t ......... skipped: these tests are for release candidate testing
t/release-unused-vars.t ...... skipped: these tests are for release candidate testing
All tests successful.
Files=18, Tests=43,  3 wallclock secs ( 0.07 usr  0.02 sys +  2.41 cusr  0.15 csys =  2.65 CPU)
Result: PASS

------------------------------
PREREQUISITES
------------------------------

Prerequisite modules loaded:

requires:

    Module                                   Need     Have        
    ---------------------------------------- -------- ------------
    base                                     0        2.22        
    Catalyst::Exception                      0        0           
    LWP::UserAgent                           0        6.06        
    Moose                                    0        2.1402      
    MooseX::Types::Moose                     0        0.45        
    namespace::autoclean                     0        0.22        
    perl                                     5.008005 5.021007    
    strict                                   0        1.08        
    warnings                                 0        1.29        

build_requires:

    Module                                   Need     Have        
    ---------------------------------------- -------- ------------
    Carp                                     0        1.34        
    Catalyst                                 0        5.90077     
    Catalyst::Authentication::Store::Minimal 0        0           
    Catalyst::Controller                     0        0           
    Catalyst::Test                           0        0           
    English                                  0        1.09        
    File::Find                               0        1.29        
    File::Temp                               0        0.2304      
    HTTP::Server::Simple                     0        0.44        
    HTTP::Server::Simple::CGI                0        0.44        
    IO::Socket::INET                         0        1.35        
    MIME::Base64                             0        3.14        
    Module::Build                            0.3601   0.4210      
    Scalar::Util                             0        1.41        
    Test::Exception                          0        0.35        
    Test::More                               0.94     1.301001_078

configure_requires:

    Module                                   Need     Have        
    ---------------------------------------- -------- ------------
    Module::Build                            0.3601   0.4210      


------------------------------
ENVIRONMENT AND OTHER CONTEXT
------------------------------

Environment variables:

    AUTOMATED_TESTING = 1
    LANG = en_US.UTF-8
    LANGUAGE = en_US:en
    PATH = /home/sand/bin:/usr/local/bin:/usr/bin:/bin:/usr/games:/usr/local/perl/bin:/usr/X11/bin:/sbin:/usr/sbin
    PERL = /tmp/basesmoker-reloperl-7cqk/bin/perl
    PERL5LIB = 
    PERL5OPT = 
    PERL5_CPANPLUS_IS_RUNNING = 28681
    PERL5_CPAN_IS_RUNNING = 28681
    PERL_MM_USE_DEFAULT = 1
    SHELL = /usr/bin/zsh
    TERM = screen

Perl special variables (and OS-specific diagnostics, for MSWin32):

    $^X = /tmp/basesmoker-reloperl-7cqk/bin/perl
    $UID/$EUID = 1005 / 1005
    $GID = 1005 1005
    $EGID = 1005 1005

Perl module toolchain versions installed:

    Module              Have        
    ------------------- ------------
    CPAN                2.05        
    CPAN::Meta          2.143240    
    Cwd                 3.51        
    ExtUtils::CBuilder  0.280220    
    ExtUtils::Command   1.18        
    ExtUtils::Install   2.04        
    ExtUtils::MakeMaker 7.02        
    ExtUtils::Manifest  1.69        
    ExtUtils::ParseXS   3.27        
    File::Spec          3.51        
    JSON                2.90        
    JSON::PP            2.27300     
    Module::Build       0.4210      
    Module::Signature   0.73        
    Parse::CPAN::Meta   1.4414      
    Test::Harness       3.34        
    Test::More          1.301001_078
    YAML                1.13        
    YAML::Syck          1.27        
    version             0.9909      


--

Summary of my perl5 (revision 5 version 21 subversion 7) configuration:
  Commit id: ed996a54e9e136efd3812a9f2d00d7102ed0ef1a
  Platform:
    osname=linux, osvers=3.16-2-amd64, archname=x86_64-linux-thread-multi-ld
    uname='linux k83 3.16-2-amd64 #1 smp debian 3.16.3-2 (2014-09-20) x86_64 gnulinux '
    config_args='-Dprefix=/home/sand/src/perl/repoperls/installed-perls/perl/v5.21.6-63-ged996a5/a2da -Dmyhostname=k83 -Dinstallusrbinperl=n -Uversiononly -Dusedevel -des -Ui_db -Duseithreads -Duselongdouble -DDEBUGGING=-g'
    hint=recommended, useposix=true, d_sigaction=define
    useithreads=define, usemultiplicity=define
    use64bitint=define, use64bitall=define, uselongdouble=define
    usemymalloc=n, bincompat5005=undef
  Compiler:
    cc='cc', ccflags ='-D_REENTRANT -D_GNU_SOURCE -fwrapv -fno-strict-aliasing -pipe -fstack-protector-strong -I/usr/local/include -D_LARGEFILE_SOURCE -D_FILE_OFFSET_BITS=64 -D_FORTIFY_SOURCE=2',
    optimize='-O2 -g',
    cppflags='-D_REENTRANT -D_GNU_SOURCE -fwrapv -fno-strict-aliasing -pipe -fstack-protector-strong -I/usr/local/include'
    ccversion='', gccversion='4.9.1', gccosandvers=''
    intsize=4, longsize=8, ptrsize=8, doublesize=8, byteorder=12345678, doublekind=3
    d_longlong=define, longlongsize=8, d_longdbl=define, longdblsize=16, longdblkind=3
    ivtype='long', ivsize=8, nvtype='long double', nvsize=16, Off_t='off_t', lseeksize=8
    alignbytes=16, prototype=define
  Linker and Libraries:
    ld='cc', ldflags =' -fstack-protector-strong -L/usr/local/lib'
    libpth=/usr/local/lib /usr/lib/gcc/x86_64-linux-gnu/4.9/include-fixed /usr/include/x86_64-linux-gnu /usr/lib /lib/x86_64-linux-gnu /lib/../lib /usr/lib/x86_64-linux-gnu /usr/lib/../lib /lib
    libs=-lnsl -lgdbm -ldb -ldl -lm -lcrypt -lutil -lpthread -lc -lgdbm_compat
    perllibs=-lnsl -ldl -lm -lcrypt -lutil -lpthread -lc
    libc=libc-2.19.so, so=so, useshrplib=false, libperl=libperl.a
    gnulibc_version='2.19'
  Dynamic Linking:
    dlsrc=dl_dlopen.xs, dlext=so, d_dlsymun=undef, ccdlflags='-Wl,-E'
    cccdlflags='-fPIC', lddlflags='-shared -O2 -g -L/usr/local/lib -fstack-protector-strong'


Characteristics of this binary (from libperl): 
  Compile-time options: HAS_TIMES MULTIPLICITY PERLIO_LAYERS
                        PERL_DONT_CREATE_GVSV
                        PERL_HASH_FUNC_ONE_AT_A_TIME_HARD
                        PERL_IMPLICIT_CONTEXT PERL_MALLOC_WRAP
                        PERL_NEW_COPY_ON_WRITE PERL_PRESERVE_IVUV
                        PERL_USE_DEVEL USE_64_BIT_ALL USE_64_BIT_INT
                        USE_ITHREADS USE_LARGE_FILES USE_LOCALE
                        USE_LOCALE_COLLATE USE_LOCALE_CTYPE
                        USE_LOCALE_NUMERIC USE_LOCALE_TIME USE_LONG_DOUBLE
                        USE_PERLIO USE_PERL_ATOF USE_REENTRANT_API
  Built under linux
  Compiled at Nov 24 2014 10:11:31
  %ENV:
    PERL="/tmp/basesmoker-reloperl-7cqk/bin/perl"
    PERL5LIB=""
    PERL5OPT=""
    PERL5_CPANPLUS_IS_RUNNING="28681"
    PERL5_CPAN_IS_RUNNING="28681"
    PERL_MM_USE_DEFAULT="1"
  @INC:
    /home/sand/src/perl/repoperls/installed-perls/perl/v5.21.6-63-ged996a5/a2da/lib/site_perl/5.21.7/x86_64-linux-thread-multi-ld
    /home/sand/src/perl/repoperls/installed-perls/perl/v5.21.6-63-ged996a5/a2da/lib/site_perl/5.21.7
    /home/sand/src/perl/repoperls/installed-perls/perl/v5.21.6-63-ged996a5/a2da/lib/5.21.7/x86_64-linux-thread-multi-ld
    /home/sand/src/perl/repoperls/installed-perls/perl/v5.21.6-63-ged996a5/a2da/lib/5.21.7
    .