Role-REST-Client v0.23 Perl 5 v5.35.10 x86_64-linux-ld

Status
Pass
From
Andreas J. König (ANDK)
Dist
Role-REST-Client v0.23
Platform
Perl 5 v5.35.10 x86_64-linux-ld
Date
2022-06-03 01:18:59
ID
25a6369c-e2db-11ec-8d0f-ab3fc2119ae8
This distribution has been tested as part of the CPAN Testers
project, supporting the Perl programming language.  See
http://wiki.cpantesters.org/ for more information or email
questions to cpan-testers-discuss@perl.org


--
Dear Kaare Rasmussen,

This is a computer-generated report for Role-REST-Client-0.23
on perl 5.35.10, created by CPAN-Reporter-1.2018.

Thank you for uploading your work to CPAN.  Congratulations!
All tests were successful.

Sections of this report:

    * Tester comments
    * Program output
    * Prerequisites
    * Environment and other context

------------------------------
TESTER COMMENTS
------------------------------

Additional comments from tester:

this report is from an automated smoke testing program
and was not reviewed by a human for accuracy

------------------------------
PROGRAM OUTPUT
------------------------------

Output from './Build test':

t/boilerplate.t .................. ok
t/compile.t ...................... ok
t/conditional_deserialization.t .. ok
t/pod.t .......................... ok
t/response.t ..................... ok
t/rest.t ......................... ok
t/serializer.t ................... ok
All tests successful.
Files=7, Tests=93,  4 wallclock secs ( 0.04 usr  0.04 sys +  1.85 cusr  0.55 csys =  2.48 CPU)
Result: PASS

------------------------------
PREREQUISITES
------------------------------

Prerequisite modules loaded:

requires:

    Module                        Need     Have    
    ----------------------------- -------- --------
    Carp                          0        1.52    
    Data::Dumper                  0        2.184   
    Data::Serializer::Raw         0        0.02    
    HTTP::Headers                 0        6.36    
    HTTP::Message                 0        6.36    
    HTTP::Response                0        6.36    
    HTTP::Status                  0        6.36    
    HTTP::Thin                    0        0.006   
    HTTP::Tiny                    0        0.080   
    Moo                           1.003000 2.005004
    Moo::Role                     0        2.005004
    MooX::HandlesVia              0.001004 0.001009
    Try::Tiny                     0        0.31    
    Type::Tiny                    0.024    1.012004
    Types::Standard               0        1.012004
    URI::Escape::XS               0.11     0.14    

build_requires:

    Module                        Need     Have    
    ----------------------------- -------- --------
    Data::Serializer::JSON        0        0.04    
    Data::Serializer::XML::Simple 0        0.03    
    Data::Serializer::YAML        0        0.03    
    File::Find                    0        1.40    
    File::Temp                    0        0.2311  
    HTTP::Request                 0        6.36    
    HTTP::Thin                    0        0.006   
    JSON                          2.00     4.05    
    Module::Build                 0.28     0.4231  
    Moose                         0        2.2201  
    parent                        0        0.238   
    Plack::Component              0        0       
    Plack::Request                0        1.0048  
    Plack::Runner                 0        0       
    strict                        0        1.12    
    Test::Deep                    0        1.130   
    Test::Exception               0        0.43    
    Test::More                    0.88     1.302190
    Test::TCP                     0        2.22    
    Test::Warnings                0        0.031   
    utf8                          0        1.24    
    warnings                      0        1.58    
    XML::Simple                   0        2.25    
    YAML                          0        1.30    

configure_requires:

    Module                        Need     Have    
    ----------------------------- -------- --------
    ExtUtils::MakeMaker           0        7.64    
    Module::Build                 0.28     0.4231  

opt_requires:

    Module                        Need     Have    
    ----------------------------- -------- --------
    Data::Serializer::JSON        0        0.04    
    Data::Serializer::XML::Simple 0        0.03    
    Data::Serializer::YAML        0        0.03    
    HTTP::Thin                    0        0.006   
    JSON                          2.00     4.05    
    XML::Simple                   0        2.25    
    YAML                          0        1.30    


------------------------------
ENVIRONMENT AND OTHER CONTEXT
------------------------------

Environment variables:

    AUTOMATED_TESTING = 1
    LANG = en_US.UTF-8
    LANGUAGE = en_US:en
    PATH = /home/sand/bin:/usr/local/bin:/usr/bin:/bin:/usr/games:/usr/local/perl/bin:/usr/X11/bin:/sbin:/usr/sbin
    PERL5LIB = 
    PERL5OPT = 
    PERL5_CPANPLUS_IS_RUNNING = 2113640
    PERL5_CPAN_IS_RUNNING = 2113640
    PERL_CANARY_STABILITY_NOPROMPT = 1
    PERL_MM_USE_DEFAULT = 1
    PERL_USE_UNSAFE_INC = 1
    SHELL = /usr/bin/zsh
    TERM = screen

Perl special variables (and OS-specific diagnostics, for MSWin32):

    $^X = /home/sand/src/perl/repoperls/installed-perls/host/k93msid/v5.35.10/af11/bin/perl
    $UID/$EUID = 1005 / 1005
    $GID = 1005 1005
    $EGID = 1005 1005

Perl module toolchain versions installed:

    Module              Have    
    ------------------- --------
    CPAN                2.33    
    CPAN::Meta          2.150010
    Cwd                 3.84    
    ExtUtils::CBuilder  0.280236
    ExtUtils::Command   7.64    
    ExtUtils::Install   2.20    
    ExtUtils::MakeMaker 7.64    
    ExtUtils::Manifest  1.73    
    ExtUtils::ParseXS   3.45    
    File::Spec          3.84    
    JSON                4.05    
    JSON::PP            4.08    
    Module::Build       0.4231  
    Module::Signature   0.88    
    Parse::CPAN::Meta   2.150010
    Test::Harness       3.43    
    Test::More          1.302190
    YAML                1.30    
    YAML::Syck          1.34    
    version             0.9929  


--

Summary of my perl5 (revision 5 version 35 subversion 10) configuration:
  Commit id: a1655185e6f80da0d630b3c2d8df5f32364b0e35
  Platform:
    osname=linux
    osvers=5.16.0-5-amd64
    archname=x86_64-linux-ld
    uname='linux k93msid 5.16.0-5-amd64 #1 smp preempt debian 5.16.14-1 (2022-03-15) x86_64 gnulinux '
    config_args='-Dprefix=/home/sand/src/perl/repoperls/installed-perls/host/k93msid/v5.35.10/af11 -Dmyhostname=k93msid -Dinstallusrbinperl=n -Uversiononly -Dusedevel -des -Ui_db -Dlibswanted=cl pthread socket inet nsl gdbm dbm malloc dl ld sun m crypt sec util c cposix posix ucb BSD gdbm_compat -Uuseithreads -Duselongdouble -DEBUGGING=-g'
    hint=recommended
    useposix=true
    d_sigaction=define
    useithreads=undef
    usemultiplicity=undef
    use64bitint=define
    use64bitall=define
    uselongdouble=define
    usemymalloc=n
    default_inc_excludes_dot=define
  Compiler:
    cc='cc'
    ccflags ='-fwrapv -fno-strict-aliasing -pipe -fstack-protector-strong -I/usr/local/include -D_LARGEFILE_SOURCE -D_FILE_OFFSET_BITS=64 -D_FORTIFY_SOURCE=2'
    optimize='-O2 -g'
    cppflags='-fwrapv -fno-strict-aliasing -pipe -fstack-protector-strong -I/usr/local/include'
    ccversion=''
    gccversion='11.2.0'
    gccosandvers=''
    intsize=4
    longsize=8
    ptrsize=8
    doublesize=8
    byteorder=12345678
    doublekind=3
    d_longlong=define
    longlongsize=8
    d_longdbl=define
    longdblsize=16
    longdblkind=3
    ivtype='long'
    ivsize=8
    nvtype='long double'
    nvsize=16
    Off_t='off_t'
    lseeksize=8
    alignbytes=16
    prototype=define
  Linker and Libraries:
    ld='cc'
    ldflags =' -fstack-protector-strong -L/usr/local/lib'
    libpth=/usr/local/lib /usr/lib/x86_64-linux-gnu /usr/lib /lib/x86_64-linux-gnu /lib
    libs=-lpthread -lnsl -ldl -lm -lcrypt -lutil -lc
    perllibs=-lpthread -lnsl -ldl -lm -lcrypt -lutil -lc
    libc=libc-2.33.so
    so=so
    useshrplib=false
    libperl=libperl.a
    gnulibc_version='2.33'
  Dynamic Linking:
    dlsrc=dl_dlopen.xs
    dlext=so
    d_dlsymun=undef
    ccdlflags='-Wl,-E'
    cccdlflags='-fPIC'
    lddlflags='-shared -O2 -g -L/usr/local/lib -fstack-protector-strong'


Characteristics of this binary (from libperl): 
  Compile-time options:
    HAS_TIMES
    PERLIO_LAYERS
    PERL_COPY_ON_WRITE
    PERL_DONT_CREATE_GVSV
    PERL_MALLOC_WRAP
    PERL_OP_PARENT
    PERL_PRESERVE_IVUV
    PERL_USE_DEVEL
    USE_64_BIT_ALL
    USE_64_BIT_INT
    USE_LARGE_FILES
    USE_LOCALE
    USE_LOCALE_COLLATE
    USE_LOCALE_CTYPE
    USE_LOCALE_NUMERIC
    USE_LOCALE_TIME
    USE_LONG_DOUBLE
    USE_PERLIO
    USE_PERL_ATOF
  Built under linux
  Compiled at Mar 20 2022 21:00:40
  %ENV:
    PERL5LIB=""
    PERL5OPT=""
    PERL5_CPANPLUS_IS_RUNNING="2113640"
    PERL5_CPAN_IS_RUNNING="2113640"
    PERL_CANARY_STABILITY_NOPROMPT="1"
    PERL_MM_USE_DEFAULT="1"
    PERL_USE_UNSAFE_INC="1"
  @INC:
    /home/sand/src/perl/repoperls/installed-perls/host/k93msid/v5.35.10/af11/lib/site_perl/5.35.10/x86_64-linux-ld
    /home/sand/src/perl/repoperls/installed-perls/host/k93msid/v5.35.10/af11/lib/site_perl/5.35.10
    /home/sand/src/perl/repoperls/installed-perls/host/k93msid/v5.35.10/af11/lib/5.35.10/x86_64-linux-ld
    /home/sand/src/perl/repoperls/installed-perls/host/k93msid/v5.35.10/af11/lib/5.35.10
    .