Report for Weather-OpenWeatherMap-0.002003

Back
From: metabase:user:314402c4-2aae-11df-837a-5e0a49663a4f
Subject: PASS Weather-OpenWeatherMap-0.002003 v5.21.11 GNU/Linux
Date: 2015-04-20T23:08:25Z

This distribution has been tested as part of the CPAN Testers
project, supporting the Perl programming language.  See
http://wiki.cpantesters.org/ for more information or email
questions to cpan-testers-discuss@perl.org


--
Dear Jon Portnoy,

This is a computer-generated report for Weather-OpenWeatherMap-0.002003
on perl 5.21.11, created by CPAN-Reporter-1.2014.

Thank you for uploading your work to CPAN.  Congratulations!
All tests were successful.

Sections of this report:

    * Tester comments
    * Program output
    * Prerequisites
    * Environment and other context

------------------------------
TESTER COMMENTS
------------------------------

Additional comments from tester:

none provided

------------------------------
PROGRAM OUTPUT
------------------------------

Output from '/usr/bin/make test':

Skip blib/lib/auto/share/dist/Weather-OpenWeatherMap/failure.json (unchanged)
Skip blib/lib/auto/share/dist/Weather-OpenWeatherMap/find.json (unchanged)
Skip blib/lib/auto/share/dist/Weather-OpenWeatherMap/current.json (unchanged)
Skip blib/lib/auto/share/dist/Weather-OpenWeatherMap/3day.json (unchanged)
PERL_DL_NONLAZY=1 "/bbbike/perl-5.21.11/bin/perl5.21.11" "-MExtUtils::Command::MM" "-MTest::Harness" "-e" "undef *Test::Harness::Switches; test_harness(0, 'blib/lib', 'blib/arch')" t/*.t t/request/*.t t/result/*.t
# 
# Versions for all modules listed in MYMETA.json (including optional ones):
# 
# === Configure Requires ===
# 
#     Module                  Want Have
#     ----------------------- ---- ----
#     ExtUtils::MakeMaker      any 7.04
#     File::ShareDir::Install 0.06 0.10
# 
# === Build Requires ===
# 
#     Module              Want Have
#     ------------------- ---- ----
#     ExtUtils::MakeMaker  any 7.04
# 
# === Test Requires ===
# 
#     Module              Want     Have
#     ------------------- ---- --------
#     ExtUtils::MakeMaker  any     7.04
#     File::Spec           any     3.56
#     List::Util           any     1.41
#     Scalar::Util         any     1.41
#     Test::Memory::Cycle    1     1.04
#     Test::More           any 1.001014
#     Test::Roo              1    1.004
#     version             0.77   0.9909
# 
# === Test Recommends ===
# 
#     Module                       Want     Have
#     ------------------------ -------- --------
#     CPAN::Meta                    any 2.150001
#     CPAN::Meta::Prereqs           any 2.150001
#     CPAN::Meta::Requirements 2.120900    2.132
# 
# === Runtime Requires ===
# 
#     Module                       Want     Have
#     ------------------------ -------- --------
#     Carp                          any     1.36
#     Digest::SHA                   any     5.95
#     Exporter::Tiny                any    0.042
#     File::ShareDir                any    1.102
#     HTTP::Request                 any     6.00
#     JSON::MaybeXS                 any 1.003005
#     LWP::UserAgent                any     6.13
#     List::Objects::Types            1 1.003001
#     List::Objects::WithUtils 2.010002 2.021003
#     Module::Runtime               any    0.014
#     Moo                             1 2.000001
#     MooX::late                  0.014    0.015
#     Path::Tiny                   0.05    0.068
#     Throwable                     0.2 0.200012
#     Try::Tiny                     any     0.22
#     Types::DateTime               any    0.001
#     Types::Path::Tiny           0.005    0.005
#     Types::Standard               any 1.000005
#     URI::Escape                   any     3.31
#     namespace::clean              any     0.25
#     strictures                      1 2.000000
# 
t/00-report-prereqs.t ...... ok
        # Sleeping 1 second
        # Sleeping 1 second
t/cache.t .................. ok
t/error.t .................. ok
t/openweathermap.t ......... ok
t/release-cpan-changes.t ... skipped: these tests are for release candidate testing
t/release-dist-manifest.t .. skipped: these tests are for release candidate testing
t/release-no-tabs.t ........ skipped: these tests are for release candidate testing
t/release-pod-coverage.t ... skipped: these tests are for release candidate testing
t/release-pod-linkcheck.t .. skipped: these tests are for release candidate testing
t/release-pod-syntax.t ..... skipped: these tests are for release candidate testing
t/release-synopsis.t ....... skipped: these tests are for release candidate testing
t/release-unused-vars.t .... skipped: these tests are for release candidate testing
t/request/current.t ........ ok
t/request/find.t ........... ok
t/request/forecast.t ....... ok
t/result/current.t ......... ok
t/result/find.t ............ ok
t/result/forecast.t ........ ok
t/units.t .................. ok
All tests successful.
Files=19, Tests=15,  5 wallclock secs ( 0.07 usr  0.10 sys +  2.60 cusr  0.39 csys =  3.16 CPU)
Result: PASS

------------------------------
PREREQUISITES
------------------------------

Prerequisite modules loaded:

requires:

    Module                   Need     Have    
    ------------------------ -------- --------
    Carp                     0        1.36    
    Digest::SHA              0        5.95    
    Exporter::Tiny           0        0.042   
    File::ShareDir           0        1.102   
    HTTP::Request            0        6.00    
    JSON::MaybeXS            0        1.003005
    List::Objects::Types     1        1.003001
    List::Objects::WithUtils 2.010002 2.021003
    LWP::UserAgent           0        6.13    
    Module::Runtime          0        0.014   
    Moo                      1        2.000001
    MooX::late               0.014    0.015   
    namespace::clean         0        0.25    
    Path::Tiny               0.05     0.068   
    strictures               1        2.000000
    Throwable                0.2      0.200012
    Try::Tiny                0        0.22    
    Types::DateTime          0        0.001   
    Types::Path::Tiny        0.005    0.005   
    Types::Standard          0        1.000005
    URI::Escape              0        3.31    

build_requires:

    Module                   Need     Have    
    ------------------------ -------- --------
    ExtUtils::MakeMaker      0        7.04    
    File::Spec               0        3.56    
    List::Util               0        1.41    
    Scalar::Util             0        1.41    
    Test::Memory::Cycle      1        1.04    
    Test::More               0        1.001014
    Test::Roo                1        1.004   
    version                  0.77     0.9909  

configure_requires:

    Module                   Need     Have    
    ------------------------ -------- --------
    ExtUtils::MakeMaker      0        7.04    
    File::ShareDir::Install  0.06     0.10    


------------------------------
ENVIRONMENT AND OTHER CONTEXT
------------------------------

Environment variables:

    DBIC_NO_WARN_BAD_PERL = 1
    LANG = C
    LC_ALL = de_DE.UTF-8
    PATH = /usr/local/bin:/usr/bin:/bin:/usr/local/sbin:/usr/sbin:/sbin:/home/eserte/bin/linux-gnu:/home/eserte/bin/sh:/home/eserte/bin:/usr/games:/home/eserte/devel:/home/eserte/src/srezic-misc/scripts
    PERL = /bbbike/perl-5.21.11/bin/perl5.21.11
    PERL5LIB = 
    PERL5OPT = 
    PERL5_CPANPLUS_IS_RUNNING = 5324
    PERL5_CPAN_IS_RUNNING = 5324
    PERL5_CPAN_IS_RUNNING_IN_RECURSION = 5257,5324
    PERLDOC = -MPod::Perldoc::ToTextOverstrike
    PERL_BATCH = yes
    PERL_CPAN_REPORTER_CONFIG = /var/tmp/cpansmoker-1001/cpanreporter_000_config.ini
    PERL_EXTUTILS_AUTOINSTALL = --defaultdeps
    PERL_HTML_DISPLAY_CLASS = HTML::Display::Mozilla
    PERL_PARALLEL_SMOKER = yes
    SHELL = /bin/zsh
    TERM = screen
    TMPDIR = /var/tmp/cpansmoker-1001

Perl special variables (and OS-specific diagnostics, for MSWin32):

    $^X = /bbbike/perl-5.21.11/bin/perl5.21.11
    $UID/$EUID = 1001 / 1001
    $GID = 1001 109 1001
    $EGID = 1001 109 1001

Perl module toolchain versions installed:

    Module              Have    
    ------------------- --------
    CPAN                2.11    
    CPAN::Meta          2.150001
    Cwd                 3.56    
    ExtUtils::CBuilder  0.280221
    ExtUtils::Command   1.20    
    ExtUtils::Install   2.04    
    ExtUtils::MakeMaker 7.04    
    ExtUtils::Manifest  1.70    
    ExtUtils::ParseXS   3.28    
    File::Spec          3.56    
    JSON                2.90    
    JSON::PP            2.27300 
    Module::Build       0.4211  
    Module::Signature   n/a     
    Parse::CPAN::Meta   1.4414  
    Test::Harness       3.35    
    Test::More          1.001014
    YAML                1.15    
    YAML::Syck          1.29    
    version             0.9909  


--

Summary of my perl5 (revision 5 version 21 subversion 11) configuration:
   
  Platform:
    osname=linux, osvers=3.2.0-4-amd64, archname=x86_64-linux
    uname='linux eserte 3.2.0-4-amd64 #1 smp debian 3.2.65-1+deb7u2 x86_64 gnulinux '
    config_args='-ds -e -Dprefix=/opt/perl-5.21.11 -Dusedevel -Dusemallocwrap=no -Dcf_email=srezic@cpan.org'
    hint=recommended, useposix=true, d_sigaction=define
    useithreads=undef, usemultiplicity=undef
    use64bitint=define, use64bitall=define, uselongdouble=undef
    usemymalloc=n, bincompat5005=undef
  Compiler:
    cc='cc', ccflags ='-fwrapv -fno-strict-aliasing -pipe -fstack-protector -I/usr/local/include -D_LARGEFILE_SOURCE -D_FILE_OFFSET_BITS=64 -D_FORTIFY_SOURCE=2',
    optimize='-O2',
    cppflags='-fwrapv -fno-strict-aliasing -pipe -fstack-protector -I/usr/local/include'
    ccversion='', gccversion='4.7.2', gccosandvers=''
    intsize=4, longsize=8, ptrsize=8, doublesize=8, byteorder=12345678, doublekind=3
    d_longlong=define, longlongsize=8, d_longdbl=define, longdblsize=16, longdblkind=3
    ivtype='long', ivsize=8, nvtype='double', nvsize=8, Off_t='off_t', lseeksize=8
    alignbytes=8, prototype=define
  Linker and Libraries:
    ld='cc', ldflags =' -fstack-protector -L/usr/local/lib'
    libpth=/usr/local/lib /usr/lib/gcc/x86_64-linux-gnu/4.7/include-fixed /usr/include/x86_64-linux-gnu /usr/lib /lib/x86_64-linux-gnu /lib/../lib /usr/lib/x86_64-linux-gnu /usr/lib/../lib /lib
    libs=-lpthread -lnsl -ldb -ldl -lm -lcrypt -lutil -lc
    perllibs=-lpthread -lnsl -ldl -lm -lcrypt -lutil -lc
    libc=libc-2.13.so, so=so, useshrplib=false, libperl=libperl.a
    gnulibc_version='2.13'
  Dynamic Linking:
    dlsrc=dl_dlopen.xs, dlext=so, d_dlsymun=undef, ccdlflags='-Wl,-E'
    cccdlflags='-fPIC', lddlflags='-shared -O2 -L/usr/local/lib -fstack-protector'


Characteristics of this binary (from libperl): 
  Compile-time options: HAS_TIMES PERLIO_LAYERS PERL_DONT_CREATE_GVSV
                        PERL_HASH_FUNC_ONE_AT_A_TIME_HARD
                        PERL_NEW_COPY_ON_WRITE PERL_PRESERVE_IVUV
                        PERL_USE_DEVEL USE_64_BIT_ALL USE_64_BIT_INT
                        USE_LARGE_FILES USE_LOCALE USE_LOCALE_COLLATE
                        USE_LOCALE_CTYPE USE_LOCALE_NUMERIC USE_LOCALE_TIME
                        USE_PERLIO USE_PERL_ATOF
  Built under linux
  Compiled at Apr 20 2015 21:41:31
  %ENV:
    PERL="/bbbike/perl-5.21.11/bin/perl5.21.11"
    PERL5LIB=""
    PERL5OPT=""
    PERL5_CPANPLUS_IS_RUNNING="5324"
    PERL5_CPAN_IS_RUNNING="5324"
    PERL5_CPAN_IS_RUNNING_IN_RECURSION="5257,5324"
    PERLDOC="-MPod::Perldoc::ToTextOverstrike"
    PERL_BATCH="yes"
    PERL_CPAN_REPORTER_CONFIG="/var/tmp/cpansmoker-1001/cpanreporter_000_config.ini"
    PERL_EXTUTILS_AUTOINSTALL="--defaultdeps"
    PERL_HTML_DISPLAY_CLASS="HTML::Display::Mozilla"
    PERL_PARALLEL_SMOKER="yes"
  @INC:
    /opt/perl-5.21.11/lib/site_perl/5.21.11/x86_64-linux
    /opt/perl-5.21.11/lib/site_perl/5.21.11
    /opt/perl-5.21.11/lib/5.21.11/x86_64-linux
    /opt/perl-5.21.11/lib/5.21.11
    .