Inline-CPP v0.80 Perl 5 v5.39.5 amd64-netbsd-thread-multi

Status
Pass
From
Carlos Guevara
Dist
Inline-CPP v0.80
Platform
Perl 5 v5.39.5 amd64-netbsd-thread-multi
Date
2023-11-01 22:15:21
ID
25cfb9fc-7904-11ee-a7e9-fa50f55fc8cc
This distribution has been tested as part of the CPAN Testers
project, supporting the Perl programming language.  See
http://wiki.cpantesters.org/ for more information or email
questions to cpan-testers-discuss@perl.org


--
Dear David J. Oswald,

This is a computer-generated report for Inline-CPP-0.80
on perl 5.39.5, created by CPAN-Reporter-1.2019.

Thank you for uploading your work to CPAN.  Congratulations!
All tests were successful.

Sections of this report:

    * Tester comments
    * Program output
    * Prerequisites
    * Environment and other context

------------------------------
TESTER COMMENTS
------------------------------

Additional comments from tester:

this report is from an automated smoke testing program
and was not reviewed by a human for accuracy

------------------------------
PROGRAM OUTPUT
------------------------------

Output from '/usr/bin/make test':

PERL_DL_NONLAZY=1 "/home/cpan/bin/perl/bin/perl5.39.5" "-MExtUtils::Command::MM" "-MTest::Harness" "-e" "undef *Test::Harness::Switches; test_harness(0, 'blib/lib', 'blib/arch')" t/*.t t/*/*.t
# $Config{osname}:     netbsd
# $Config{cc}:         cc
# $Config{gccversion}: 7.5.0
t/00load_prereqs.t .................... ok
t/01fn_cans.t ......................... ok
t/02basic.t ........................... ok
t/03prefix.t .......................... ok
t/04charptr.t ......................... ok
t/06fn_regress.t ...................... ok
# 
# Compiler guesses:
# 	EU::CppGuess:    [g++ -fwrapv -fno-strict-aliasing -pipe -fstack-protector-strong -I/usr/pkg/include -D_FORTIFY_SOURCE=2 -xc++],
# 	Old Makefile.PL: [g++].
# Linker guesses:
# 	EU::CppGuess:    [-lstdc++ -lgcc_s],
# 	Old Makefile.PL: [-lstdc++ -lgcc_s].
t/08cppguess.t ........................ ok
t/12custom_libs.t ..................... ok
t/15config_case.t ..................... ok
<-----------------------Information Section----------------------------------->

Information about the processing of your Inline CPP code:

Your source code needs to be compiled. I'll use this build directory:
/home/cpan/.cpan/build/Inline-CPP-0.80-0/_Inline/build/_16info_t_2ec0

and I'll install the executable as:
/home/cpan/.cpan/build/Inline-CPP-0.80-0/_Inline/lib/auto/_16info_t_2ec0/_16info_t_2ec0.so

The following Inline CPP function(s) have been successfully bound to Perl:
	int add(int x, int y)
The following functions have been bound to Perl:
	int add(int x, int y);


<-----------------------End of Information Section---------------------------->
t/16info.t ............................ ok
t/classes/01empty_ns_is_main.t ........ ok
t/classes/02main_ns_is_main.t ......... ok
t/classes/03baz_ns_is_baz.t ........... ok
t/classes/04invoke_from_non_main.t .... ok
t/classes/05invalid_classes.t ......... ok
t/classes/06inherit.t ................. ok
t/classes/07conflict_avoid.t .......... skipped: Inline::Filters required for conflict avoidance testing.
t/classes/08auto.t .................... ok
t/classes/09auto_mixed.t .............. ok
t/classes/10auto_inherit.t ............ ok
t/grammar/01nherit.t .................. ok
t/grammar/02scope.t ................... ok
t/grammar/03inline.t .................. ok
t/grammar/04const.t ................... ok
t/grammar/05virt.t .................... ok
t/grammar/06deflt.t ................... ok
t/grammar/07static.t .................. ok
t/grammar/08anon.t .................... ok
t/grammar/09purevt.t .................. ok
t/grammar/10struct.t .................. ok
t/grammar/11minhrt.t .................. ok
t/grammar/12retlst.t .................. ok
t/grammar/13vararg.t .................. ok
t/grammar/14const.t ................... ok
t/grammar/15stvar.t ................... ok
t/grammar/16varlst.t .................. ok
t/grammar/17memberarray.t ............. ok
t/grammar/18namespace.t ............... ok
t/grammar/19multidimarray.t ........... ok
t/namespace/01empty_ns_is_main.t ...... ok
t/namespace/02main_ns_is_main.t ....... ok
t/namespace/03baz_ns_is_baz.t ......... ok
t/namespace/04invoke_from_non_main.t .. ok
t/namespace/05invalid_ns.t ............ ok
t/namespace/06inherit.t ............... ok
All tests successful.

Test Summary Report
-------------------
t/08cppguess.t                      (Wstat: 0 Tests: 2 Failed: 0)
  TODO passed:   2
t/grammar/11minhrt.t                (Wstat: 0 Tests: 38 Failed: 0)
  TODO passed:   23-24, 27, 29-30, 32
Files=45, Tests=265, 56 wallclock secs ( 0.14 usr  0.06 sys + 41.58 cusr 14.20 csys = 55.98 CPU)
Result: PASS

------------------------------
PREREQUISITES
------------------------------

Prerequisite modules loaded:

requires:

    Module              Need     Have    
    ------------------- -------- --------
    Carp                0        1.54    
    Config              0        5.039005
    Inline              0.82     0.86    
    Inline::C           0.80     0.82    
    Parse::RecDescent   0        1.967015
    perl                5.008001 5.039005

build_requires:

    Module              Need     Have    
    ------------------- -------- --------
    ExtUtils::MakeMaker 0        7.70    
    File::Temp          0        0.2311  
    FindBin             0        1.54    
    Test::More          1.001009 1.302196

configure_requires:

    Module              Need     Have    
    ------------------- -------- --------
    ExtUtils::CppGuess  0.15     0.26    
    ExtUtils::MakeMaker 7.04     7.70    


------------------------------
ENVIRONMENT AND OTHER CONTEXT
------------------------------

Environment variables:

    AUTOMATED_TESTING = 1
    DATE_MANIP_TEST_DM5 = 1
    LC_ALL = C
    NONINTERACTIVE_TESTING = 1
    NO_NETWORK_TESTING = 1
    PATH = /home/cpan/bin/perl/bin:/home/cpan/bin:/home/cpan/bin:/bin:/sbin:/usr/bin:/usr/sbin:/usr/X11R7/bin:/usr/pkg/bin:/usr/pkg/sbin:/usr/games:/usr/local/bin:/usr/local/sbin
    PERL5LIB = 
    PERL5OPT = 
    PERL5_CPANPLUS_IS_RUNNING = 10611
    PERL5_CPAN_IS_RUNNING = 10611
    PERL_MM_USE_DEFAULT = 1
    PERL_USE_UNSAFE_INC = 1
    SHELL = /usr/pkg/bin/bash
    TERM = screen
    TMPDIR = /home/cpan/tmp

Perl special variables (and OS-specific diagnostics, for MSWin32):

    $^X = /home/cpan/bin/perl/bin/perl5.39.5
    $UID/$EUID = 1001 / 1001
    $GID = 100 100
    $EGID = 100 100

Perl module toolchain versions installed:

    Module              Have    
    ------------------- --------
    CPAN                2.36    
    CPAN::Meta          2.150010
    Cwd                 3.90    
    ExtUtils::CBuilder  0.280240
    ExtUtils::Command   7.70    
    ExtUtils::Install   2.22    
    ExtUtils::MakeMaker 7.70    
    ExtUtils::Manifest  1.75    
    ExtUtils::ParseXS   3.51    
    File::Spec          3.90    
    JSON                4.10    
    JSON::PP            4.16    
    Module::Build       0.4234  
    Module::Signature   n/a     
    Parse::CPAN::Meta   2.150010
    Test2               1.302196
    Test::Harness       3.48    
    Test::More          1.302196
    YAML                1.30    
    YAML::Syck          1.34    
    version             0.9930  


--

Summary of my perl5 (revision 5 version 39 subversion 5) configuration:
  Commit id: 6abb319d677a4c9294c18fe07407c2bb5255d483
  Platform:
    osname=netbsd
    osvers=9.3
    archname=amd64-netbsd-thread-multi
    uname='netbsd cjg-netbsd9 9.3 netbsd 9.3 (generic) #0: thu aug 4 15:30:37 utc 2022 mkrepro@mkrepro.netbsd.org:usrsrcsysarchamd64compilegeneric amd64 '
    config_args='-des -Dprefix=/home/cpan/bin/perl -Dscriptdir=/home/cpan/bin/perl/bin -Dusedevel -Duse64bitall -Duseithreads'
    hint=recommended
    useposix=true
    d_sigaction=define
    useithreads=define
    usemultiplicity=define
    use64bitint=define
    use64bitall=define
    uselongdouble=undef
    usemymalloc=n
    default_inc_excludes_dot=define
  Compiler:
    cc='cc'
    ccflags ='-fwrapv -fno-strict-aliasing -pipe -fstack-protector-strong -I/usr/pkg/include -D_FORTIFY_SOURCE=2'
    optimize='-O'
    cppflags='-fwrapv -fno-strict-aliasing -pipe -fstack-protector-strong -I/usr/pkg/include'
    ccversion=''
    gccversion='7.5.0'
    gccosandvers=''
    intsize=4
    longsize=8
    ptrsize=8
    doublesize=8
    byteorder=12345678
    doublekind=3
    d_longlong=define
    longlongsize=8
    d_longdbl=define
    longdblsize=16
    longdblkind=3
    ivtype='long'
    ivsize=8
    nvtype='double'
    nvsize=8
    Off_t='off_t'
    lseeksize=8
    alignbytes=8
    prototype=define
  Linker and Libraries:
    ld='cc'
    ldflags =' -Wl,-rpath,/usr/pkg/lib -Wl,-rpath,/usr/local/lib -fstack-protector-strong -L/usr/pkg/lib'
    libpth=/usr/lib /usr/pkg/lib /lib
    libs=-lpthread -lm -lcrypt -lutil -lc -lposix
    perllibs=-lpthread -lm -lcrypt -lutil -lc -lposix
    libc=/lib/libc.so
    so=so
    useshrplib=false
    libperl=libperl.a
    gnulibc_version=''
  Dynamic Linking:
    dlsrc=dl_dlopen.xs
    dlext=so
    d_dlsymun=undef
    ccdlflags='-Wl,-E '
    cccdlflags='-DPIC -fPIC '
    lddlflags='-shared  -L/usr/pkg/lib -fstack-protector-strong'


Characteristics of this binary (from libperl): 
  Compile-time options:
    HAS_LONG_DOUBLE
    HAS_STRTOLD
    HAS_TIMES
    MULTIPLICITY
    PERLIO_LAYERS
    PERL_COPY_ON_WRITE
    PERL_DONT_CREATE_GVSV
    PERL_HASH_FUNC_SIPHASH13
    PERL_HASH_USE_SBOX32
    PERL_MALLOC_WRAP
    PERL_OP_PARENT
    PERL_PRESERVE_IVUV
    PERL_USE_DEVEL
    PERL_USE_SAFE_PUTENV
    USE_64_BIT_ALL
    USE_64_BIT_INT
    USE_ITHREADS
    USE_LARGE_FILES
    USE_LOCALE
    USE_LOCALE_COLLATE
    USE_LOCALE_CTYPE
    USE_LOCALE_NUMERIC
    USE_LOCALE_TIME
    USE_PERLIO
    USE_PERL_ATOF
    USE_REENTRANT_API
  Built under netbsd
  Compiled at Nov  1 2023 10:19:33
  %ENV:
    PERL5LIB=""
    PERL5OPT=""
    PERL5_CPANPLUS_IS_RUNNING="10611"
    PERL5_CPAN_IS_RUNNING="10611"
    PERL_MM_USE_DEFAULT="1"
    PERL_USE_UNSAFE_INC="1"
  @INC:
    /home/cpan/bin/perl/lib/site_perl/5.39.5/amd64-netbsd-thread-multi
    /home/cpan/bin/perl/lib/site_perl/5.39.5
    /home/cpan/bin/perl/lib/5.39.5/amd64-netbsd-thread-multi
    /home/cpan/bin/perl/lib/5.39.5
    .