Report for MooseX-RemoteHelper-0.001021

Back
From: metabase:user:314402c4-2aae-11df-837a-5e0a49663a4f
Subject: PASS MooseX-RemoteHelper-0.001021 v5.25.10 GNU/Linux
Date: 2017-03-09T21:05:39Z

This distribution has been tested as part of the CPAN Testers
project, supporting the Perl programming language.  See
http://wiki.cpantesters.org/ for more information or email
questions to cpan-testers-discuss@perl.org


--
Dear Caleb Cushing,

This is a computer-generated report for MooseX-RemoteHelper-0.001021
on perl 5.25.10, created by CPAN-Reporter-1.2018.

Thank you for uploading your work to CPAN.  Congratulations!
All tests were successful.

Sections of this report:

    * Tester comments
    * Program output
    * Prerequisites
    * Environment and other context

------------------------------
TESTER COMMENTS
------------------------------

Additional comments from tester:

none provided

------------------------------
PROGRAM OUTPUT
------------------------------

Output from '/usr/bin/make test':

PERL_DL_NONLAZY=1 "/opt/perl-5.25.10/bin/perl5.25.10" "-MExtUtils::Command::MM" "-MTest::Harness" "-e" "undef *Test::Harness::Switches; test_harness(0, 'blib/lib', 'blib/arch')" t/*.t
t/00-compile.t .................. ok
# 
# 
# Generated by Dist::Zilla::Plugin::ReportVersions::Tiny v1.10
# perl: 5.025010 (wanted 5.008) on linux from /opt/perl-5.25.10/bin/perl5.25.10
# 
# ExtUtils::MakeMaker                           => 7.24       (want 6.30)   
# File::Spec                                    => 3.66       (want any version)
# IO::Handle                                    => 1.36       (want any version)
# IPC::Open3                                    => 1.20       (want any version)
# Moose                                         => 2.2004     (want 2)      
# Moose::Exporter                               => 2.2004     (want any version)
# Moose::Role                                   => 2.2004     (want any version)
# MooseX::Aliases                               => 0.11       (want any version)
# MooseX::Types                                 => 0.50       (want any version)
# MooseX::Types::Moose                          => 0.50       (want any version)
# MooseX::UndefTolerant                         => 0.21       (want any version)
# Safe::Isa                                     => 1.000006   (want any version)
# Test::Method                                  => 0.001002   (want any version)
# Test::Moose                                   => 2.2004     (want any version)
# Test::More                                    => 1.302078   (want 0.88)   
# Test::Requires                                => 0.10       (want any version)
# namespace::autoclean                          => 0.28       (want any version)
# strict                                        => 1.11       (want any version)
# warnings                                      => 1.37       (want any version)
# 
# Thanks for using my code.  I hope it works for you.
# If not, please try and include this output in the bug report.
# That will help me reproduce the issue and solve your problem.
# 
t/000-report-versions-tiny.t .... ok
t/apply-trait.t ................. ok
t/author-critic.t ............... skipped: these tests are for testing by the author
t/author-pod-spell.t ............ skipped: these tests are for testing by the author
t/author-test-eol.t ............. skipped: these tests are for testing by the author
t/composite-array-of-objects.t .. ok
t/composite.t ................... ok
t/false_init_arg.t .............. ok
t/immutable.t ................... ok
t/init_args.t ................... ok
t/message-part.t ................ ok
t/mx-aliases.t .................. ok
t/release-cpan-changes.t ........ skipped: these tests are for release candidate testing
t/release-dist-manifest.t ....... skipped: these tests are for release candidate testing
t/release-distmeta.t ............ skipped: these tests are for release candidate testing
t/release-meta-json.t ........... skipped: these tests are for release candidate testing
t/release-minimum-version.t ..... skipped: these tests are for release candidate testing
t/release-mojibake.t ............ skipped: these tests are for release candidate testing
t/release-pod-coverage.t ........ skipped: these tests are for release candidate testing
t/release-pod-linkcheck.t ....... skipped: these tests are for release candidate testing
t/release-pod-syntax.t .......... skipped: these tests are for release candidate testing
t/release-portability.t ......... skipped: these tests are for release candidate testing
t/release-synopsis.t ............ skipped: these tests are for release candidate testing
t/release-test-version.t ........ skipped: these tests are for release candidate testing
t/release-unused-vars.t ......... skipped: these tests are for release candidate testing
t/role.t ........................ ok
t/serializer.t .................. ok
t/types.t ....................... ok
All tests successful.
Files=29, Tests=78,  9 wallclock secs ( 0.11 usr  0.04 sys +  8.16 cusr  1.11 csys =  9.42 CPU)
Result: PASS

------------------------------
PREREQUISITES
------------------------------

Prerequisite modules loaded:

requires:

    Module                Need Have    
    --------------------- ---- --------
    Moose                 2    2.2004  
    Moose::Exporter       0    2.2004  
    Moose::Role           0    2.2004  
    MooseX::Types         0    0.50    
    MooseX::Types::Moose  0    0.50    
    MooseX::UndefTolerant 0    0.21    
    namespace::autoclean  0    0.28    
    Safe::Isa             0    1.000006
    strict                0    1.11    
    warnings              0    1.37    

build_requires:

    Module                Need Have    
    --------------------- ---- --------
    File::Spec            0    3.66    
    IO::Handle            0    1.36    
    IPC::Open3            0    1.20    
    MooseX::Aliases       0    0.11    
    Test::Method          0    0.001002
    Test::Moose           0    2.2004  
    Test::More            0.88 1.302078
    Test::Requires        0    0.10    

configure_requires:

    Module                Need Have    
    --------------------- ---- --------
    ExtUtils::MakeMaker   6.30 7.24    


------------------------------
ENVIRONMENT AND OTHER CONTEXT
------------------------------

Environment variables:

    LANG = en_US.UTF-8
    PATH = /usr/local/bin:/usr/bin:/bin:/usr/local/sbin:/usr/sbin:/sbin:/home/cpansand/bin/linux-gnu:/home/cpansand/bin/sh:/home/cpansand/bin:/usr/games:/home/cpansand/devel:/home/eserte/src/srezic-misc/scripts
    PERL5LIB = /home/cpansand/.cpan/build/2017030921/Test-Method-0.001002-4/blib/arch:/home/cpansand/.cpan/build/2017030921/Test-Method-0.001002-4/blib/lib:/home/cpansand/.cpan/build/2017030921/MooseX-UndefTolerant-0.21-4/blib/arch:/home/cpansand/.cpan/build/2017030921/MooseX-UndefTolerant-0.21-4/blib/lib:/home/cpansand/.cpan/build/2017030921/File-ShareDir-ProjectDistDir-1.000009-0/blib/arch:/home/cpansand/.cpan/build/2017030921/File-ShareDir-ProjectDistDir-1.000009-0/blib/lib:/home/cpansand/.cpan/build/2017030921/Path-FindDev-0.5.2-0/blib/arch:/home/cpansand/.cpan/build/2017030921/Path-FindDev-0.5.2-0/blib/lib:/home/cpansand/.cpan/build/2017030921/Path-IsDev-1.001002-0/blib/arch:/home/cpansand/.cpan/build/2017030921/Path-IsDev-1.001002-0/blib/lib:/home/cpansand/.cpan/build/2017030921/Business-CreditCard-0.36-4/blib/arch:/home/cpansand/.cpan/build/2017030921/Business-CreditCard-0.36-4/blib/lib
    PERL5OPT = 
    PERL5_CPANPLUS_IS_RUNNING = 16737
    PERL5_CPAN_IS_RUNNING = 16737
    PERL5_CPAN_IS_RUNNING_IN_RECURSION = 16686,16737
    PERLDOC = -MPod::Perldoc::ToTextOverstrike
    PERL_BATCH = yes
    PERL_CANARY_STABILITY_NOPROMPT = 1
    PERL_CPAN_REPORTER_CONFIG = /var/tmp/cpansmoker-1002/2017030921/cpanreporter_000_config.ini
    PERL_EXTUTILS_AUTOINSTALL = --defaultdeps
    SHELL = /bin/zsh
    TERM = screen
    TMPDIR = /var/tmp/cpansmoker-1002/2017030921

Perl special variables (and OS-specific diagnostics, for MSWin32):

    $^X = /opt/perl-5.25.10/bin/perl5.25.10
    $UID/$EUID = 1002 / 1002
    $GID = 1002 1002
    $EGID = 1002 1002

Perl module toolchain versions installed:

    Module              Have      
    ------------------- ----------
    CPAN                2.16      
    CPAN::Meta          2.150010  
    Cwd                 3.66      
    ExtUtils::CBuilder  0.280225  
    ExtUtils::Command   7.24      
    ExtUtils::Install   2.04      
    ExtUtils::MakeMaker 7.24      
    ExtUtils::Manifest  1.70      
    ExtUtils::ParseXS   3.33      
    File::Spec          3.66      
    JSON                2.90      
    JSON::PP            2.27400_02
    Module::Build       0.4220    
    Module::Signature   0.81      
    Parse::CPAN::Meta   2.150010  
    Test::Harness       3.36_01   
    Test::More          1.302078  
    YAML                1.23      
    YAML::Syck          1.29      
    version             0.9917    


--

Summary of my perl5 (revision 5 version 25 subversion 10) configuration:
   
  Platform:
    osname=linux
    osvers=3.10.0-514.6.2.el7.x86_64
    archname=x86_64-linux
    uname='linux prod5 3.10.0-514.6.2.el7.x86_64 #1 smp thu feb 23 03:04:39 utc 2017 x86_64 x86_64 x86_64 gnulinux '
    config_args='-ds -e -Dprefix=/opt/perl-5.25.10 -Dusedevel -Dusemallocwrap=no -Dcf_email=srezic@cpan.org'
    hint=recommended
    useposix=true
    d_sigaction=define
    useithreads=undef
    usemultiplicity=undef
    use64bitint=define
    use64bitall=define
    uselongdouble=undef
    usemymalloc=n
    bincompat5005=undef
  Compiler:
    cc='cc'
    ccflags ='-fwrapv -fno-strict-aliasing -pipe -fstack-protector-strong -I/usr/local/include -D_LARGEFILE_SOURCE -D_FILE_OFFSET_BITS=64 -D_FORTIFY_SOURCE=2'
    optimize='-O2'
    cppflags='-fwrapv -fno-strict-aliasing -pipe -fstack-protector-strong -I/usr/local/include'
    ccversion=''
    gccversion='4.8.5 20150623 (Red Hat 4.8.5-11)'
    gccosandvers=''
    intsize=4
    longsize=8
    ptrsize=8
    doublesize=8
    byteorder=12345678
    doublekind=3
    d_longlong=define
    longlongsize=8
    d_longdbl=define
    longdblsize=16
    longdblkind=3
    ivtype='long'
    ivsize=8
    nvtype='double'
    nvsize=8
    Off_t='off_t'
    lseeksize=8
    alignbytes=8
    prototype=define
  Linker and Libraries:
    ld='cc'
    ldflags =' -fstack-protector-strong -L/usr/local/lib'
    libpth=/usr/local/lib /usr/lib /lib/../lib64 /usr/lib/../lib64 /lib /lib64 /usr/lib64 /usr/local/lib64
    libs=-lpthread -lnsl -lgdbm -ldb -ldl -lm -lcrypt -lutil -lc -lgdbm_compat
    perllibs=-lpthread -lnsl -ldl -lm -lcrypt -lutil -lc
    libc=libc-2.17.so
    so=so
    useshrplib=false
    libperl=libperl.a
    gnulibc_version='2.17'
  Dynamic Linking:
    dlsrc=dl_dlopen.xs
    dlext=so
    d_dlsymun=undef
    ccdlflags='-Wl,-E'
    cccdlflags='-fPIC'
    lddlflags='-shared -O2 -L/usr/local/lib -fstack-protector-strong'


Characteristics of this binary (from libperl): 
  Compile-time options:
    HAS_TIMES
    PERLIO_LAYERS
    PERL_COPY_ON_WRITE
    PERL_DONT_CREATE_GVSV
    PERL_OP_PARENT
    PERL_PRESERVE_IVUV
    PERL_USE_DEVEL
    USE_64_BIT_ALL
    USE_64_BIT_INT
    USE_LARGE_FILES
    USE_LOCALE
    USE_LOCALE_COLLATE
    USE_LOCALE_CTYPE
    USE_LOCALE_NUMERIC
    USE_LOCALE_TIME
    USE_PERLIO
    USE_PERL_ATOF
  Built under linux
  Compiled at Feb 23 2017 20:26:24
  %ENV:
    PERL5LIB="/home/cpansand/.cpan/build/2017030921/Test-Method-0.001002-4/blib/arch:/home/cpansand/.cpan/build/2017030921/Test-Method-0.001002-4/blib/lib:/home/cpansand/.cpan/build/2017030921/MooseX-UndefTolerant-0.21-4/blib/arch:/home/cpansand/.cpan/build/2017030921/MooseX-UndefTolerant-0.21-4/blib/lib:/home/cpansand/.cpan/build/2017030921/File-ShareDir-ProjectDistDir-1.000009-0/blib/arch:/home/cpansand/.cpan/build/2017030921/File-ShareDir-ProjectDistDir-1.000009-0/blib/lib:/home/cpansand/.cpan/build/2017030921/Path-FindDev-0.5.2-0/blib/arch:/home/cpansand/.cpan/build/2017030921/Path-FindDev-0.5.2-0/blib/lib:/home/cpansand/.cpan/build/2017030921/Path-IsDev-1.001002-0/blib/arch:/home/cpansand/.cpan/build/2017030921/Path-IsDev-1.001002-0/blib/lib:/home/cpansand/.cpan/build/2017030921/Business-CreditCard-0.36-4/blib/arch:/home/cpansand/.cpan/build/2017030921/Business-CreditCard-0.36-4/blib/lib"
    PERL5OPT=""
    PERL5_CPANPLUS_IS_RUNNING="16737"
    PERL5_CPAN_IS_RUNNING="16737"
    PERL5_CPAN_IS_RUNNING_IN_RECURSION="16686,16737"
    PERLDOC="-MPod::Perldoc::ToTextOverstrike"
    PERL_BATCH="yes"
    PERL_CANARY_STABILITY_NOPROMPT="1"
    PERL_CPAN_REPORTER_CONFIG="/var/tmp/cpansmoker-1002/2017030921/cpanreporter_000_config.ini"
    PERL_EXTUTILS_AUTOINSTALL="--defaultdeps"
  @INC:
    /home/cpansand/.cpan/build/2017030921/Test-Method-0.001002-4/blib/arch
    /home/cpansand/.cpan/build/2017030921/Test-Method-0.001002-4/blib/lib
    /home/cpansand/.cpan/build/2017030921/MooseX-UndefTolerant-0.21-4/blib/arch
    /home/cpansand/.cpan/build/2017030921/MooseX-UndefTolerant-0.21-4/blib/lib
    /home/cpansand/.cpan/build/2017030921/File-ShareDir-ProjectDistDir-1.000009-0/blib/arch
    /home/cpansand/.cpan/build/2017030921/File-ShareDir-ProjectDistDir-1.000009-0/blib/lib
    /home/cpansand/.cpan/build/2017030921/Path-FindDev-0.5.2-0/blib/arch
    /home/cpansand/.cpan/build/2017030921/Path-FindDev-0.5.2-0/blib/lib
    /home/cpansand/.cpan/build/2017030921/Path-IsDev-1.001002-0/blib/arch
    /home/cpansand/.cpan/build/2017030921/Path-IsDev-1.001002-0/blib/lib
    /home/cpansand/.cpan/build/2017030921/Business-CreditCard-0.36-4/blib/arch
    /home/cpansand/.cpan/build/2017030921/Business-CreditCard-0.36-4/blib/lib
    /opt/perl-5.25.10/lib/site_perl/5.25.10/x86_64-linux
    /opt/perl-5.25.10/lib/site_perl/5.25.10
    /opt/perl-5.25.10/lib/5.25.10/x86_64-linux
    /opt/perl-5.25.10/lib/5.25.10
    .