DBIx-QueryLog v0.42 Perl 5 v5.26.0 amd64-freebsd

Status
Pass
From
Slaven Rezić (SREZIC)
Dist
DBIx-QueryLog v0.42
Platform
Perl 5 v5.26.0 amd64-freebsd
Date
2019-02-01 18:14:01
ID
266d084c-264d-11e9-a805-937d7d11c9d1
This distribution has been tested as part of the CPAN Testers
project, supporting the Perl programming language.  See
http://wiki.cpantesters.org/ for more information or email
questions to cpan-testers-discuss@perl.org


--
Dear Yuji Shimada,

This is a computer-generated report for DBIx-QueryLog-0.42
on perl 5.26.0, created by CPAN-Reporter-1.2018.

Thank you for uploading your work to CPAN.  Congratulations!
All tests were successful.

Sections of this report:

    * Tester comments
    * Program output
    * Prerequisites
    * Environment and other context

------------------------------
TESTER COMMENTS
------------------------------

Additional comments from tester:

none provided

------------------------------
PROGRAM OUTPUT
------------------------------

Output from './Build test':

t/00_compile.t ................ ok
t/01_accessors.t .............. ok
t/10_simple.t ................. ok
t/11_bind.t ................... ok
t/12_skip_bind.t .............. ok
t/13_threshold.t .............. ok
t/14_probability.t ............ ok
t/15_selectrow_array.t ........ ok
t/16_multi_line.t ............. ok
t/18_bind_param.t ............. ok
t/20_localizetion.t ........... ok
t/21_guard.t .................. ok
t/22_ignore_trace.t ........... ok
t/23_do_explain.t ............. ok
t/30_logger.t ................. ok
t/31_output.t ................. ok
t/32_color.t .................. ok
t/33_useqq.t .................. ok
t/34_compact.t ................ ok
t/35_useqq_and_compact.t ...... ok
t/36_show_data_srouce.t ....... ok
t/90_alias.t .................. ok
t/99_regression_sqlite_148.t .. ok
t/mysql/01_simple.t ........... skipped: could not find mysqld, please set appropriate PATH
t/mysql/02_bind.t ............. skipped: could not find mysqld, please set appropriate PATH
t/mysql/10_do.t ............... skipped: could not find mysqld, please set appropriate PATH
t/mysql/11_do_dind.t .......... skipped: could not find mysqld, please set appropriate PATH
t/mysql/12_do_skip_bind.t ..... skipped: could not find mysqld, please set appropriate PATH
t/mysql/13_do_probability.t ... skipped: could not find mysqld, please set appropriate PATH
t/mysql/14_do_logger.t ........ skipped: could not find mysqld, please set appropriate PATH
t/mysql/15_selectrow_array.t .. skipped: could not find mysqld, please set appropriate PATH
t/mysql/16_multi_line.t ....... skipped: could not find mysqld, please set appropriate PATH
t/mysql/17_limit.t ............ skipped: could not find mysqld, please set appropriate PATH
t/mysql/18_bind_param.t ....... skipped: could not find mysqld, please set appropriate PATH
t/mysql/19_bind_with_type.t ... skipped: could not find mysqld, please set appropriate PATH
t/mysql/20_reuse_sql_type.t ... skipped: could not find mysqld, please set appropriate PATH
t/mysql/21_do_explain.t ....... skipped: could not find mysqld, please set appropriate PATH
FATAL:  konnte Shared-Memory-Segment nicht erzeugen: Kein Platz mehr auf dem Gerät
DETAIL:  Fehlgeschlagener Systemaufruf war shmget(Key=1, Größe=40, 03600).
TIPP:  Dieser Fehler bedeutet *nicht*, dass kein Platz mehr auf der Festplatte ist.  Er tritt auf, wenn entweder alle verfügbaren Shared-Memory-IDs aufgebraucht sind, dann müssen den Kernelparameter SHMMNI erhöhen, oder weil die Systemhöchstgrenze für Shared Memory insgesamt erreicht wurde.
	Die PostgreSQL-Dokumentation enthält weitere Informationen über die Konfiguration von Shared Memory.
child process exited with exit code 1
initdb: removing data directory "/var/tmp/cpansmoker-1023/2019020119/pgtest.xnrEt/data"
pg_ctl: Initialisierung des Datenbanksystems fehlgeschlagen
pg_ctl: konnte Server nicht starten
Prüfen Sie die Logausgabe.
pg_ctl: konnte Server nicht starten
Prüfen Sie die Logausgabe.
pg_ctl: konnte Server nicht starten
Prüfen Sie die Logausgabe.
pg_ctl: konnte Server nicht starten
Prüfen Sie die Logausgabe.
pg_ctl: konnte Server nicht starten
Prüfen Sie die Logausgabe.
pg_ctl: konnte Server nicht starten
Prüfen Sie die Logausgabe.
pg_ctl: konnte Server nicht starten
Prüfen Sie die Logausgabe.
pg_ctl: konnte Server nicht starten
Prüfen Sie die Logausgabe.
pg_ctl: konnte Server nicht starten
Prüfen Sie die Logausgabe.
pg_ctl: konnte Server nicht starten
Prüfen Sie die Logausgabe.
pg_ctl: konnte Server nicht starten
Prüfen Sie die Logausgabe.
t/pg/01_simple.t .............. skipped: failed setup_postgresql
FATAL:  konnte Shared-Memory-Segment nicht erzeugen: Kein Platz mehr auf dem Gerät
DETAIL:  Fehlgeschlagener Systemaufruf war shmget(Key=1, Größe=40, 03600).
TIPP:  Dieser Fehler bedeutet *nicht*, dass kein Platz mehr auf der Festplatte ist.  Er tritt auf, wenn entweder alle verfügbaren Shared-Memory-IDs aufgebraucht sind, dann müssen den Kernelparameter SHMMNI erhöhen, oder weil die Systemhöchstgrenze für Shared Memory insgesamt erreicht wurde.
	Die PostgreSQL-Dokumentation enthält weitere Informationen über die Konfiguration von Shared Memory.
child process exited with exit code 1
initdb: removing data directory "/var/tmp/cpansmoker-1023/2019020119/pgtest.0P0gi/data"
pg_ctl: Initialisierung des Datenbanksystems fehlgeschlagen
pg_ctl: konnte Server nicht starten
Prüfen Sie die Logausgabe.
pg_ctl: konnte Server nicht starten
Prüfen Sie die Logausgabe.
pg_ctl: konnte Server nicht starten
Prüfen Sie die Logausgabe.
pg_ctl: konnte Server nicht starten
Prüfen Sie die Logausgabe.
pg_ctl: konnte Server nicht starten
Prüfen Sie die Logausgabe.
pg_ctl: konnte Server nicht starten
Prüfen Sie die Logausgabe.
pg_ctl: konnte Server nicht starten
Prüfen Sie die Logausgabe.
pg_ctl: konnte Server nicht starten
Prüfen Sie die Logausgabe.
pg_ctl: konnte Server nicht starten
Prüfen Sie die Logausgabe.
pg_ctl: konnte Server nicht starten
Prüfen Sie die Logausgabe.
pg_ctl: konnte Server nicht starten
Prüfen Sie die Logausgabe.
t/pg/02_bind.t ................ skipped: failed setup_postgresql
FATAL:  konnte Shared-Memory-Segment nicht erzeugen: Kein Platz mehr auf dem Gerät
DETAIL:  Fehlgeschlagener Systemaufruf war shmget(Key=1, Größe=40, 03600).
TIPP:  Dieser Fehler bedeutet *nicht*, dass kein Platz mehr auf der Festplatte ist.  Er tritt auf, wenn entweder alle verfügbaren Shared-Memory-IDs aufgebraucht sind, dann müssen den Kernelparameter SHMMNI erhöhen, oder weil die Systemhöchstgrenze für Shared Memory insgesamt erreicht wurde.
	Die PostgreSQL-Dokumentation enthält weitere Informationen über die Konfiguration von Shared Memory.
child process exited with exit code 1
initdb: removing data directory "/var/tmp/cpansmoker-1023/2019020119/pgtest.qMA5u/data"
pg_ctl: Initialisierung des Datenbanksystems fehlgeschlagen
pg_ctl: konnte Server nicht starten
Prüfen Sie die Logausgabe.
pg_ctl: konnte Server nicht starten
Prüfen Sie die Logausgabe.
pg_ctl: konnte Server nicht starten
Prüfen Sie die Logausgabe.
pg_ctl: konnte Server nicht starten
Prüfen Sie die Logausgabe.
pg_ctl: konnte Server nicht starten
Prüfen Sie die Logausgabe.
pg_ctl: konnte Server nicht starten
Prüfen Sie die Logausgabe.
pg_ctl: konnte Server nicht starten
Prüfen Sie die Logausgabe.
pg_ctl: konnte Server nicht starten
Prüfen Sie die Logausgabe.
pg_ctl: konnte Server nicht starten
Prüfen Sie die Logausgabe.
pg_ctl: konnte Server nicht starten
Prüfen Sie die Logausgabe.
pg_ctl: konnte Server nicht starten
Prüfen Sie die Logausgabe.
t/pg/10_do.t .................. skipped: failed setup_postgresql
FATAL:  konnte Shared-Memory-Segment nicht erzeugen: Kein Platz mehr auf dem Gerät
DETAIL:  Fehlgeschlagener Systemaufruf war shmget(Key=1, Größe=40, 03600).
TIPP:  Dieser Fehler bedeutet *nicht*, dass kein Platz mehr auf der Festplatte ist.  Er tritt auf, wenn entweder alle verfügbaren Shared-Memory-IDs aufgebraucht sind, dann müssen den Kernelparameter SHMMNI erhöhen, oder weil die Systemhöchstgrenze für Shared Memory insgesamt erreicht wurde.
	Die PostgreSQL-Dokumentation enthält weitere Informationen über die Konfiguration von Shared Memory.
child process exited with exit code 1
initdb: removing data directory "/var/tmp/cpansmoker-1023/2019020119/pgtest.Solis/data"
pg_ctl: Initialisierung des Datenbanksystems fehlgeschlagen
pg_ctl: konnte Server nicht starten
Prüfen Sie die Logausgabe.
pg_ctl: konnte Server nicht starten
Prüfen Sie die Logausgabe.
pg_ctl: konnte Server nicht starten
Prüfen Sie die Logausgabe.
pg_ctl: konnte Server nicht starten
Prüfen Sie die Logausgabe.
pg_ctl: konnte Server nicht starten
Prüfen Sie die Logausgabe.
pg_ctl: konnte Server nicht starten
Prüfen Sie die Logausgabe.
pg_ctl: konnte Server nicht starten
Prüfen Sie die Logausgabe.
pg_ctl: konnte Server nicht starten
Prüfen Sie die Logausgabe.
pg_ctl: konnte Server nicht starten
Prüfen Sie die Logausgabe.
pg_ctl: konnte Server nicht starten
Prüfen Sie die Logausgabe.
pg_ctl: konnte Server nicht starten
Prüfen Sie die Logausgabe.
t/pg/11_do_dind.t ............. skipped: failed setup_postgresql
FATAL:  konnte Shared-Memory-Segment nicht erzeugen: Kein Platz mehr auf dem Gerät
DETAIL:  Fehlgeschlagener Systemaufruf war shmget(Key=1, Größe=40, 03600).
TIPP:  Dieser Fehler bedeutet *nicht*, dass kein Platz mehr auf der Festplatte ist.  Er tritt auf, wenn entweder alle verfügbaren Shared-Memory-IDs aufgebraucht sind, dann müssen den Kernelparameter SHMMNI erhöhen, oder weil die Systemhöchstgrenze für Shared Memory insgesamt erreicht wurde.
	Die PostgreSQL-Dokumentation enthält weitere Informationen über die Konfiguration von Shared Memory.
child process exited with exit code 1
initdb: removing data directory "/var/tmp/cpansmoker-1023/2019020119/pgtest.Kj6g7/data"
pg_ctl: Initialisierung des Datenbanksystems fehlgeschlagen
pg_ctl: konnte Server nicht starten
Prüfen Sie die Logausgabe.
pg_ctl: konnte Server nicht starten
Prüfen Sie die Logausgabe.
pg_ctl: konnte Server nicht starten
Prüfen Sie die Logausgabe.
pg_ctl: konnte Server nicht starten
Prüfen Sie die Logausgabe.
pg_ctl: konnte Server nicht starten
Prüfen Sie die Logausgabe.
pg_ctl: konnte Server nicht starten
Prüfen Sie die Logausgabe.
pg_ctl: konnte Server nicht starten
Prüfen Sie die Logausgabe.
pg_ctl: konnte Server nicht starten
Prüfen Sie die Logausgabe.
pg_ctl: konnte Server nicht starten
Prüfen Sie die Logausgabe.
pg_ctl: konnte Server nicht starten
Prüfen Sie die Logausgabe.
pg_ctl: konnte Server nicht starten
Prüfen Sie die Logausgabe.
t/pg/12_do_skip_bind.t ........ skipped: failed setup_postgresql
FATAL:  konnte Shared-Memory-Segment nicht erzeugen: Kein Platz mehr auf dem Gerät
DETAIL:  Fehlgeschlagener Systemaufruf war shmget(Key=1, Größe=40, 03600).
TIPP:  Dieser Fehler bedeutet *nicht*, dass kein Platz mehr auf der Festplatte ist.  Er tritt auf, wenn entweder alle verfügbaren Shared-Memory-IDs aufgebraucht sind, dann müssen den Kernelparameter SHMMNI erhöhen, oder weil die Systemhöchstgrenze für Shared Memory insgesamt erreicht wurde.
	Die PostgreSQL-Dokumentation enthält weitere Informationen über die Konfiguration von Shared Memory.
child process exited with exit code 1
initdb: removing data directory "/var/tmp/cpansmoker-1023/2019020119/pgtest.GM5Nd/data"
pg_ctl: Initialisierung des Datenbanksystems fehlgeschlagen
pg_ctl: konnte Server nicht starten
Prüfen Sie die Logausgabe.
pg_ctl: konnte Server nicht starten
Prüfen Sie die Logausgabe.
pg_ctl: konnte Server nicht starten
Prüfen Sie die Logausgabe.
pg_ctl: konnte Server nicht starten
Prüfen Sie die Logausgabe.
pg_ctl: konnte Server nicht starten
Prüfen Sie die Logausgabe.
pg_ctl: konnte Server nicht starten
Prüfen Sie die Logausgabe.
pg_ctl: konnte Server nicht starten
Prüfen Sie die Logausgabe.
pg_ctl: konnte Server nicht starten
Prüfen Sie die Logausgabe.
pg_ctl: konnte Server nicht starten
Prüfen Sie die Logausgabe.
pg_ctl: konnte Server nicht starten
Prüfen Sie die Logausgabe.
pg_ctl: konnte Server nicht starten
Prüfen Sie die Logausgabe.
t/pg/13_do_probability.t ...... skipped: failed setup_postgresql
FATAL:  konnte Shared-Memory-Segment nicht erzeugen: Kein Platz mehr auf dem Gerät
DETAIL:  Fehlgeschlagener Systemaufruf war shmget(Key=1, Größe=40, 03600).
TIPP:  Dieser Fehler bedeutet *nicht*, dass kein Platz mehr auf der Festplatte ist.  Er tritt auf, wenn entweder alle verfügbaren Shared-Memory-IDs aufgebraucht sind, dann müssen den Kernelparameter SHMMNI erhöhen, oder weil die Systemhöchstgrenze für Shared Memory insgesamt erreicht wurde.
	Die PostgreSQL-Dokumentation enthält weitere Informationen über die Konfiguration von Shared Memory.
child process exited with exit code 1
initdb: removing data directory "/var/tmp/cpansmoker-1023/2019020119/pgtest.SZl3L/data"
pg_ctl: Initialisierung des Datenbanksystems fehlgeschlagen
pg_ctl: konnte Server nicht starten
Prüfen Sie die Logausgabe.
pg_ctl: konnte Server nicht starten
Prüfen Sie die Logausgabe.
pg_ctl: konnte Server nicht starten
Prüfen Sie die Logausgabe.
pg_ctl: konnte Server nicht starten
Prüfen Sie die Logausgabe.
pg_ctl: konnte Server nicht starten
Prüfen Sie die Logausgabe.
pg_ctl: konnte Server nicht starten
Prüfen Sie die Logausgabe.
pg_ctl: konnte Server nicht starten
Prüfen Sie die Logausgabe.
pg_ctl: konnte Server nicht starten
Prüfen Sie die Logausgabe.
pg_ctl: konnte Server nicht starten
Prüfen Sie die Logausgabe.
pg_ctl: konnte Server nicht starten
Prüfen Sie die Logausgabe.
pg_ctl: konnte Server nicht starten
Prüfen Sie die Logausgabe.
t/pg/14_do_logger.t ........... skipped: failed setup_postgresql
FATAL:  konnte Shared-Memory-Segment nicht erzeugen: Kein Platz mehr auf dem Gerät
DETAIL:  Fehlgeschlagener Systemaufruf war shmget(Key=1, Größe=40, 03600).
TIPP:  Dieser Fehler bedeutet *nicht*, dass kein Platz mehr auf der Festplatte ist.  Er tritt auf, wenn entweder alle verfügbaren Shared-Memory-IDs aufgebraucht sind, dann müssen den Kernelparameter SHMMNI erhöhen, oder weil die Systemhöchstgrenze für Shared Memory insgesamt erreicht wurde.
	Die PostgreSQL-Dokumentation enthält weitere Informationen über die Konfiguration von Shared Memory.
child process exited with exit code 1
initdb: removing data directory "/var/tmp/cpansmoker-1023/2019020119/pgtest.LAEQ3/data"
pg_ctl: Initialisierung des Datenbanksystems fehlgeschlagen
pg_ctl: konnte Server nicht starten
Prüfen Sie die Logausgabe.
pg_ctl: konnte Server nicht starten
Prüfen Sie die Logausgabe.
pg_ctl: konnte Server nicht starten
Prüfen Sie die Logausgabe.
pg_ctl: konnte Server nicht starten
Prüfen Sie die Logausgabe.
pg_ctl: konnte Server nicht starten
Prüfen Sie die Logausgabe.
pg_ctl: konnte Server nicht starten
Prüfen Sie die Logausgabe.
pg_ctl: konnte Server nicht starten
Prüfen Sie die Logausgabe.
pg_ctl: konnte Server nicht starten
Prüfen Sie die Logausgabe.
pg_ctl: konnte Server nicht starten
Prüfen Sie die Logausgabe.
pg_ctl: konnte Server nicht starten
Prüfen Sie die Logausgabe.
pg_ctl: konnte Server nicht starten
Prüfen Sie die Logausgabe.
t/pg/15_selectrow_array.t ..... skipped: failed setup_postgresql
FATAL:  konnte Shared-Memory-Segment nicht erzeugen: Kein Platz mehr auf dem Gerät
DETAIL:  Fehlgeschlagener Systemaufruf war shmget(Key=1, Größe=40, 03600).
TIPP:  Dieser Fehler bedeutet *nicht*, dass kein Platz mehr auf der Festplatte ist.  Er tritt auf, wenn entweder alle verfügbaren Shared-Memory-IDs aufgebraucht sind, dann müssen den Kernelparameter SHMMNI erhöhen, oder weil die Systemhöchstgrenze für Shared Memory insgesamt erreicht wurde.
	Die PostgreSQL-Dokumentation enthält weitere Informationen über die Konfiguration von Shared Memory.
child process exited with exit code 1
initdb: removing data directory "/var/tmp/cpansmoker-1023/2019020119/pgtest.AzOw_/data"
pg_ctl: Initialisierung des Datenbanksystems fehlgeschlagen
pg_ctl: konnte Server nicht starten
Prüfen Sie die Logausgabe.
pg_ctl: konnte Server nicht starten
Prüfen Sie die Logausgabe.
pg_ctl: konnte Server nicht starten
Prüfen Sie die Logausgabe.
pg_ctl: konnte Server nicht starten
Prüfen Sie die Logausgabe.
pg_ctl: konnte Server nicht starten
Prüfen Sie die Logausgabe.
pg_ctl: konnte Server nicht starten
Prüfen Sie die Logausgabe.
pg_ctl: konnte Server nicht starten
Prüfen Sie die Logausgabe.
pg_ctl: konnte Server nicht starten
Prüfen Sie die Logausgabe.
pg_ctl: konnte Server nicht starten
Prüfen Sie die Logausgabe.
pg_ctl: konnte Server nicht starten
Prüfen Sie die Logausgabe.
pg_ctl: konnte Server nicht starten
Prüfen Sie die Logausgabe.
t/pg/16_multi_line.t .......... skipped: failed setup_postgresql
FATAL:  konnte Shared-Memory-Segment nicht erzeugen: Kein Platz mehr auf dem Gerät
DETAIL:  Fehlgeschlagener Systemaufruf war shmget(Key=1, Größe=40, 03600).
TIPP:  Dieser Fehler bedeutet *nicht*, dass kein Platz mehr auf der Festplatte ist.  Er tritt auf, wenn entweder alle verfügbaren Shared-Memory-IDs aufgebraucht sind, dann müssen den Kernelparameter SHMMNI erhöhen, oder weil die Systemhöchstgrenze für Shared Memory insgesamt erreicht wurde.
	Die PostgreSQL-Dokumentation enthält weitere Informationen über die Konfiguration von Shared Memory.
child process exited with exit code 1
initdb: removing data directory "/var/tmp/cpansmoker-1023/2019020119/pgtest.L7WNv/data"
pg_ctl: Initialisierung des Datenbanksystems fehlgeschlagen
pg_ctl: konnte Server nicht starten
Prüfen Sie die Logausgabe.
pg_ctl: konnte Server nicht starten
Prüfen Sie die Logausgabe.
pg_ctl: konnte Server nicht starten
Prüfen Sie die Logausgabe.
pg_ctl: konnte Server nicht starten
Prüfen Sie die Logausgabe.
pg_ctl: konnte Server nicht starten
Prüfen Sie die Logausgabe.
pg_ctl: konnte Server nicht starten
Prüfen Sie die Logausgabe.
pg_ctl: konnte Server nicht starten
Prüfen Sie die Logausgabe.
pg_ctl: konnte Server nicht starten
Prüfen Sie die Logausgabe.
pg_ctl: konnte Server nicht starten
Prüfen Sie die Logausgabe.
pg_ctl: konnte Server nicht starten
Prüfen Sie die Logausgabe.
pg_ctl: konnte Server nicht starten
Prüfen Sie die Logausgabe.
t/pg/17_limit.t ............... skipped: failed setup_postgresql
FATAL:  konnte Shared-Memory-Segment nicht erzeugen: Kein Platz mehr auf dem Gerät
DETAIL:  Fehlgeschlagener Systemaufruf war shmget(Key=1, Größe=40, 03600).
TIPP:  Dieser Fehler bedeutet *nicht*, dass kein Platz mehr auf der Festplatte ist.  Er tritt auf, wenn entweder alle verfügbaren Shared-Memory-IDs aufgebraucht sind, dann müssen den Kernelparameter SHMMNI erhöhen, oder weil die Systemhöchstgrenze für Shared Memory insgesamt erreicht wurde.
	Die PostgreSQL-Dokumentation enthält weitere Informationen über die Konfiguration von Shared Memory.
child process exited with exit code 1
initdb: removing data directory "/var/tmp/cpansmoker-1023/2019020119/pgtest.JUBip/data"
pg_ctl: Initialisierung des Datenbanksystems fehlgeschlagen
pg_ctl: konnte Server nicht starten
Prüfen Sie die Logausgabe.
pg_ctl: konnte Server nicht starten
Prüfen Sie die Logausgabe.
pg_ctl: konnte Server nicht starten
Prüfen Sie die Logausgabe.
pg_ctl: konnte Server nicht starten
Prüfen Sie die Logausgabe.
pg_ctl: konnte Server nicht starten
Prüfen Sie die Logausgabe.
pg_ctl: konnte Server nicht starten
Prüfen Sie die Logausgabe.
pg_ctl: konnte Server nicht starten
Prüfen Sie die Logausgabe.
pg_ctl: konnte Server nicht starten
Prüfen Sie die Logausgabe.
pg_ctl: konnte Server nicht starten
Prüfen Sie die Logausgabe.
pg_ctl: konnte Server nicht starten
Prüfen Sie die Logausgabe.
pg_ctl: konnte Server nicht starten
Prüfen Sie die Logausgabe.
t/pg/18_bind_param.t .......... skipped: failed setup_postgresql
FATAL:  konnte Shared-Memory-Segment nicht erzeugen: Kein Platz mehr auf dem Gerät
DETAIL:  Fehlgeschlagener Systemaufruf war shmget(Key=1, Größe=40, 03600).
TIPP:  Dieser Fehler bedeutet *nicht*, dass kein Platz mehr auf der Festplatte ist.  Er tritt auf, wenn entweder alle verfügbaren Shared-Memory-IDs aufgebraucht sind, dann müssen den Kernelparameter SHMMNI erhöhen, oder weil die Systemhöchstgrenze für Shared Memory insgesamt erreicht wurde.
	Die PostgreSQL-Dokumentation enthält weitere Informationen über die Konfiguration von Shared Memory.
child process exited with exit code 1
initdb: removing data directory "/var/tmp/cpansmoker-1023/2019020119/pgtest.PsTMY/data"
pg_ctl: Initialisierung des Datenbanksystems fehlgeschlagen
pg_ctl: konnte Server nicht starten
Prüfen Sie die Logausgabe.
pg_ctl: konnte Server nicht starten
Prüfen Sie die Logausgabe.
pg_ctl: konnte Server nicht starten
Prüfen Sie die Logausgabe.
pg_ctl: konnte Server nicht starten
Prüfen Sie die Logausgabe.
pg_ctl: konnte Server nicht starten
Prüfen Sie die Logausgabe.
pg_ctl: konnte Server nicht starten
Prüfen Sie die Logausgabe.
pg_ctl: konnte Server nicht starten
Prüfen Sie die Logausgabe.
pg_ctl: konnte Server nicht starten
Prüfen Sie die Logausgabe.
pg_ctl: konnte Server nicht starten
Prüfen Sie die Logausgabe.
pg_ctl: konnte Server nicht starten
Prüfen Sie die Logausgabe.
pg_ctl: konnte Server nicht starten
Prüfen Sie die Logausgabe.
t/pg/19_bind_with_type.t ...... skipped: failed setup_postgresql
FATAL:  konnte Shared-Memory-Segment nicht erzeugen: Kein Platz mehr auf dem Gerät
DETAIL:  Fehlgeschlagener Systemaufruf war shmget(Key=1, Größe=40, 03600).
TIPP:  Dieser Fehler bedeutet *nicht*, dass kein Platz mehr auf der Festplatte ist.  Er tritt auf, wenn entweder alle verfügbaren Shared-Memory-IDs aufgebraucht sind, dann müssen den Kernelparameter SHMMNI erhöhen, oder weil die Systemhöchstgrenze für Shared Memory insgesamt erreicht wurde.
	Die PostgreSQL-Dokumentation enthält weitere Informationen über die Konfiguration von Shared Memory.
child process exited with exit code 1
initdb: removing data directory "/var/tmp/cpansmoker-1023/2019020119/pgtest.jquOM/data"
pg_ctl: Initialisierung des Datenbanksystems fehlgeschlagen
pg_ctl: konnte Server nicht starten
Prüfen Sie die Logausgabe.
pg_ctl: konnte Server nicht starten
Prüfen Sie die Logausgabe.
pg_ctl: konnte Server nicht starten
Prüfen Sie die Logausgabe.
pg_ctl: konnte Server nicht starten
Prüfen Sie die Logausgabe.
pg_ctl: konnte Server nicht starten
Prüfen Sie die Logausgabe.
pg_ctl: konnte Server nicht starten
Prüfen Sie die Logausgabe.
pg_ctl: konnte Server nicht starten
Prüfen Sie die Logausgabe.
pg_ctl: konnte Server nicht starten
Prüfen Sie die Logausgabe.
pg_ctl: konnte Server nicht starten
Prüfen Sie die Logausgabe.
pg_ctl: konnte Server nicht starten
Prüfen Sie die Logausgabe.
pg_ctl: konnte Server nicht starten
Prüfen Sie die Logausgabe.
t/pg/20_reuse_sql_type.t ...... skipped: failed setup_postgresql
FATAL:  konnte Shared-Memory-Segment nicht erzeugen: Kein Platz mehr auf dem Gerät
DETAIL:  Fehlgeschlagener Systemaufruf war shmget(Key=1, Größe=40, 03600).
TIPP:  Dieser Fehler bedeutet *nicht*, dass kein Platz mehr auf der Festplatte ist.  Er tritt auf, wenn entweder alle verfügbaren Shared-Memory-IDs aufgebraucht sind, dann müssen den Kernelparameter SHMMNI erhöhen, oder weil die Systemhöchstgrenze für Shared Memory insgesamt erreicht wurde.
	Die PostgreSQL-Dokumentation enthält weitere Informationen über die Konfiguration von Shared Memory.
child process exited with exit code 1
initdb: removing data directory "/var/tmp/cpansmoker-1023/2019020119/pgtest.3LLF0/data"
pg_ctl: Initialisierung des Datenbanksystems fehlgeschlagen
pg_ctl: konnte Server nicht starten
Prüfen Sie die Logausgabe.
pg_ctl: konnte Server nicht starten
Prüfen Sie die Logausgabe.
pg_ctl: konnte Server nicht starten
Prüfen Sie die Logausgabe.
pg_ctl: konnte Server nicht starten
Prüfen Sie die Logausgabe.
pg_ctl: konnte Server nicht starten
Prüfen Sie die Logausgabe.
pg_ctl: konnte Server nicht starten
Prüfen Sie die Logausgabe.
pg_ctl: konnte Server nicht starten
Prüfen Sie die Logausgabe.
pg_ctl: konnte Server nicht starten
Prüfen Sie die Logausgabe.
pg_ctl: konnte Server nicht starten
Prüfen Sie die Logausgabe.
pg_ctl: konnte Server nicht starten
Prüfen Sie die Logausgabe.
pg_ctl: konnte Server nicht starten
Prüfen Sie die Logausgabe.
t/pg/21_do_explain.t .......... skipped: failed setup_postgresql
All tests successful.
Files=51, Tests=79, 171 wallclock secs ( 0.01 usr  0.23 sys +  1.64 cusr 11.91 csys = 13.79 CPU)
Result: PASS

------------------------------
PREREQUISITES
------------------------------

Prerequisite modules loaded:

requires:

    Module              Need     Have    
    ------------------- -------- --------
    Data::Dumper        0        2.173   
    DBI                 0        1.642   
    perl                5.008001 5.026000
    Term::ANSIColor     0        4.06    
    Text::ASCIITable    0        0.22    
    Time::HiRes         0        1.9758  

build_requires:

    Module              Need     Have    
    ------------------- -------- --------
    ExtUtils::MakeMaker 6.59     7.34    
    Test::More          0.96     1.302160
    Test::Requires      0        0.10    

configure_requires:

    Module              Need     Have    
    ------------------- -------- --------
    Module::Build::Tiny 0.035    0.039   


------------------------------
ENVIRONMENT AND OTHER CONTEXT
------------------------------

Environment variables:

    LC_ALL = de_DE.ISO8859-1
    PATH = /usr/local/bin:/usr/bin:/bin:/usr/local/sbin:/usr/sbin:/sbin:/home/cpansand/bin/freebsd10.3:/home/cpansand/bin/sh:/home/cpansand/bin:/usr/games:/home/cpansand/devel:/home/eserte/src/srezic-misc/scripts
    PERL5LIB = /home/cpansand/.cpan/build/2019020119/Getopt-Long-Less-0.090-2/blib/arch:/home/cpansand/.cpan/build/2019020119/Getopt-Long-Less-0.090-2/blib/lib
    PERL5OPT = 
    PERL5_CPANPLUS_IS_RUNNING = 91608
    PERL5_CPAN_IS_RUNNING = 91608
    PERL5_CPAN_IS_RUNNING_IN_RECURSION = 89618,91608
    PERLDOC = -MPod::Perldoc::ToTextOverstrike
    PERL_BATCH = yes
    PERL_CANARY_STABILITY_NOPROMPT = 1
    PERL_CPAN_REPORTER_CONFIG = /var/tmp/cpansmoker-1023/2019020119/cpanreporter_000_config.ini
    PERL_EXTUTILS_AUTOINSTALL = --defaultdeps
    PERL_USE_UNSAFE_INC = 1
    SHELL = /usr/local/bin/zsh
    TERM = screen
    TMPDIR = /var/tmp/cpansmoker-1023/2019020119

Perl special variables (and OS-specific diagnostics, for MSWin32):

    $^X = /usr/perl5.26.0p/bin/perl5.26.0
    $UID/$EUID = 1023 / 1023
    $GID = 1023 1023
    $EGID = 1023 1023

Perl module toolchain versions installed:

    Module              Have    
    ------------------- --------
    CPAN                2.18    
    CPAN::Meta          2.150010
    Cwd                 3.75    
    ExtUtils::CBuilder  0.280230
    ExtUtils::Command   7.34    
    ExtUtils::Install   2.14    
    ExtUtils::MakeMaker 7.34    
    ExtUtils::Manifest  1.70    
    ExtUtils::ParseXS   3.34    
    File::Spec          3.75    
    JSON                2.97001 
    JSON::PP            2.97001 
    Module::Build       0.4224  
    Module::Signature   0.83    
    Parse::CPAN::Meta   2.150010
    Test::Harness       3.42    
    Test::More          1.302160
    YAML                1.27    
    YAML::Syck          1.30    
    version             0.9922  


--

Summary of my perl5 (revision 5 version 26 subversion 0) configuration:
   
  Platform:
    osname=freebsd
    osvers=10.3-release-p11
    archname=amd64-freebsd
    uname='freebsd cvrsnica-freebsd-101.herceg.de 10.3-release-p11 freebsd 10.3-release-p11 #0: mon oct 24 18:49:24 utc 2016 root@amd64-builder.daemonology.net:usrobjusrsrcsysgeneric amd64 '
    config_args='-ds -e -Dprefix=/usr/perl5.26.0p -Dcf_email=srezic@cpan.org -Doptimize=-O2 -pipe'
    hint=recommended
    useposix=true
    d_sigaction=define
    useithreads=undef
    usemultiplicity=undef
    use64bitint=define
    use64bitall=define
    uselongdouble=undef
    usemymalloc=n
    default_inc_excludes_dot=define
    bincompat5005=undef
  Compiler:
    cc='cc'
    ccflags ='-DHAS_FPSETMASK -DHAS_FLOATINGPOINT_H -fno-strict-aliasing -pipe -fstack-protector -I/usr/local/include -D_FORTIFY_SOURCE=2'
    optimize='-O2 -pipe'
    cppflags='-DHAS_FPSETMASK -DHAS_FLOATINGPOINT_H -fno-strict-aliasing -pipe -fstack-protector -I/usr/local/include'
    ccversion=''
    gccversion='4.2.1 Compatible FreeBSD Clang 3.4.1 (tags/RELEASE_34/dot1-final 208032)'
    gccosandvers=''
    intsize=4
    longsize=8
    ptrsize=8
    doublesize=8
    byteorder=12345678
    doublekind=3
    d_longlong=define
    longlongsize=8
    d_longdbl=define
    longdblsize=16
    longdblkind=3
    ivtype='long'
    ivsize=8
    nvtype='double'
    nvsize=8
    Off_t='off_t'
    lseeksize=8
    alignbytes=8
    prototype=define
  Linker and Libraries:
    ld='cc'
    ldflags ='-pthread -Wl,-E  -fstack-protector -L/usr/local/lib'
    libpth=/usr/lib /usr/local/lib /usr/include/clang/3.4.1 /usr/lib
    libs=-lpthread -lgdbm -lm -lcrypt -lutil -lc -lelf
    perllibs=-lpthread -lm -lcrypt -lutil -lc -lelf
    libc=
    so=so
    useshrplib=false
    libperl=libperl.a
    gnulibc_version=''
  Dynamic Linking:
    dlsrc=dl_dlopen.xs
    dlext=so
    d_dlsymun=undef
    ccdlflags=' '
    cccdlflags='-DPIC -fPIC'
    lddlflags='-shared  -L/usr/local/lib -fstack-protector'


Characteristics of this binary (from libperl): 
  Compile-time options:
    HAS_TIMES
    PERLIO_LAYERS
    PERL_COPY_ON_WRITE
    PERL_DONT_CREATE_GVSV
    PERL_MALLOC_WRAP
    PERL_OP_PARENT
    PERL_PRESERVE_IVUV
    USE_64_BIT_ALL
    USE_64_BIT_INT
    USE_LARGE_FILES
    USE_LOCALE
    USE_LOCALE_COLLATE
    USE_LOCALE_CTYPE
    USE_LOCALE_NUMERIC
    USE_LOCALE_TIME
    USE_PERLIO
    USE_PERL_ATOF
  Built under freebsd
  Compiled at Jun  3 2017 22:58:33
  %ENV:
    PERL5LIB="/home/cpansand/.cpan/build/2019020119/Getopt-Long-Less-0.090-2/blib/arch:/home/cpansand/.cpan/build/2019020119/Getopt-Long-Less-0.090-2/blib/lib"
    PERL5OPT=""
    PERL5_CPANPLUS_IS_RUNNING="91608"
    PERL5_CPAN_IS_RUNNING="91608"
    PERL5_CPAN_IS_RUNNING_IN_RECURSION="89618,91608"
    PERLDOC="-MPod::Perldoc::ToTextOverstrike"
    PERL_BATCH="yes"
    PERL_CANARY_STABILITY_NOPROMPT="1"
    PERL_CPAN_REPORTER_CONFIG="/var/tmp/cpansmoker-1023/2019020119/cpanreporter_000_config.ini"
    PERL_EXTUTILS_AUTOINSTALL="--defaultdeps"
    PERL_USE_UNSAFE_INC="1"
  @INC:
    /home/cpansand/.cpan/build/2019020119/Getopt-Long-Less-0.090-2/blib/arch
    /home/cpansand/.cpan/build/2019020119/Getopt-Long-Less-0.090-2/blib/lib
    /usr/perl5.26.0p/lib/site_perl/5.26.0/amd64-freebsd
    /usr/perl5.26.0p/lib/site_perl/5.26.0
    /usr/perl5.26.0p/lib/5.26.0/amd64-freebsd
    /usr/perl5.26.0p/lib/5.26.0
    .