MozRepl-RemoteObject v0.40 Perl 5 v5.36.0 x86_64-linux

Status
Pass
From
Andreas J. König (ANDK)
Dist
MozRepl-RemoteObject v0.40
Platform
Perl 5 v5.36.0 x86_64-linux
Date
2022-06-20 20:54:18
ID
26de672e-f0db-11ec-be4e-b54a9b01f4e1
This distribution has been tested as part of the CPAN Testers
project, supporting the Perl programming language.  See
http://wiki.cpantesters.org/ for more information or email
questions to cpan-testers-discuss@perl.org


--
Dear Max Maischein,

This is a computer-generated report for MozRepl-RemoteObject-0.40
on perl 5.36.0, created by CPAN-Reporter-1.2018.

Thank you for uploading your work to CPAN.  Congratulations!
All tests were successful.

Sections of this report:

    * Tester comments
    * Program output
    * Prerequisites
    * Environment and other context

------------------------------
TESTER COMMENTS
------------------------------

Additional comments from tester:

this report is from an automated smoke testing program
and was not reviewed by a human for accuracy

------------------------------
PROGRAM OUTPUT
------------------------------

Output from '/usr/bin/make test':

PERL_DL_NONLAZY=1 "/tmp/basesmoker-reloperl-QPlg/bin/perl" "-MExtUtils::Command::MM" "-MTest::Harness" "-e" "undef *Test::Harness::Switches; test_harness(0, 'blib/lib', 'blib/arch')" t/*.t
# Testing MozRepl::RemoteObject 0.40, Perl 5.036000
# AutoLoader 5.74
# Carp 1.52
# Config 5.036000
# Encode 3.17
# Encode::Alias 2.24
# Encode::Config 2.05
# Encode::ConfigLocal 1655717776
# Encode::Encoding 2.08
# Encode::MIME::Name 1.03
# Exporter 5.77
# Exporter::Heavy 5.77
# Fcntl 1.15
# JSON 4.06
# JSON::XS 4.03
# List::Util 1.62
# Log::Agent 1.005
# Log::Agent::Formatting <unknown>
# Log::Agent::Message <unknown>
# Log::Agent::Priorities <unknown>
# MozRepl::RemoteObject 0.40
# MozRepl::RemoteObject::Methods 0.40
# POSIX 2.03
# PerlIO 1.12
# Scalar::Util 1.62
# Storable 3.26
# Test::Builder 1.302190
# Test::Builder::Formatter 1.302190
# Test::Builder::Module 1.302190
# Test::Builder::TodoDiag 1.302190
# Test::More 1.302190
# Test2::API 1.302190
# Test2::API::Context 1.302190
# Test2::API::Instance 1.302190
# Test2::API::Stack 1.302190
# Test2::Event 1.302190
# Test2::Event::Bail 1.302190
# Test2::Event::Diag 1.302190
# Test2::Event::Exception 1.302190
# Test2::Event::Fail 1.302190
# Test2::Event::Note 1.302190
# Test2::Event::Ok 1.302190
# Test2::Event::Pass 1.302190
# Test2::Event::Plan 1.302190
# Test2::Event::Skip 1.302190
# Test2::Event::Subtest 1.302190
# Test2::Event::V2 1.302190
# Test2::Event::Waiting 1.302190
# Test2::EventFacet 1.302190
# Test2::EventFacet::About 1.302190
# Test2::EventFacet::Amnesty 1.302190
# Test2::EventFacet::Assert 1.302190
# Test2::EventFacet::Control 1.302190
# Test2::EventFacet::Error 1.302190
# Test2::EventFacet::Hub 1.302190
# Test2::EventFacet::Info 1.302190
# Test2::EventFacet::Meta 1.302190
# Test2::EventFacet::Parent 1.302190
# Test2::EventFacet::Plan 1.302190
# Test2::EventFacet::Trace 1.302190
# Test2::Formatter 1.302190
# Test2::Formatter::TAP 1.302190
# Test2::Hub 1.302190
# Test2::Hub::Interceptor 1.302190
# Test2::Hub::Interceptor::Terminator 1.302190
# Test2::Hub::Subtest 1.302190
# Test2::Util 1.302190
# Test2::Util::ExternalMeta 1.302190
# Test2::Util::Facets2Legacy 1.302190
# Test2::Util::HashBase 1.302190
# Test2::Util::Trace 1.302190
# Tie::Hash 1.06
# Time::HiRes 1.977
# Types::Serialiser 1.01
# XSLoader 0.31
# attributes 0.34
# base 2.27
# bytes 1.08
# common::sense 3.75
# constant 1.33
# mro 1.26
# overload 1.35
# overloading 0.02
# parent 0.238
# strict 1.12
# vars 1.05
# warnings 1.58
# warnings::register 1.04
t/00-load.t .................... ok
t/01-appversion.t .............. skipped: Couldn't connect to MozRepl: Failed to connect to , problem connecting to "localhost", port 4242: Connection refused at /home/sand/src/perl/repoperls/installed-perls/host/k93jammy/v5.36.0/6567/lib/site_perl/5.36.0/MozRepl/Client.pm line 144
# --- Loading object functionality into repl
t/01-array.t ................... skipped: Couldn't connect to MozRepl: Failed to connect to , problem connecting to "localhost", port 4242: Connection refused at /home/sand/src/perl/repoperls/installed-perls/host/k93jammy/v5.36.0/6567/lib/site_perl/5.36.0/MozRepl/Client.pm line 144
[error] Connection refused
t/01-backend-anyevent-timer.t .. skipped: Couldn't connect to Firefox: Failed to connect to , Connection refused at /tmp/loop_over_bdir-141033-rAkQU3/MozRepl-RemoteObject-0.40-0/blib/lib/MozRepl/AnyEvent.pm line 188.
t/01-backend-anyevent.t ........ skipped: Couldn't connect to Firefox: Connection refused at /tmp/loop_over_bdir-141033-rAkQU3/MozRepl-RemoteObject-0.40-0/blib/lib/MozRepl/AnyEvent.pm line 188.
t/01-callback-overhead.t ....... skipped: Couldn't connect to MozRepl: Failed to connect to , problem connecting to "localhost", port 4242: Connection refused at /home/sand/src/perl/repoperls/installed-perls/host/k93jammy/v5.36.0/6567/lib/site_perl/5.36.0/MozRepl/Client.pm line 144
t/01-callback.t ................ skipped: Couldn't connect to MozRepl: Failed to connect to , problem connecting to "localhost", port 4242: Connection refused at /home/sand/src/perl/repoperls/installed-perls/host/k93jammy/v5.36.0/6567/lib/site_perl/5.36.0/MozRepl/Client.pm line 144
t/01-constant.t ................ skipped: Couldn't connect to MozRepl: Failed to connect to , problem connecting to "localhost", port 4242: Connection refused at /home/sand/src/perl/repoperls/installed-perls/host/k93jammy/v5.36.0/6567/lib/site_perl/5.36.0/MozRepl/Client.pm line 144
t/01-dive.t .................... skipped: Couldn't connect to MozRepl: Failed to connect to , problem connecting to "localhost", port 4242: Connection refused at /home/sand/src/perl/repoperls/installed-perls/host/k93jammy/v5.36.0/6567/lib/site_perl/5.36.0/MozRepl/Client.pm line 144
[error] Connection refused
t/01-expr-anyevent.t ........... skipped: Couldn't connect to Firefix: Failed to connect to , Connection refused at /tmp/loop_over_bdir-141033-rAkQU3/MozRepl-RemoteObject-0.40-0/blib/lib/MozRepl/AnyEvent.pm line 188.
t/01-expr.t .................... skipped: Couldn't connect to MozRepl: Failed to connect to , problem connecting to "localhost", port 4242: Connection refused at /home/sand/src/perl/repoperls/installed-perls/host/k93jammy/v5.36.0/6567/lib/site_perl/5.36.0/MozRepl/Client.pm line 144
t/01-hash.t .................... skipped: Couldn't connect to MozRepl: Failed to connect to , problem connecting to "localhost", port 4242: Connection refused at /home/sand/src/perl/repoperls/installed-perls/host/k93jammy/v5.36.0/6567/lib/site_perl/5.36.0/MozRepl/Client.pm line 144
t/01-invoke.t .................. skipped: Couldn't connect to MozRepl: Failed to connect to , problem connecting to "localhost", port 4242: Connection refused at /home/sand/src/perl/repoperls/installed-perls/host/k93jammy/v5.36.0/6567/lib/site_perl/5.36.0/MozRepl/Client.pm line 144
# --- Loading object functionality into repl
t/01-multiline-string.t ........ skipped: Couldn't connect to MozRepl: Failed to connect to , problem connecting to "localhost", port 4242: Connection refused at /home/sand/src/perl/repoperls/installed-perls/host/k93jammy/v5.36.0/6567/lib/site_perl/5.36.0/MozRepl/Client.pm line 144
# --- Loading object functionality into repl
t/01-object.t .................. skipped: Couldn't connect to MozRepl: Failed to connect to , problem connecting to "localhost", port 4242: Connection refused at /home/sand/src/perl/repoperls/installed-perls/host/k93jammy/v5.36.0/6567/lib/site_perl/5.36.0/MozRepl/Client.pm line 144
# --- Loading object functionality into repl
t/01-queue.t ................... skipped: Couldn't connect to MozRepl: Failed to connect to , problem connecting to "localhost", port 4242: Connection refused at /home/sand/src/perl/repoperls/installed-perls/host/k93jammy/v5.36.0/6567/lib/site_perl/5.36.0/MozRepl/Client.pm line 144
t/01-release-action.t .......... skipped: Couldn't connect to MozRepl: Failed to connect to , problem connecting to "localhost", port 4242: Connection refused at /home/sand/src/perl/repoperls/installed-perls/host/k93jammy/v5.36.0/6567/lib/site_perl/5.36.0/MozRepl/Client.pm line 144
t/02-multiple-instances.t ...... skipped: Couldn't connect to MozRepl: Failed to connect to , problem connecting to "localhost", port 4242: Connection refused at /home/sand/src/perl/repoperls/installed-perls/host/k93jammy/v5.36.0/6567/lib/site_perl/5.36.0/MozRepl/Client.pm line 144
t/02-repl.t .................... skipped: Couldn't connect to MozRepl: Failed to connect to , problem connecting to "localhost", port 4242: Connection refused at /home/sand/src/perl/repoperls/installed-perls/host/k93jammy/v5.36.0/6567/lib/site_perl/5.36.0/MozRepl/Client.pm line 144
t/02-synopsis.t ................ skipped: Couldn't connect to MozRepl: Failed to connect to , problem connecting to "localhost", port 4242: Connection refused at /home/sand/src/perl/repoperls/installed-perls/host/k93jammy/v5.36.0/6567/lib/site_perl/5.36.0/MozRepl/Client.pm line 144
t/03-unicode.t ................. skipped: Couldn't connect to MozRepl: Failed to connect to , problem connecting to "localhost", port 4242: Connection refused at /home/sand/src/perl/repoperls/installed-perls/host/k93jammy/v5.36.0/6567/lib/site_perl/5.36.0/MozRepl/Client.pm line 144
t/04-looong-input.t ............ skipped: Couldn't connect to MozRepl: Failed to connect to , problem connecting to "localhost", port 4242: Connection refused at /home/sand/src/perl/repoperls/installed-perls/host/k93jammy/v5.36.0/6567/lib/site_perl/5.36.0/MozRepl/Client.pm line 144
t/05-callback-parameter.t ...... skipped: Couldn't connect to MozRepl: Failed to connect to , problem connecting to "localhost", port 4242: Connection refused at /home/sand/src/perl/repoperls/installed-perls/host/k93jammy/v5.36.0/6567/lib/site_perl/5.36.0/MozRepl/Client.pm line 144
t/10-xul-hud.t ................. skipped: Couldn't connect to MozRepl: Failed to connect to , problem connecting to "localhost", port 4242: Connection refused at /home/sand/src/perl/repoperls/installed-perls/host/k93jammy/v5.36.0/6567/lib/site_perl/5.36.0/MozRepl/Client.pm line 144
t/11-memleak-callback.t ........ skipped: Couldn't connect to MozRepl: Failed to connect to , problem connecting to "localhost", port 4242: Connection refused at /home/sand/src/perl/repoperls/installed-perls/host/k93jammy/v5.36.0/6567/lib/site_perl/5.36.0/MozRepl/Client.pm line 144
t/11-memleak-constant.t ........ skipped: Couldn't connect to MozRepl: Failed to connect to , problem connecting to "localhost", port 4242: Connection refused at /home/sand/src/perl/repoperls/installed-perls/host/k93jammy/v5.36.0/6567/lib/site_perl/5.36.0/MozRepl/Client.pm line 144
t/11-memleak-declare.t ......... skipped: Couldn't connect to MozRepl: Failed to connect to , problem connecting to "localhost", port 4242: Connection refused at /home/sand/src/perl/repoperls/installed-perls/host/k93jammy/v5.36.0/6567/lib/site_perl/5.36.0/MozRepl/Client.pm line 144
t/11-memleak.t ................. skipped: Couldn't connect to MozRepl: Failed to connect to , problem connecting to "localhost", port 4242: Connection refused at /home/sand/src/perl/repoperls/installed-perls/host/k93jammy/v5.36.0/6567/lib/site_perl/5.36.0/MozRepl/Client.pm line 144
All tests successful.
Files=28, Tests=1,  4 wallclock secs ( 0.09 usr  0.05 sys +  3.31 cusr  0.74 csys =  4.19 CPU)
Result: PASS

------------------------------
PREREQUISITES
------------------------------

Prerequisite modules loaded:

requires:

    Module         Need  Have      
    -------------- ----- ----------
    Encode         0     3.17      
    Exporter       0     5.77      
    File::Basename 0     2.85      
    IPC::Run       0     20200505.0
    JSON           2     4.06      
    MozRepl        0.06  0.06      
    parent         0     0.238     
    perl           5.006 5.036000  
    Scalar::Util   0     1.62      

build_requires:

    Module         Need  Have      
    -------------- ----- ----------
    Task::Weaken   0     1.06      


------------------------------
ENVIRONMENT AND OTHER CONTEXT
------------------------------

Environment variables:

    AUTOMATED_TESTING = 1
    LANG = en_US.UTF-8
    LC_ADDRESS = de_DE.UTF-8
    LC_IDENTIFICATION = de_DE.UTF-8
    LC_MEASUREMENT = de_DE.UTF-8
    LC_MONETARY = de_DE.UTF-8
    LC_NAME = de_DE.UTF-8
    LC_NUMERIC = de_DE.UTF-8
    LC_PAPER = de_DE.UTF-8
    LC_TELEPHONE = de_DE.UTF-8
    LC_TIME = de_DE.UTF-8
    PATH = /home/sand/bin:/usr/local/bin:/usr/local/sbin:/usr/sbin:/usr/bin:/sbin:/bin:/usr/games:/usr/local/games:/snap/bin:/usr/local/perl/bin:/usr/X11/bin
    PERL = /tmp/basesmoker-reloperl-QPlg/bin/perl
    PERL5LIB = /tmp/loop_over_bdir-141033-rAkQU3/Linux-InitFS-0.2-0/blib/arch:/tmp/loop_over_bdir-141033-rAkQU3/Linux-InitFS-0.2-0/blib/lib:/tmp/loop_over_bdir-141033-rAkQU3/RDF-NLP-SPARQLQuery-0.1-0/blib/arch:/tmp/loop_over_bdir-141033-rAkQU3/RDF-NLP-SPARQLQuery-0.1-0/blib/lib:/tmp/loop_over_bdir-141033-rAkQU3/App-rmcd-0.280-0/blib/arch:/tmp/loop_over_bdir-141033-rAkQU3/App-rmcd-0.280-0/blib/lib:/tmp/loop_over_bdir-141033-rAkQU3/Serge-1.4-0/blib/arch:/tmp/loop_over_bdir-141033-rAkQU3/Serge-1.4-0/blib/lib:/tmp/loop_over_bdir-141033-rAkQU3/Business-Shipping-DataFiles-1.02-0/blib/arch:/tmp/loop_over_bdir-141033-rAkQU3/Business-Shipping-DataFiles-1.02-0/blib/lib:/tmp/loop_over_bdir-141033-rAkQU3/Devel-Required-0.16-0/blib/arch:/tmp/loop_over_bdir-141033-rAkQU3/Devel-Required-0.16-0/blib/lib:/tmp/loop_over_bdir-141033-rAkQU3/Debian-Packages-0.03-0/blib/arch:/tmp/loop_over_bdir-141033-rAkQU3/Debian-Packages-0.03-0/blib/lib:/tmp/loop_over_bdir-141033-rAkQU3/perl-Hardware-UPS-Perl-0.43-0/blib/arch:/tmp/loop_over_bdir-141033-rAkQU3/perl-Hardware-UPS-Perl-0.43-0/blib/lib:/tmp/loop_over_bdir-141033-rAkQU3/Sysync-0.35-0/blib/arch:/tmp/loop_over_bdir-141033-rAkQU3/Sysync-0.35-0/blib/lib
    PERL5OPT = 
    PERL5_CPANPLUS_IS_RUNNING = 141042
    PERL5_CPAN_IS_RUNNING = 141042
    PERL_CANARY_STABILITY_NOPROMPT = 1
    PERL_MM_USE_DEFAULT = 1
    PERL_USE_UNSAFE_INC = 1
    SHELL = /usr/bin/zsh
    TERM = screen

Perl special variables (and OS-specific diagnostics, for MSWin32):

    $^X = /tmp/basesmoker-reloperl-QPlg/bin/perl
    $UID/$EUID = 1005 / 1005
    $GID = 1005 1005
    $EGID = 1005 1005

Perl module toolchain versions installed:

    Module              Have    
    ------------------- --------
    CPAN                2.34    
    CPAN::Meta          2.150010
    Cwd                 3.84    
    ExtUtils::CBuilder  0.280236
    ExtUtils::Command   7.64    
    ExtUtils::Install   2.20    
    ExtUtils::MakeMaker 7.64    
    ExtUtils::Manifest  1.73    
    ExtUtils::ParseXS   3.45    
    File::Spec          3.84    
    JSON                4.06    
    JSON::PP            4.09    
    Module::Build       0.4231  
    Module::Signature   0.88    
    Parse::CPAN::Meta   2.150010
    Test::Harness       3.44    
    Test::More          1.302190
    YAML                1.30    
    YAML::Syck          1.34    
    version             0.9929  


--

Summary of my perl5 (revision 5 version 36 subversion 0) configuration:
  Commit id: b3c502b607191da0e743a4fa34501a05442305b3
  Platform:
    osname=linux
    osvers=5.15.0-39-generic
    archname=x86_64-linux
    uname='linux k93jammy 5.15.0-39-generic #42-ubuntu smp thu jun 9 23:42:32 utc 2022 x86_64 x86_64 x86_64 gnulinux '
    config_args='-Dprefix=/home/sand/src/perl/repoperls/installed-perls/host/k93jammy/v5.36.0/6567 -Dmyhostname=k93jammy -Dinstallusrbinperl=n -Uversiononly -Dusedevel -des -Ui_db -Dlibswanted=cl pthread socket inet nsl gdbm dbm malloc dl ld sun m crypt sec util c cposix posix ucb BSD gdbm_compat -Uuseithreads -Uuselongdouble -DEBUGGING=-g'
    hint=recommended
    useposix=true
    d_sigaction=define
    useithreads=undef
    usemultiplicity=undef
    use64bitint=define
    use64bitall=define
    uselongdouble=undef
    usemymalloc=n
    default_inc_excludes_dot=define
  Compiler:
    cc='cc'
    ccflags ='-fwrapv -fno-strict-aliasing -pipe -fstack-protector-strong -I/usr/local/include -D_LARGEFILE_SOURCE -D_FILE_OFFSET_BITS=64'
    optimize='-O2 -g'
    cppflags='-fwrapv -fno-strict-aliasing -pipe -fstack-protector-strong -I/usr/local/include'
    ccversion=''
    gccversion='11.2.0'
    gccosandvers=''
    intsize=4
    longsize=8
    ptrsize=8
    doublesize=8
    byteorder=12345678
    doublekind=3
    d_longlong=define
    longlongsize=8
    d_longdbl=define
    longdblsize=16
    longdblkind=3
    ivtype='long'
    ivsize=8
    nvtype='double'
    nvsize=8
    Off_t='off_t'
    lseeksize=8
    alignbytes=8
    prototype=define
  Linker and Libraries:
    ld='cc'
    ldflags =' -fstack-protector-strong -L/usr/local/lib'
    libpth=/usr/local/lib /usr/lib/x86_64-linux-gnu /usr/lib /usr/lib64
    libs=-lpthread -lnsl -ldl -lm -lcrypt -lutil -lc
    perllibs=-lpthread -lnsl -ldl -lm -lcrypt -lutil -lc
    libc=/lib/x86_64-linux-gnu/libc.so.6
    so=so
    useshrplib=false
    libperl=libperl.a
    gnulibc_version='2.35'
  Dynamic Linking:
    dlsrc=dl_dlopen.xs
    dlext=so
    d_dlsymun=undef
    ccdlflags='-Wl,-E'
    cccdlflags='-fPIC'
    lddlflags='-shared -O2 -g -L/usr/local/lib -fstack-protector-strong'


Characteristics of this binary (from libperl): 
  Compile-time options:
    HAS_TIMES
    PERLIO_LAYERS
    PERL_COPY_ON_WRITE
    PERL_DONT_CREATE_GVSV
    PERL_MALLOC_WRAP
    PERL_OP_PARENT
    PERL_PRESERVE_IVUV
    PERL_USE_DEVEL
    USE_64_BIT_ALL
    USE_64_BIT_INT
    USE_LARGE_FILES
    USE_LOCALE
    USE_LOCALE_COLLATE
    USE_LOCALE_CTYPE
    USE_LOCALE_NUMERIC
    USE_LOCALE_TIME
    USE_PERLIO
    USE_PERL_ATOF
  Built under linux
  Compiled at Jun 16 2022 19:28:47
  %ENV:
    PERL="/tmp/basesmoker-reloperl-QPlg/bin/perl"
    PERL5LIB="/tmp/loop_over_bdir-141033-rAkQU3/Linux-InitFS-0.2-0/blib/arch:/tmp/loop_over_bdir-141033-rAkQU3/Linux-InitFS-0.2-0/blib/lib:/tmp/loop_over_bdir-141033-rAkQU3/RDF-NLP-SPARQLQuery-0.1-0/blib/arch:/tmp/loop_over_bdir-141033-rAkQU3/RDF-NLP-SPARQLQuery-0.1-0/blib/lib:/tmp/loop_over_bdir-141033-rAkQU3/App-rmcd-0.280-0/blib/arch:/tmp/loop_over_bdir-141033-rAkQU3/App-rmcd-0.280-0/blib/lib:/tmp/loop_over_bdir-141033-rAkQU3/Serge-1.4-0/blib/arch:/tmp/loop_over_bdir-141033-rAkQU3/Serge-1.4-0/blib/lib:/tmp/loop_over_bdir-141033-rAkQU3/Business-Shipping-DataFiles-1.02-0/blib/arch:/tmp/loop_over_bdir-141033-rAkQU3/Business-Shipping-DataFiles-1.02-0/blib/lib:/tmp/loop_over_bdir-141033-rAkQU3/Devel-Required-0.16-0/blib/arch:/tmp/loop_over_bdir-141033-rAkQU3/Devel-Required-0.16-0/blib/lib:/tmp/loop_over_bdir-141033-rAkQU3/Debian-Packages-0.03-0/blib/arch:/tmp/loop_over_bdir-141033-rAkQU3/Debian-Packages-0.03-0/blib/lib:/tmp/loop_over_bdir-141033-rAkQU3/perl-Hardware-UPS-Perl-0.43-0/blib/arch:/tmp/loop_over_bdir-141033-rAkQU3/perl-Hardware-UPS-Perl-0.43-0/blib/lib:/tmp/loop_over_bdir-141033-rAkQU3/Sysync-0.35-0/blib/arch:/tmp/loop_over_bdir-141033-rAkQU3/Sysync-0.35-0/blib/lib"
    PERL5OPT=""
    PERL5_CPANPLUS_IS_RUNNING="141042"
    PERL5_CPAN_IS_RUNNING="141042"
    PERL_CANARY_STABILITY_NOPROMPT="1"
    PERL_MM_USE_DEFAULT="1"
    PERL_USE_UNSAFE_INC="1"
  @INC:
    /tmp/loop_over_bdir-141033-rAkQU3/Linux-InitFS-0.2-0/blib/arch
    /tmp/loop_over_bdir-141033-rAkQU3/Linux-InitFS-0.2-0/blib/lib
    /tmp/loop_over_bdir-141033-rAkQU3/RDF-NLP-SPARQLQuery-0.1-0/blib/arch
    /tmp/loop_over_bdir-141033-rAkQU3/RDF-NLP-SPARQLQuery-0.1-0/blib/lib
    /tmp/loop_over_bdir-141033-rAkQU3/App-rmcd-0.280-0/blib/arch
    /tmp/loop_over_bdir-141033-rAkQU3/App-rmcd-0.280-0/blib/lib
    /tmp/loop_over_bdir-141033-rAkQU3/Serge-1.4-0/blib/arch
    /tmp/loop_over_bdir-141033-rAkQU3/Serge-1.4-0/blib/lib
    /tmp/loop_over_bdir-141033-rAkQU3/Business-Shipping-DataFiles-1.02-0/blib/arch
    /tmp/loop_over_bdir-141033-rAkQU3/Business-Shipping-DataFiles-1.02-0/blib/lib
    /tmp/loop_over_bdir-141033-rAkQU3/Devel-Required-0.16-0/blib/arch
    /tmp/loop_over_bdir-141033-rAkQU3/Devel-Required-0.16-0/blib/lib
    /tmp/loop_over_bdir-141033-rAkQU3/Debian-Packages-0.03-0/blib/arch
    /tmp/loop_over_bdir-141033-rAkQU3/Debian-Packages-0.03-0/blib/lib
    /tmp/loop_over_bdir-141033-rAkQU3/perl-Hardware-UPS-Perl-0.43-0/blib/arch
    /tmp/loop_over_bdir-141033-rAkQU3/perl-Hardware-UPS-Perl-0.43-0/blib/lib
    /tmp/loop_over_bdir-141033-rAkQU3/Sysync-0.35-0/blib/arch
    /tmp/loop_over_bdir-141033-rAkQU3/Sysync-0.35-0/blib/lib
    /home/sand/src/perl/repoperls/installed-perls/host/k93jammy/v5.36.0/6567/lib/site_perl/5.36.0/x86_64-linux
    /home/sand/src/perl/repoperls/installed-perls/host/k93jammy/v5.36.0/6567/lib/site_perl/5.36.0
    /home/sand/src/perl/repoperls/installed-perls/host/k93jammy/v5.36.0/6567/lib/5.36.0/x86_64-linux
    /home/sand/src/perl/repoperls/installed-perls/host/k93jammy/v5.36.0/6567/lib/5.36.0
    .