Test-Without-Module v0.22 Perl 5 v5.40.0 darwin-2level

Status
Pass
From
Roland van Ipenburg (IPENBURG)
Dist
Test-Without-Module v0.22
Platform
Perl 5 v5.40.0 darwin-2level
Date
2024-07-08 07:46:14
ID
26e0028e-3cfe-11ef-ab9f-e57f6cd0de9e
This distribution has been tested as part of the CPAN Testers
project, supporting the Perl programming language.  See
http://wiki.cpantesters.org/ for more information or email
questions to cpan-testers-discuss@perl.org


--
Dear Max Maischein,

This is a computer-generated report for Test-Without-Module-0.22
on perl 5.40.0, created by CPAN-Reporter-1.2019.

Thank you for uploading your work to CPAN.  Congratulations!
All tests were successful.

Sections of this report:

    * Tester comments
    * Program output
    * Prerequisites
    * Environment and other context

------------------------------
TESTER COMMENTS
------------------------------

Additional comments from tester:

none provided

------------------------------
PROGRAM OUTPUT
------------------------------

Output from '/usr/bin/make test':

PERL_DL_NONLAZY=1 "/usr/local/bin/perl" "-MExtUtils::Command::MM" "-MTest::Harness" "-e" "undef *Test::Harness::Switches; test_harness(0, 'blib/lib', 'blib/arch')" t/00-load.t t/01-api.t t/02-block-use-module.t t/03-block-require-module.t t/04-import-export.t t/05-redefine.t t/06-missing-hidden-modules.t t/embedded-Test-Without-Module.t t/rt122551.t
# Testing Test::Without::Module 0.22, Perl 5.040000
# Carp 1.54
# Config 5.040000
# Cwd 3.90
# Encode 3.21
# Encode::Alias 2.25
# Encode::Config 2.05
# Encode::Encoding 2.08
# Encode::MIME::Name 1.03
# Exporter 5.78
# Exporter::Heavy 5.78
# ExtUtils::Liblist 7.70
# ExtUtils::Liblist::Kid 7.70
# ExtUtils::MM 7.70
# ExtUtils::MM_Any 7.70
# ExtUtils::MM_Darwin 7.70
# ExtUtils::MM_Unix 7.70
# ExtUtils::MY 7.70
# ExtUtils::MakeMaker 7.70
# ExtUtils::MakeMaker::Config 7.70
# ExtUtils::MakeMaker::Locale 7.70
# ExtUtils::MakeMaker::version 7.70
# Fcntl 1.18
# File::Basename 2.86
# File::Glob 1.42
# File::Path 2.18
# File::Spec 3.90
# File::Spec::Unix 3.91
# I18N::Langinfo 0.24
# List::Util 1.63
# POSIX 2.20
# PerlIO 1.12
# Scalar::Util 1.63
# Storable 3.32
# Test::Builder 1.302199
# Test::Builder::Formatter 1.302199
# Test::Builder::Module 1.302199
# Test::Builder::TodoDiag 1.302199
# Test::More 1.302199
# Test::Without::Module 0.22
# Test2::API 1.302199
# Test2::API::Context 1.302199
# Test2::API::Instance 1.302199
# Test2::API::Stack 1.302199
# Test2::Event 1.302199
# Test2::Event::Bail 1.302199
# Test2::Event::Diag 1.302199
# Test2::Event::Exception 1.302199
# Test2::Event::Fail 1.302199
# Test2::Event::Note 1.302199
# Test2::Event::Ok 1.302199
# Test2::Event::Pass 1.302199
# Test2::Event::Plan 1.302199
# Test2::Event::Skip 1.302199
# Test2::Event::Subtest 1.302199
# Test2::Event::V2 1.302199
# Test2::Event::Waiting 1.302199
# Test2::EventFacet 1.302199
# Test2::EventFacet::About 1.302199
# Test2::EventFacet::Amnesty 1.302199
# Test2::EventFacet::Assert 1.302199
# Test2::EventFacet::Control 1.302199
# Test2::EventFacet::Error 1.302199
# Test2::EventFacet::Hub 1.302199
# Test2::EventFacet::Info 1.302199
# Test2::EventFacet::Meta 1.302199
# Test2::EventFacet::Parent 1.302199
# Test2::EventFacet::Plan 1.302199
# Test2::EventFacet::Trace 1.302199
# Test2::Formatter 1.302199
# Test2::Formatter::TAP 1.302199
# Test2::Hub 1.302199
# Test2::Hub::Interceptor 1.302199
# Test2::Hub::Interceptor::Terminator 1.302199
# Test2::Hub::Subtest 1.302199
# Test2::Util 1.302199
# Test2::Util::ExternalMeta 1.302199
# Test2::Util::Facets2Legacy 1.302199
# Test2::Util::HashBase 1.302199
# Test2::Util::Trace 1.302199
# Tie::Hash 1.06
# Time::HiRes 1.9777
# XSLoader 0.32
# base 2.27
# bytes 1.09
# constant 1.33
# mro 1.29
# overloading 0.02
# parent 0.241
# strict 1.13
# vars 1.05
# version 0.9932
# version::regex 0.9932
# version::vxs 0.9932
# warnings 1.70
# warnings::register 1.06
t/00-load.t ....................... ok
t/01-api.t ........................ ok
t/02-block-use-module.t ........... ok
t/03-block-require-module.t ....... ok
t/04-import-export.t .............. ok
t/05-redefine.t ................... ok
t/06-missing-hidden-modules.t ..... ok
t/embedded-Test-Without-Module.t .. ok
t/rt122551.t ...................... ok
All tests successful.

Test Summary Report
-------------------
t/rt122551.t                    (Wstat: 0 Tests: 2 Failed: 0)
  TODO passed:   2
Files=9, Tests=24,  1 wallclock secs ( 0.06 usr  0.03 sys +  1.10 cusr  0.26 csys =  1.45 CPU)
Result: PASS

------------------------------
PREREQUISITES
------------------------------

Prerequisite modules loaded:

requires:

    Module              Need  Have    
    ------------------- ----- --------
    Carp                0     1.54    
    perl                5.020 5.040000

build_requires:

    Module              Need  Have    
    ------------------- ----- --------
    ExtUtils::MakeMaker 0     7.70    
    File::Find          0     1.44    
    File::Spec          0     3.90    
    Test::More          0     1.302199

configure_requires:

    Module              Need  Have    
    ------------------- ----- --------
    ExtUtils::MakeMaker 0     7.70    


------------------------------
ENVIRONMENT AND OTHER CONTEXT
------------------------------

Environment variables:

    LANG = en_US.UTF-8
    LC_ALL = en_US.UTF-8
    LC_CTYPE = UTF-8
    LDFLAGS = -L/usr/local/lib
    PATH = /usr/local/bin:/opt/local/bin:/opt/local/sbin:/Users/roland/pebble-dev/PebbleSDK-current/bin:/Applications/Rakudo/bin:/Users/roland/.npm-packages/bin:/Users/roland/pebble-dev3/pebble-sdk-4.2-mac/bin:/Applications/Xcode.app/Contents/Developer/usr/bin/:/Applications/android-sdk-macosx/platform-tools:/Applications/android-sdk-macosx/tools:/usr/local/bin:/opt/local/bin:/usr/local/bin:/usr/bin:/bin:/usr/sbin:/sbin:/usr/local/MacGPG2/bin:/usr/local/share/dotnet:/opt/X11/bin:~/.dotnet/tools:/Library/Apple/usr/bin:/Applications/Rakudo/bin:/Applications/Rakudo/share/perl6/site/bin
    PERL5LIB = 
    PERL5OPT = 
    PERL5_CPANPLUS_IS_RUNNING = 98555
    PERL5_CPAN_IS_RUNNING = 98555
    PERL_USE_UNSAFE_INC = 1
    SHELL = /bin/bash
    TEMP = /var/tmp/
    TERM = xterm-256color
    TMPDIR = /var/folders/7l/g84992vx2mv_vz02s8yt60sc0000gn/T/

Perl special variables (and OS-specific diagnostics, for MSWin32):

    $^X = /usr/local/bin/perl
    $UID/$EUID = 501 / 501
    $GID = 20 20 504 12 61 79 80 81 98 703 702 701 33 100 204 250 395
    $EGID = 20 20 504 12 61 79 80 81 98 703 702 701 33 100 204 250 395

Perl module toolchain versions installed:

    Module              Have    
    ------------------- --------
    CPAN                2.36    
    CPAN::Meta          2.150010
    Cwd                 3.90    
    ExtUtils::CBuilder  0.280240
    ExtUtils::Command   7.70    
    ExtUtils::Install   2.22    
    ExtUtils::MakeMaker 7.70    
    ExtUtils::Manifest  1.75    
    ExtUtils::ParseXS   3.51    
    File::Spec          3.90    
    JSON                4.10    
    JSON::PP            4.16    
    Module::Build       0.4234  
    Module::Signature   n/a     
    Parse::CPAN::Meta   2.150010
    Test2               1.302199
    Test::Harness       3.48    
    Test::More          1.302199
    YAML                1.31    
    YAML::Syck          n/a     
    version             0.9932  


--

Summary of my perl5 (revision 5 version 40 subversion 0) configuration:
   
  Platform:
    osname=darwin
    osvers=19.6.0
    archname=darwin-2level
    uname='darwin brooklyn.local 19.6.0 darwin kernel version 19.6.0: tue jun 21 21:18:39 pdt 2022; root:xnu-6153.141.66~1release_x86_64 x86_64 '
    config_args='-des -Dinc_version_list=none'
    hint=recommended
    useposix=true
    d_sigaction=define
    useithreads=undef
    usemultiplicity=undef
    use64bitint=define
    use64bitall=define
    uselongdouble=undef
    usemymalloc=n
    default_inc_excludes_dot=define
  Compiler:
    cc='cc'
    ccflags ='-fno-common -DPERL_DARWIN -mmacosx-version-min=10.15 -DNO_THREAD_SAFE_QUERYLOCALE -DNO_POSIX_2008_LOCALE -fno-strict-aliasing -pipe -fstack-protector-strong -I/usr/local/include -I/opt/local/include'
    optimize='-O3'
    cppflags='-fno-common -DPERL_DARWIN -mmacosx-version-min=10.15 -DNO_THREAD_SAFE_QUERYLOCALE -DNO_POSIX_2008_LOCALE -fno-strict-aliasing -pipe -fstack-protector-strong -I/usr/local/include -I/opt/local/include'
    ccversion=''
    gccversion='Apple LLVM 12.0.0 (clang-1200.0.32.29)'
    gccosandvers=''
    intsize=4
    longsize=8
    ptrsize=8
    doublesize=8
    byteorder=12345678
    doublekind=3
    d_longlong=define
    longlongsize=8
    d_longdbl=define
    longdblsize=16
    longdblkind=3
    ivtype='long'
    ivsize=8
    nvtype='double'
    nvsize=8
    Off_t='off_t'
    lseeksize=8
    alignbytes=8
    prototype=define
  Linker and Libraries:
    ld='cc'
    ldflags =' -mmacosx-version-min=10.15 -fstack-protector-strong -L/usr/local/lib -L/opt/local/lib'
    libpth=/Applications/Xcode.app/Contents/Developer/Toolchains/XcodeDefault.xctoolchain/usr/lib/clang/12.0.0/lib /Applications/Xcode.app/Contents/Developer/Platforms/MacOSX.platform/Developer/SDKs/MacOSX.sdk/usr/lib /Applications/Xcode.app/Contents/Developer/Toolchains/XcodeDefault.xctoolchain/usr/lib /usr/local/lib /opt/local/lib /usr/lib
    libs=-lpthread -lgdbm -ldbm -ldl -lm -lutil -lc
    perllibs=-lpthread -ldl -lm -lutil -lc
    libc=
    so=dylib
    useshrplib=false
    libperl=libperl.a
    gnulibc_version=''
  Dynamic Linking:
    dlsrc=dl_dlopen.xs
    dlext=bundle
    d_dlsymun=undef
    ccdlflags=' '
    cccdlflags=' '
    lddlflags=' -mmacosx-version-min=10.15 -bundle -undefined dynamic_lookup -L/usr/local/lib -L/opt/local/lib -fstack-protector-strong'


Characteristics of this binary (from libperl): 
  Compile-time options:
    HAS_LONG_DOUBLE
    HAS_STRTOLD
    HAS_TIMES
    PERLIO_LAYERS
    PERL_COPY_ON_WRITE
    PERL_DONT_CREATE_GVSV
    PERL_HASH_FUNC_SIPHASH13
    PERL_HASH_USE_SBOX32
    PERL_MALLOC_WRAP
    PERL_OP_PARENT
    PERL_PRESERVE_IVUV
    PERL_USE_SAFE_PUTENV
    USE_64_BIT_ALL
    USE_64_BIT_INT
    USE_LARGE_FILES
    USE_LOCALE
    USE_LOCALE_COLLATE
    USE_LOCALE_CTYPE
    USE_LOCALE_NUMERIC
    USE_LOCALE_TIME
    USE_PERLIO
    USE_PERL_ATOF
  Built under darwin
  Compiled at Jun 11 2024 21:36:39
  %ENV:
    PERL5LIB=""
    PERL5OPT=""
    PERL5_CPANPLUS_IS_RUNNING="98555"
    PERL5_CPAN_IS_RUNNING="98555"
    PERL_USE_UNSAFE_INC="1"
  @INC:
    /usr/local/lib/perl5/site_perl/5.40.0/darwin-2level
    /usr/local/lib/perl5/site_perl/5.40.0
    /usr/local/lib/perl5/5.40.0/darwin-2level
    /usr/local/lib/perl5/5.40.0
    .