Report for Text-VimColor-0.28

Back
From: metabase:user:314402c4-2aae-11df-837a-5e0a49663a4f
Subject: PASS Text-VimColor-0.28 v5.14.4 FreeBSD
Date: 2017-08-07T03:33:17Z

This distribution has been tested as part of the CPAN Testers
project, supporting the Perl programming language.  See
http://wiki.cpantesters.org/ for more information or email
questions to cpan-testers-discuss@perl.org


--
Dear Randy Stauner,

This is a computer-generated report for Text-VimColor-0.28
on perl 5.14.4, created by CPAN-Reporter-1.2018.

Thank you for uploading your work to CPAN.  Congratulations!
All tests were successful.

Sections of this report:

    * Tester comments
    * Program output
    * Prerequisites
    * Environment and other context

------------------------------
TESTER COMMENTS
------------------------------

Additional comments from tester:

none provided

------------------------------
PROGRAM OUTPUT
------------------------------

Output from '/usr/bin/make test':

Skip blib/lib/auto/share/dist/Text-VimColor/define_all.vim (unchanged)
Skip blib/lib/auto/share/dist/Text-VimColor/light.css (unchanged)
Skip blib/lib/auto/share/dist/Text-VimColor/mark.vim (unchanged)
Skip blib/lib/auto/share/dist/Text-VimColor/light.xsl (unchanged)
PERL_DL_NONLAZY=1 "/usr/perl5.14.4/bin/perl" "-MExtUtils::Command::MM" "-MTest::Harness" "-e" "undef *Test::Harness::Switches; test_harness(0, 'blib/lib', 'blib/arch')" t/*.t
t/00-compile.t ......... ok
# 
# Versions for all modules listed in MYMETA.json (including optional ones):
# 
# === Configure Requires ===
# 
#     Module                  Want   Have
#     ----------------------- ---- ------
#     ExtUtils::MakeMaker      any   7.24
#     File::ShareDir::Install 0.06   0.11
#     File::Temp               any 0.2304
#     IO::File                 any   1.15
#     IPC::Open3               any 1.0901
#     strict                   any   1.04
#     warnings                 any   1.12
# 
# === Build Requires ===
# 
#     Module              Want Have
#     ------------------- ---- ----
#     ExtUtils::MakeMaker  any 7.24
# 
# === Test Requires ===
# 
#     Module                     Want     Have
#     -------------------------- ---- --------
#     Exporter                    any     5.72
#     ExtUtils::MakeMaker         any     7.24
#     File::Spec                  any     3.62
#     File::Temp                  any   0.2304
#     IO::Handle                  any     1.31
#     IPC::Open3                  any   1.0901
#     Path::Class                0.04     0.37
#     Test::File::ShareDir::Dist  any 1.001001
#     Test::More                 0.88 1.302086
#     blib                       1.01     1.06
#     lib                         any     0.63
# 
# === Test Recommends ===
# 
#     Module         Want     Have
#     ---------- -------- --------
#     CPAN::Meta 2.120900 2.150010
# 
# === Runtime Requires ===
# 
#     Module          Want   Have
#     --------------- ---- ------
#     Carp             any   1.38
#     File::Copy       any   2.21
#     File::ShareDir   any  1.104
#     File::Temp       any 0.2304
#     Getopt::Long     any   2.49
#     IO::File         any   1.15
#     IPC::Open3       any 1.0901
#     Path::Class     0.04   0.37
#     Symbol           any   1.07
#     Term::ANSIColor 1.03   4.06
#     constant         any   1.33
#     strict           any   1.04
#     warnings         any   1.12
# 
# === Runtime Recommends ===
# 
#     Module          Want Have
#     --------------- ---- ----
#     Term::ANSIColor    3 4.06
# 
t/00-report-prereqs.t .. ok
# vim --version
# 
# VIM - Vi IMproved 7.4 (2013 Aug 10, compiled May 13 2015 19:09:02)
# Inklusive der Korrekturen: 1-207, 209-355, 357-712
# Übersetzt von bdrewery@93amd64-default-job-11
# Große Version mit GTK2 GUI.
#  Ein- (+) oder ausschließlich (-) der Eigenschaften:
# +acl             +farsi           +mouse_netterm   +syntax
# +arabic          +file_in_path    +mouse_sgr       +tag_binary
# +autocmd         +find_in_path    +mouse_sysmouse  +tag_old_static
# +balloon_eval    +float           +mouse_urxvt     -tag_any_white
# +browse          +folding         +mouse_xterm     +tcl
# ++builtin_terms  -footer          +multi_byte      +terminfo
# +byte_offset     +fork()          +multi_lang      +termresponse
# +cindent         +gettext         -mzscheme        +textobjects
# +clientserver    -hangul_input    +netbeans_intg   +title
# +clipboard       +iconv           +path_extra      +toolbar
# +cmdline_compl   +insert_expand   +perl            +user_commands
# +cmdline_hist    +jumplist        +persistent_undo +vertsplit
# +cmdline_info    +keymap          +postscript      +virtualedit
# +comments        +langmap         +printer         +visual
# +conceal         +libcall         -profile         +visualextra
# +cryptv          +linebreak       +python          +viminfo
# +cscope          +lispindent      -python3         +vreplace
# +cursorbind      +listcmds        +quickfix        +wildignore
# +cursorshape     +localmap        +reltime         +wildmenu
# +dialog_con_gui  +lua/dyn         +rightleft       +windows
# +diff            +menu            +ruby            +writebackup
# +digraphs        +mksession       +scrollbind      +X11
# +dnd             +modify_fname    +signs           -xfontset
# -ebcdic          +mouse           +smartindent     +xim
# +emacs_tags      +mouseshape      -sniff           +xsmp_interact
# +eval            +mouse_dec       +startuptime     +xterm_clipboard
# +ex_extra        -mouse_gpm       +statusline      -xterm_save
# +extra_search    -mouse_jsbterm   -sun_workshop    +xpm
#           System-vimrc-Datei: "/usr/local/etc/vim/vimrc"
#         Benutzer-vimrc-Datei: "$HOME/.vimrc"
#  zweite Benutzer-vimrc-Datei: "~/.vim/vimrc"
#          Benutzer-exrc-Datei: "$HOME/.exrc"
#          System-gvimrc-Datei: "/usr/local/etc/vim/gvimrc"
#        Benutzer-gvimrc-Datei: "$HOME/.gvimrc"
# zweite Benutzer-gvimrc-Datei: "~/.vim/gvimrc"
#            System-Menü-Datei: "$VIMRUNTIME/menu.vim"
#      Voreinstellung für $VIM: "/usr/local/etc/vim"
#          und für $VIMRUNTIME: "/usr/local/share/vim/vim74"
# Übersetzt: cc -c -I. -Iproto -DHAVE_CONFIG_H -DFEAT_GUI_GTK  -I/usr/local/include/gtk-2.0 -I/usr/local/include/atk-1.0 -I/usr/local/include/cairo -I/usr/local/include/pixman-1 -D_THREAD_SAFE -I/usr/local/include/gdk-pixbuf-2.0 -I/usr/local/include/libpng16 -I/usr/local/include/pango-1.0 -pthread -I/usr/local/include/glib-2.0 -I/usr/local/lib/glib-2.0/include -I/usr/local/include  -I/usr/local/include/freetype2 -I/usr/local/include/harfbuzz -I/usr/local/include  -O2 -pipe -fstack-protector -fno-strict-aliasing  -U_FORTIFY_SOURCE -D_FORTIFY_SOURCE=1     -I/usr/local/include/tcl8.6 
# Linken: cc -L/usr/local/lib -lX11 -lXpm -lXt -L.  -Wl,-rpath,/usr/lib:/usr/local/lib -fstack-protector -rdynamic -Wl,-R/usr/local/lib/perl5/5.20/mach/CORE   -fstack-protector -L/usr/local/lib -Wl,--as-needed -o vim     -lgtk-x11-2.0 -lgdk-x11-2.0 -lpangocairo-1.0 -latk-1.0 -lcairo -lpthread -lgdk_pixbuf-2.0 -lgio-2.0 -lpangoft2-1.0 -lpango-1.0 -lgobject-2.0 -lglib-2.0 -lintl -lfontconfig -L/usr/local/lib -lfreetype  -lSM -lICE -lXpm  -lX11 -lXpm -lXt  -lXdmcp -lSM -lICE    -lm -lelf  -pthread -ltermlib -liconv -lintl      -Wl,-R/usr/local/lib/perl5/5.20/mach/CORE -lpthread -Wl,-E  -fstack-protector -L/usr/local/lib  -L/usr/local/lib/perl5/5.20/mach/CORE -lperl -lm -lcrypt -lutil  -L/usr/local/lib/python2.7/config -lpython2.7 -L/usr/local/lib -lintl -lutil -lm -Wl,--export-dynamic    -L/usr/local/lib -ltcl86 -lz -lpthread -lm  -lruby21 -lexecinfo -lcrypt -lm -lpthread -L/usr/local/lib -L/usr/local/lib     
# 
t/000-vim-version.t .... ok
t/all-syntax-groups.t .. ok
t/ansi.t ............... ok
t/bin.t ................ ok
t/compare-formats.t .... ok
t/encoding.t ........... ok
t/html.t ............... ok
t/input_filename.t ..... ok
t/new.t ................ ok
t/override-options.t ... ok
t/share-dir.t .......... ok
t/tvctestsyn.t ......... ok
t/untie-std-handles.t .. ok
t/vim_let.t ............ ok
t/vim_options.t ........ ok
t/xml.t ................ ok
All tests successful.

Test Summary Report
-------------------
t/encoding.t         (Wstat: 0 Tests: 8 Failed: 0)
  TODO passed:   5-6
Files=18, Tests=143,  3 wallclock secs ( 0.02 usr  0.09 sys +  2.26 cusr  0.69 csys =  3.06 CPU)
Result: PASS

------------------------------
PREREQUISITES
------------------------------

Prerequisite modules loaded:

requires:

    Module                     Need  Have    
    -------------------------- ----- --------
    Carp                       0     1.38    
    constant                   0     1.33    
    File::Copy                 0     2.21    
    File::ShareDir             0     1.104   
    File::Temp                 0     0.2304  
    Getopt::Long               0     2.49    
    IO::File                   0     1.15    
    IPC::Open3                 0     1.0901  
    Path::Class                0.04  0.37    
    perl                       5.006 5.014004
    strict                     0     1.04    
    Symbol                     0     1.07    
    Term::ANSIColor            1.03  4.06    
    warnings                   0     1.12    

build_requires:

    Module                     Need  Have    
    -------------------------- ----- --------
    blib                       1.01  1.06    
    Exporter                   0     5.72    
    ExtUtils::MakeMaker        0     7.24    
    File::Spec                 0     3.62    
    File::Temp                 0     0.2304  
    IO::Handle                 0     1.31    
    IPC::Open3                 0     1.0901  
    lib                        0     0.63    
    Path::Class                0.04  0.37    
    Test::File::ShareDir::Dist 0     1.001001
    Test::More                 0.88  1.302086

configure_requires:

    Module                     Need  Have    
    -------------------------- ----- --------
    ExtUtils::MakeMaker        0     7.24    
    File::ShareDir::Install    0.06  0.11    
    File::Temp                 0     0.2304  
    IO::File                   0     1.15    
    IPC::Open3                 0     1.0901  
    perl                       5.006 5.014004
    strict                     0     1.04    
    warnings                   0     1.12    


------------------------------
ENVIRONMENT AND OTHER CONTEXT
------------------------------

Environment variables:

    LC_ALL = de_DE.ISO8859-1
    PATH = /usr/local/bin:/usr/bin:/bin:/usr/local/sbin:/usr/sbin:/sbin:/home/cpansand/bin/freebsd9.3:/home/cpansand/bin/sh:/home/cpansand/bin:/usr/games:/home/cpansand/devel:/usr/home/eserte/src/srezic-misc/scripts
    PERL5LIB = 
    PERL5OPT = 
    PERL5_CPANPLUS_IS_RUNNING = 80914
    PERL5_CPAN_IS_RUNNING = 80914
    PERL5_CPAN_IS_RUNNING_IN_RECURSION = 80869,80914
    PERLDOC = -MPod::Perldoc::ToTextOverstrike
    PERL_BATCH = yes
    PERL_CANARY_STABILITY_NOPROMPT = 1
    PERL_CPAN_REPORTER_CONFIG = /var/tmp/cpansmoker-1023/2017080703/cpanreporter_000_config.ini
    PERL_EXTUTILS_AUTOINSTALL = --defaultdeps
    SHELL = /usr/local/bin/zsh
    TERM = screen
    TMPDIR = /var/tmp/cpansmoker-1023/2017080703

Perl special variables (and OS-specific diagnostics, for MSWin32):

    $^X = /usr/perl5.14.4/bin/perl
    $UID/$EUID = 1023 / 1023
    $GID = 1023 1023
    $EGID = 1023 1023

Perl module toolchain versions installed:

    Module              Have    
    ------------------- --------
    CPAN                2.16    
    CPAN::Meta          2.150010
    Cwd                 3.62    
    ExtUtils::CBuilder  0.280226
    ExtUtils::Command   7.24    
    ExtUtils::Install   2.12    
    ExtUtils::MakeMaker 7.24    
    ExtUtils::Manifest  1.70    
    ExtUtils::ParseXS   3.35    
    File::Spec          3.62    
    JSON                2.93    
    JSON::PP            2.93    
    Module::Build       0.4222  
    Module::Signature   0.81    
    Parse::CPAN::Meta   2.150010
    Test::Harness       3.39    
    Test::More          1.302086
    YAML                1.20    
    YAML::Syck          1.30    
    version             0.9918  


--

Summary of my perl5 (revision 5 version 14 subversion 4) configuration:
   
  Platform:
    osname=freebsd, osvers=9.2-release-p4, archname=amd64-freebsd
    uname='freebsd cvrsnica-freebsd-92 9.2-release-p4 freebsd 9.2-release-p4 #0: tue apr 8 18:08:22 utc 2014 root@amd64-builder.daemonology.net:usrobjusrsrcsysgeneric amd64 '
    config_args='-ds -e -Dprefix=/usr/perl5.14.4'
    hint=recommended, useposix=true, d_sigaction=define
    useithreads=undef, usemultiplicity=undef
    useperlio=define, d_sfio=undef, uselargefiles=define, usesocks=undef
    use64bitint=define, use64bitall=define, uselongdouble=undef
    usemymalloc=n, bincompat5005=undef
  Compiler:
    cc='cc', ccflags ='-DHAS_FPSETMASK -DHAS_FLOATINGPOINT_H -fno-strict-aliasing -pipe -fstack-protector -I/usr/local/include',
    optimize='-O',
    cppflags='-DHAS_FPSETMASK -DHAS_FLOATINGPOINT_H -fno-strict-aliasing -pipe -fstack-protector -I/usr/local/include'
    ccversion='', gccversion='4.2.1 20070831 patched [FreeBSD]', gccosandvers=''
    intsize=4, longsize=8, ptrsize=8, doublesize=8, byteorder=12345678
    d_longlong=define, longlongsize=8, d_longdbl=define, longdblsize=16
    ivtype='long', ivsize=8, nvtype='double', nvsize=8, Off_t='off_t', lseeksize=8
    alignbytes=8, prototype=define
  Linker and Libraries:
    ld='cc', ldflags ='-Wl,-E  -fstack-protector -L/usr/local/lib'
    libpth=/usr/lib /usr/local/lib
    libs=-lgdbm -lm -lcrypt -lutil -lc
    perllibs=-lm -lcrypt -lutil -lc
    libc=, so=so, useshrplib=false, libperl=libperl.a
    gnulibc_version=''
  Dynamic Linking:
    dlsrc=dl_dlopen.xs, dlext=so, d_dlsymun=undef, ccdlflags=' '
    cccdlflags='-DPIC -fPIC', lddlflags='-shared  -L/usr/local/lib -fstack-protector'


Characteristics of this binary (from libperl): 
  Compile-time options: PERL_DONT_CREATE_GVSV PERL_MALLOC_WRAP
                        PERL_PRESERVE_IVUV USE_64_BIT_ALL USE_64_BIT_INT
                        USE_LARGE_FILES USE_PERLIO USE_PERL_ATOF
  Built under freebsd
  Compiled at May 16 2014 00:20:44
  %ENV:
    PERL5LIB=""
    PERL5OPT=""
    PERL5_CPANPLUS_IS_RUNNING="80914"
    PERL5_CPAN_IS_RUNNING="80914"
    PERL5_CPAN_IS_RUNNING_IN_RECURSION="80869,80914"
    PERLDOC="-MPod::Perldoc::ToTextOverstrike"
    PERL_BATCH="yes"
    PERL_CANARY_STABILITY_NOPROMPT="1"
    PERL_CPAN_REPORTER_CONFIG="/var/tmp/cpansmoker-1023/2017080703/cpanreporter_000_config.ini"
    PERL_EXTUTILS_AUTOINSTALL="--defaultdeps"
  @INC:
    /usr/perl5.14.4/lib/site_perl/5.14.4/amd64-freebsd
    /usr/perl5.14.4/lib/site_perl/5.14.4
    /usr/perl5.14.4/lib/5.14.4/amd64-freebsd
    /usr/perl5.14.4/lib/5.14.4
    .