Archive-Tar-Wrapper v0.34 Perl 5 v5.10.1 darwin-2level
- Status
- Pass
- From
- Karen Etheridge
- Dist
-
Archive-Tar-Wrapper v0.34
- Platform
- Perl 5 v5.10.1 darwin-2level
- Date
- 2019-03-27 16:55:40
- ID
- 26fa312a-50b1-11e9-a8fb-addc9c67c3c2
This distribution has been tested as part of the CPAN Testers
project, supporting the Perl programming language. See
http://wiki.cpantesters.org/ for more information or email
questions to cpan-testers-discuss@perl.org
--
Dear ARFREITAS,
This is a computer-generated report for Archive-Tar-Wrapper-0.34
on perl 5.10.1, created by App::cpanminus::reporter 0.17 (1.9018).
Thank you for uploading your work to CPAN. Congratulations!
All tests were successful.
Sections of this report:
* Tester comments
* Program output
* Prerequisites
* Environment and other context
------------------------------
TESTER COMMENTS
------------------------------
Additional comments from tester:
none provided
------------------------------
PROGRAM OUTPUT
------------------------------
Output from '':
Building and testing Archive-Tar-Wrapper-0.34
cp lib/Archive/Tar/Wrapper.pm blib/lib/Archive/Tar/Wrapper.pm
Manifying 1 pod document
PERL_DL_NONLAZY=1 "/Volumes/amaretto/Users/ether/perl5/perlbrew/perls/10.1/bin/perl" "-MExtUtils::Command::MM" "-MTest::Harness" "-e" "undef *Test::Harness::Switches; test_harness(0, 'blib/lib', 'blib/arch')" t/*.t
t/003Dirs.t ......... ok
t/005Cwd.t .......... ok
t/002Mult.t ......... ok
t/004Utf8.t ......... ok
t/006DirPerms.t ..... ok
t/001Basic.t ........ ok
t/009compressed.t ... ok
t/007bzip.t ......... ok
t/010openbsd.t ...... ok
# with grep: Ran 1337 iterations (311 outliers).
# with grep: Rounded run time per iteration: 0.000870 +/- 0.000000 (0.0%)
# with grep and compiled regex: Ran 1337 iterations (312 outliers).
# with grep and compiled regex: Rounded run time per iteration: 0.001311 +/- 0.000000 (0.0%)
# with eq: Ran 1337 iterations (309 outliers).
# with eq: Rounded run time per iteration: 0.000910 +/- 0.000000 (0.0%)
# with enhanced eq: Ran 1337 iterations (321 outliers).
# with enhanced eq: Rounded run time per iteration: 0.000896 +/- 0.000001 (0.1%)
# with enhanced eq mark2: Ran 1337 iterations (324 outliers).
# with enhanced eq mark2: Rounded run time per iteration: 0.000637 +/- 0.000000 (0.1%)
# with enhanced eq mark3: Ran 1214 iterations (187 outliers).
# with enhanced eq mark3: Rounded run time per iteration: 0.000583 +/- 0.000000 (0.1%)
# sort and shift: Ran 1337 iterations (325 outliers).
# sort and shift: Rounded run time per iteration: 0.000737 +/- 0.000000 (0.0%)
t/008performance.t .. ok
All tests successful.
Files=10, Tests=65, 18 wallclock secs ( 0.04 usr 0.03 sys + 17.44 cusr 2.40 csys = 19.91 CPU)
Result: PASS
------------------------------
PREREQUISITES
------------------------------
Prerequisite modules loaded:
No requirements found
------------------------------
ENVIRONMENT AND OTHER CONTEXT
------------------------------
Environment variables:
HARNESS_OPTIONS = j6:c
LANG = en_CA.UTF-8
NO_NETWORK_TESTING = 1
PATH = /Volumes/amaretto/Users/ether/.perlbrew/libs/10.1@std/bin:/Volumes/amaretto/Users/ether/perl5/perlbrew/bin:/Volumes/amaretto/Users/ether/perl5/perlbrew/perls/10.1/bin:/Volumes/amaretto/Users/ether/bin:/Volumes/amaretto/Users/ether/git/misc/install/jaeger/bin:/Volumes/amaretto/Users/ether/git/misc/install/generic/bin:/opt/local/bin:/opt/local/sbin:/Volumes/amaretto/Users/ether/git/git-hub/lib:/usr/local/bin:/usr/bin:/bin:/usr/sbin:/sbin:/opt/local/share/git-core/contrib/workdir
PERL5LIB = /Volumes/amaretto/Users/ether/.perlbrew/libs/10.1@std/lib/perl5
PERLBREW_HOME = /Volumes/amaretto/Users/ether/.perlbrew
PERLBREW_LIB = std
PERLBREW_MANPATH = /Volumes/amaretto/Users/ether/.perlbrew/libs/10.1@std/man:/Volumes/amaretto/Users/ether/perl5/perlbrew/perls/10.1/man
PERLBREW_PATH = /Volumes/amaretto/Users/ether/.perlbrew/libs/10.1@std/bin:/Volumes/amaretto/Users/ether/perl5/perlbrew/bin:/Volumes/amaretto/Users/ether/perl5/perlbrew/perls/10.1/bin
PERLBREW_PERL = 10.1
PERLBREW_ROOT = /Volumes/amaretto/Users/ether/perl5/perlbrew
PERLBREW_SHELLRC_VERSION = 0.86
PERLBREW_VERSION = 0.86
PERLDOC = -oman
PERLDOC_PAGER = less -sicMr
PERL_AUTOINSTALL_PREFER_CPAN = 1
PERL_INSTALL_QUIET = 1
PERL_LOCAL_LIB_ROOT = /Volumes/amaretto/Users/ether/.perlbrew/libs/10.1@std
PERL_MB_OPT = --install_base /Volumes/amaretto/Users/ether/.perlbrew/libs/10.1@std
PERL_MM_OPT = INSTALL_BASE=/Volumes/amaretto/Users/ether/.perlbrew/libs/10.1@std
PERL_USE_UNSAFE_INC = 0
SHELL = /bin/bash
TERM = xterm-color
TMPDIR = /var/folders/4f/y458q_3n2g75w6m_k19nn8kr0000gp/T/
Perl special variables (and OS-specific diagnostics, for MSWin32):
EGID = 20 20 12 61 79 80 81 98 701 33 100 204 395 398 399
EUID = 502
EXECUTABLE_NAME = /Volumes/amaretto/Users/ether/perl5/perlbrew/perls/10.1/bin/perl
GID = 20 20 12 61 79 80 81 98 701 33 100 204 395 398 399
UID = 502
Perl module toolchain versions installed:
Module Have
------------------- --------
CPAN 1.9402
CPAN::Meta 2.150010
Cwd 3.47
ExtUtils::CBuilder 0.280220
ExtUtils::Command 7.05_19
ExtUtils::Install 1.54
ExtUtils::MakeMaker 7.05_19
ExtUtils::Manifest 1.70
ExtUtils::ParseXS 3.24
File::Spec 3.47
JSON 2.90
JSON::PP 2.93
Module::Build 0.4211
Module::Signature n/a
Parse::CPAN::Meta 2.150010
Test::Harness 3.35
Test::More 1.302136
YAML n/a
YAML::Syck n/a
version 0.9924
--
Summary of my perl5 (revision 5 version 10 subversion 1) configuration:
Platform:
osname=darwin, osvers=14.1.0, archname=darwin-2level
uname='darwin jaeger 14.1.0 darwin kernel version 14.1.0: mon dec 22 23:10:38 pst 2014; root:xnu-2782.10.72~2release_x86_64 x86_64 '
config_args='-de -Dprefix=/Volumes/amaretto/Users/ether/perl5/perlbrew/perls/10.1 -Dman1dir=none -Dman3dir=none -Aeval:scriptdir=/Volumes/amaretto/Users/ether/perl5/perlbrew/perls/10.1/bin'
hint=recommended, useposix=true, d_sigaction=define
useithreads=undef, usemultiplicity=undef
useperlio=define, d_sfio=undef, uselargefiles=define, usesocks=undef
use64bitint=define, use64bitall=define, uselongdouble=undef
usemymalloc=n, bincompat5005=undef
Compiler:
cc='cc', ccflags ='-fno-common -DPERL_DARWIN -fno-strict-aliasing -pipe -fstack-protector -I/opt/local/include',
optimize='-O3',
cppflags='-fno-common -DPERL_DARWIN -fno-strict-aliasing -pipe -fstack-protector -I/opt/local/include'
ccversion='', gccversion='4.2.1 Compatible Apple LLVM 6.0 (clang-600.0.56)', gccosandvers=''
intsize=4, longsize=8, ptrsize=8, doublesize=8, byteorder=12345678
d_longlong=define, longlongsize=8, d_longdbl=define, longdblsize=16
ivtype='long', ivsize=8, nvtype='double', nvsize=8, Off_t='off_t', lseeksize=8
alignbytes=8, prototype=define
Linker and Libraries:
ld='env MACOSX_DEPLOYMENT_TARGET=10.3 cc', ldflags =' -fstack-protector -L/opt/local/lib'
libpth=/opt/local/lib /usr/lib
libs=-lgdbm -ldbm -ldl -lm -lutil -lc
perllibs=-ldl -lm -lutil -lc
libc=, so=dylib, useshrplib=false, libperl=libperl.a
gnulibc_version=''
Dynamic Linking:
dlsrc=dl_dlopen.xs, dlext=bundle, d_dlsymun=undef, ccdlflags=' '
cccdlflags=' ', lddlflags=' -bundle -undefined dynamic_lookup -L/opt/local/lib -fstack-protector'
Characteristics of this binary (from libperl):
Compile-time options: PERL_DONT_CREATE_GVSV PERL_MALLOC_WRAP USE_64_BIT_ALL
USE_64_BIT_INT USE_LARGE_FILES USE_PERLIO
Locally applied patches:
Devel::PatchPerl 1.30
Built under darwin
Compiled at Feb 22 2015 18:01:42
%ENV:
PERL5LIB="/Volumes/amaretto/Users/ether/.perlbrew/libs/10.1@std/lib/perl5"
PERLBREW_HOME="/Volumes/amaretto/Users/ether/.perlbrew"
PERLBREW_LIB="std"
PERLBREW_MANPATH="/Volumes/amaretto/Users/ether/.perlbrew/libs/10.1@std/man:/Volumes/amaretto/Users/ether/perl5/perlbrew/perls/10.1/man"
PERLBREW_PATH="/Volumes/amaretto/Users/ether/.perlbrew/libs/10.1@std/bin:/Volumes/amaretto/Users/ether/perl5/perlbrew/bin:/Volumes/amaretto/Users/ether/perl5/perlbrew/perls/10.1/bin"
PERLBREW_PERL="10.1"
PERLBREW_ROOT="/Volumes/amaretto/Users/ether/perl5/perlbrew"
PERLBREW_SHELLRC_VERSION="0.86"
PERLBREW_VERSION="0.86"
PERLDOC="-oman"
PERLDOC_PAGER="less -sicMr"
PERL_AUTOINSTALL_PREFER_CPAN="1"
PERL_INSTALL_QUIET="1"
PERL_LOCAL_LIB_ROOT="/Volumes/amaretto/Users/ether/.perlbrew/libs/10.1@std"
PERL_MB_OPT="--install_base /Volumes/amaretto/Users/ether/.perlbrew/libs/10.1@std"
PERL_MM_OPT="INSTALL_BASE=/Volumes/amaretto/Users/ether/.perlbrew/libs/10.1@std"
PERL_USE_UNSAFE_INC="0"
@INC:
/Volumes/amaretto/Users/ether/.perlbrew/libs/10.1@std/lib/perl5/darwin-2level
/Volumes/amaretto/Users/ether/.perlbrew/libs/10.1@std/lib/perl5
/Volumes/amaretto/Users/ether/perl5/perlbrew/perls/10.1/lib/5.10.1/darwin-2level
/Volumes/amaretto/Users/ether/perl5/perlbrew/perls/10.1/lib/5.10.1
/Volumes/amaretto/Users/ether/perl5/perlbrew/perls/10.1/lib/site_perl/5.10.1/darwin-2level
/Volumes/amaretto/Users/ether/perl5/perlbrew/perls/10.1/lib/site_perl/5.10.1
.