XML-XPathScript v1.55 Perl 5 v5.24.3 x86_64-linux-thread-multi-ld

Status
Pass
From
Andreas J. König (ANDK)
Dist
XML-XPathScript v1.55
Platform
Perl 5 v5.24.3 x86_64-linux-thread-multi-ld
Date
2018-06-21 00:22:16
ID
27215a9c-74e9-11e8-8e69-d8f6c5e76fbb
This distribution has been tested as part of the CPAN Testers
project, supporting the Perl programming language.  See
http://wiki.cpantesters.org/ for more information or email
questions to cpan-testers-discuss@perl.org


--
Dear Yanick Champoux,

This is a computer-generated report for XML-XPathScript-1.55
on perl 5.24.3, created by CPAN-Reporter-1.2018.

Thank you for uploading your work to CPAN.  Congratulations!
All tests were successful.

Sections of this report:

    * Tester comments
    * Program output
    * Prerequisites
    * Environment and other context

------------------------------
TESTER COMMENTS
------------------------------

Additional comments from tester:

this report is from an automated smoke testing program
and was not reviewed by a human for accuracy

------------------------------
PROGRAM OUTPUT
------------------------------

Output from './Build test':

t/00-compile.t ................. ok
# 
# Versions for all modules listed in MYMETA.json (including optional ones):
# 
# === Configure Requires ===
# 
#     Module              Want    Have
#     ------------------- ---- -------
#     ExtUtils::MakeMaker  any 7.35_03
# 
# === Build Requires ===
# 
#     Module     Want Have
#     ---------- ---- ----
#     File::Find  any 1.34
#     File::Spec  any 3.74
# 
# === Test Requires ===
# 
#     Module              Want     Have
#     ------------------- ---- --------
#     ExtUtils::MakeMaker  any  7.35_03
#     File::Spec           any     3.74
#     IO::File             any     1.39
#     IO::Handle           any     1.39
#     IPC::Open3           any     1.20
#     Test                 any  1.28_01
#     Test::More           any 1.302136
# 
# === Test Recommends ===
# 
#     Module         Want     Have
#     ---------- -------- --------
#     CPAN::Meta 2.120900 2.150010
# 
# === Runtime Requires ===
# 
#     Module                Want    Have
#     --------------------- ---- -------
#     Carp                   any    1.40
#     Clone                  any    0.39
#     Data::Dumper           any   2.161
#     Exporter               any    5.72
#     File::Basename         any    2.85
#     IO::File               any    1.39
#     Readonly               any    2.05
#     Scalar::Util           any    1.50
#     Symbol                 any    1.07
#     XML::LibXML            any  2.0132
#     XML::Parser            any    2.44
#     XML::XPath             any    1.42
#     XML::XPath::Node       any    1.42
#     XML::XPath::NodeSet    any    1.42
#     XML::XPath::XMLParser  any    1.42
#     base                   any 2.23_01
#     bytes                  any    1.05
#     constant               any    1.33
#     overload               any    1.26
#     strict                 any    1.11
#     utf8                   any    1.19
#     vars                   any    1.03
#     warnings               any    1.36
# 
t/00-report-prereqs.t .......... ok
t/01basic.t .................... ok
t/02interpolate.t .............. ok
t/03general.t .................. ok
t/04unicode.t .................. ok
t/05textnode.t ................. ok
t/06testcode.t ................. ok
t/07stylesheetcallbacks.t ...... ok
t/08document.t ................. ok
t/09argencoding.t .............. ok
t/10comments.t ................. ok
t/11new_interface.t ............ ok
t/12template.t ................. ok
t/13samples.t .................. ok
t/14transform.t ................ ok
t/15stylesheet_dependencies.t .. ok
t/16stylesheet_arguments.t ..... ok
t/17xml_loading.t .............. ok
t/18tag.t ...................... ok
t/19namespace.t ................ ok
This is $Id: docbook2latex.xps 32928 2006-02-01 17:59:52Z dom $
Using XML::LibXML version 2.0132, XML::XPathScript version 1.55
Unknown Unicode character (code 0x0) : <control>
Modify me! (array %uniconvs at the top of docbook2latex.xps)
/article[1]/sect1[@id="SEC-tables"]/table[@id="CC-Niveaux-Assurance"]/tgroup[1]/tbody[1]/row[1]/entry[1]:
     I don't know how to align multiline cells in TeX in stylesheet line 2104
/article[1]/sect1[@id="SEC-tables"]/table[@id="CC-Niveaux-Assurance"]/tgroup[1]/tbody[1]:
     No more room for this cell (row 3, entry 12) in stylesheet line 1971

/article[1]/sect1[2]/para[7]/xref[1]:
     label "FOOT-imbriquee" not found in stylesheet line 2435
/article[1]/sect1[3]/sect2[1]/screenco[1]/calloutlist[1]/callout[1]:
     No area definition found for premiere for this callout in stylesheet line 1379
/article[1]/sect1[3]/sect2[1]/screenco[1]/calloutlist[1]/callout[2]:
     No area definition found for premiere for this callout in stylesheet line 1379
/article[1]/sect1[3]/sect2[1]/screenco[1]/calloutlist[1]/callout[2]:
     No area definition found for troisieme for this callout in stylesheet line 1379
/article[1]/sect1[3]/sect2[1]/screenco[1]/calloutlist[1]/callout[3]:
     No area definition found for tout-le-texte for this callout in stylesheet line 1379
/article[1]/sect1[4]/para[1]/blockquote[1]/para[1]/xref[1]:
     label "TABLE1" not found in stylesheet line 2435
/article[1]/sect1[4]/para[1]/blockquote[1]/para[1]/xref[2]:
     label "SEC-tables" not found in stylesheet line 2435
/article[1]/sect1[4]/para[1]/blockquote[1]/para[1]/xref[3]:
     label "TABLE2" not found in stylesheet line 2435
/article[1]/sect1[4]/para[1]/blockquote[1]/para[1]/xref[4]:
     label "TABLE1" not found in stylesheet line 2435
/article[1]/sect1[4]/para[1]/blockquote[2]/para[1]/xref[1]:
     label "TABLE1" not found in stylesheet line 2435
/article[1]/sect1[4]/para[1]/blockquote[2]/para[1]/xref[2]:
     label "SEC-tables" not found in stylesheet line 2435
/article[1]/sect1[4]/para[1]/blockquote[2]/para[1]/xref[3]:
     label "TABLE2" not found in stylesheet line 2435
/article[1]/sect1[4]/para[1]/blockquote[2]/para[1]/xref[4]:
     label "TABLE1" not found in stylesheet line 2435
/article[1]/sect1[4]/para[2]/orderedlist[1]/listitem[2]/para[1]/xref[1]:
     label "SEC-chef-tjrs-raison" not found in stylesheet line 2435
t/20docbookxml2latex.t ......... ok
t/21processor.t ................ ok
t/22stylesheet.t ............... ok
t/24content.t .................. ok
t/25stylesheetlines.t .......... ok
t/26bxpath.t ................... skipped: B::XPath not installed
t/27template_import.t .......... ok
t/28function_overload.t ........ ok
t/40axkit.t .................... skipped: AxKit needed
t/50tomkit.t ................... skipped: TomKit needed
t/99signature.t ................ skipped: Set TEST_AUTHOR in your environment to enable these tests
All tests successful.
Files=32, Tests=136, 10 wallclock secs ( 0.07 usr  0.28 sys +  3.90 cusr  0.89 csys =  5.14 CPU)
Result: PASS

------------------------------
PREREQUISITES
------------------------------

Prerequisite modules loaded:

requires:

    Module              Need   Have    
    ------------------- ------ --------
    Carp                0      1.40    
    Clone               0      0.39    
    Data::Dumper        0      2.161   
    File::Basename      0      2.85    
    IO::File            0      1.39    
    perl                v5.8.0 5.024003
    Readonly            0      2.05    
    Scalar::Util        0      1.50    
    Symbol              0      1.07    
    XML::LibXML         0      2.0132  

build_requires:

    Module              Need   Have    
    ------------------- ------ --------
    File::Find          0      1.34    
    File::Spec          0      3.74    

configure_requires:

    Module              Need   Have    
    ------------------- ------ --------
    ExtUtils::MakeMaker 0      7.35_03 


------------------------------
ENVIRONMENT AND OTHER CONTEXT
------------------------------

Environment variables:

    AUTOMATED_TESTING = 1
    LANG = en_US.UTF-8
    PATH = /home/sand/bin:/usr/local/bin:/usr/bin:/bin:/usr/games:/usr/local/perl/bin:/usr/X11/bin:/sbin:/usr/sbin
    PERL5LIB = 
    PERL5OPT = 
    PERL5_CPANPLUS_IS_RUNNING = 19695
    PERL5_CPAN_IS_RUNNING = 19695
    PERL_CANARY_STABILITY_NOPROMPT = 1
    PERL_MM_USE_DEFAULT = 1
    PERL_USE_UNSAFE_INC = 1
    SHELL = /usr/bin/zsh
    TERM = screen

Perl special variables (and OS-specific diagnostics, for MSWin32):

    $^X = /home/sand/src/perl/repoperls/installed-perls/host/k93msid/v5.24.3/8854/bin/perl
    $UID/$EUID = 1005 / 1005
    $GID = 1005 1005
    $EGID = 1005 1005

Perl module toolchain versions installed:

    Module              Have    
    ------------------- --------
    CPAN                2.20    
    CPAN::Meta          2.150010
    Cwd                 3.74    
    ExtUtils::CBuilder  0.280230
    ExtUtils::Command   7.35_03 
    ExtUtils::Install   2.06    
    ExtUtils::MakeMaker 7.35_03 
    ExtUtils::Manifest  1.70    
    ExtUtils::ParseXS   3.31    
    File::Spec          3.74    
    JSON                2.97001 
    JSON::PP            2.97001 
    Module::Build       0.4224  
    Module::Signature   0.81    
    Parse::CPAN::Meta   2.150010
    Test::Harness       3.43_01 
    Test::More          1.302136
    YAML                1.25    
    YAML::Syck          1.30    
    version             0.9922  


--

Summary of my perl5 (revision 5 version 24 subversion 3) configuration:
  Derived from: 9f1d3884c227a955e9ecaaadba4cba3280c47e3a
  Platform:
    osname=linux, osvers=4.14.0-3-amd64, archname=x86_64-linux-thread-multi-ld
    uname='linux k93msid 4.14.0-3-amd64 #1 smp debian 4.14.12-2 (2018-01-06) x86_64 gnulinux '
    config_args='-Dprefix=/home/sand/src/perl/repoperls/installed-perls/host/k93msid/v5.24.3/8854 -Dmyhostname=k93msid -Dinstallusrbinperl=n -Uversiononly -Dusedevel -des -Ui_db -Dlibswanted=cl pthread socket inet nsl gdbm dbm malloc dl ld sun m crypt sec util c cposix posix ucb BSD gdbm_compat -Duseithreads -Duselongdouble -DEBUGGING=-g'
    hint=recommended, useposix=true, d_sigaction=define
    useithreads=define, usemultiplicity=define
    use64bitint=define, use64bitall=define, uselongdouble=define
    usemymalloc=n, bincompat5005=undef
  Compiler:
    cc='cc', ccflags ='-D_REENTRANT -D_GNU_SOURCE -fwrapv -fno-strict-aliasing -pipe -fstack-protector-strong -I/usr/local/include -D_LARGEFILE_SOURCE -D_FILE_OFFSET_BITS=64 -D_FORTIFY_SOURCE=2',
    optimize='-O2 -g',
    cppflags='-D_REENTRANT -D_GNU_SOURCE -fwrapv -fno-strict-aliasing -pipe -fstack-protector-strong -I/usr/local/include'
    ccversion='', gccversion='7.2.0', gccosandvers=''
    intsize=4, longsize=8, ptrsize=8, doublesize=8, byteorder=12345678, doublekind=3
    d_longlong=define, longlongsize=8, d_longdbl=define, longdblsize=16, longdblkind=3
    ivtype='long', ivsize=8, nvtype='long double', nvsize=16, Off_t='off_t', lseeksize=8
    alignbytes=16, prototype=define
  Linker and Libraries:
    ld='cc', ldflags =' -fstack-protector-strong -L/usr/local/lib'
    libpth=/usr/local/lib /usr/lib/gcc/x86_64-linux-gnu/7/include-fixed /usr/include/x86_64-linux-gnu /usr/lib /lib/x86_64-linux-gnu /lib/../lib /usr/lib/x86_64-linux-gnu /usr/lib/../lib /lib
    libs=-lpthread -lnsl -ldl -lm -lcrypt -lutil -lc
    perllibs=-lpthread -lnsl -ldl -lm -lcrypt -lutil -lc
    libc=libc-2.26.so, so=so, useshrplib=false, libperl=libperl.a
    gnulibc_version='2.26'
  Dynamic Linking:
    dlsrc=dl_dlopen.xs, dlext=so, d_dlsymun=undef, ccdlflags='-Wl,-E'
    cccdlflags='-fPIC', lddlflags='-shared -O2 -g -L/usr/local/lib -fstack-protector-strong'


Characteristics of this binary (from libperl): 
  Compile-time options: HAS_TIMES MULTIPLICITY PERLIO_LAYERS
                        PERL_COPY_ON_WRITE PERL_DONT_CREATE_GVSV
                        PERL_HASH_FUNC_ONE_AT_A_TIME_HARD
                        PERL_IMPLICIT_CONTEXT PERL_MALLOC_WRAP
                        PERL_PRESERVE_IVUV PERL_USE_DEVEL USE_64_BIT_ALL
                        USE_64_BIT_INT USE_ITHREADS USE_LARGE_FILES
                        USE_LOCALE USE_LOCALE_COLLATE USE_LOCALE_CTYPE
                        USE_LOCALE_NUMERIC USE_LOCALE_TIME USE_LONG_DOUBLE
                        USE_PERLIO USE_PERL_ATOF USE_REENTRANT_API
  Locally applied patches:
	uncommitted-changes
  Built under linux
  Compiled at Jan  8 2018 13:13:11
  %ENV:
    PERL5LIB=""
    PERL5OPT=""
    PERL5_CPANPLUS_IS_RUNNING="19695"
    PERL5_CPAN_IS_RUNNING="19695"
    PERL_CANARY_STABILITY_NOPROMPT="1"
    PERL_MM_USE_DEFAULT="1"
    PERL_USE_UNSAFE_INC="1"
  @INC:
    /home/sand/src/perl/repoperls/installed-perls/host/k93msid/v5.24.3/8854/lib/site_perl/5.24.3/x86_64-linux-thread-multi-ld
    /home/sand/src/perl/repoperls/installed-perls/host/k93msid/v5.24.3/8854/lib/site_perl/5.24.3
    /home/sand/src/perl/repoperls/installed-perls/host/k93msid/v5.24.3/8854/lib/5.24.3/x86_64-linux-thread-multi-ld
    /home/sand/src/perl/repoperls/installed-perls/host/k93msid/v5.24.3/8854/lib/5.24.3
    .