Report for Padre-Plugin-SpellCheck-1.33

Back
From: metabase:user:9762ed18-1c33-11e1-8beb-fb37bdc4c604
Subject: PASS Padre-Plugin-SpellCheck-1.33 v5.21.1 GNU/Linux
Date: 2014-07-03T23:17:08Z

This distribution has been tested as part of the CPAN Testers
project, supporting the Perl programming language.  See
http://wiki.cpantesters.org/ for more information or email
questions to cpan-testers-discuss@perl.org


--
Dear Kevin Dawson,

This is a computer-generated report for Padre-Plugin-SpellCheck-1.33
on perl 5.21.1, created by CPAN-Reporter-1.2011.

Thank you for uploading your work to CPAN.  Congratulations!
All tests were successful.

Sections of this report:

    * Tester comments
    * Program output
    * Prerequisites
    * Environment and other context

------------------------------
TESTER COMMENTS
------------------------------

Additional comments from tester:

none provided

------------------------------
PROGRAM OUTPUT
------------------------------

Output from '/usr/bin/make test':

PERL_DL_NONLAZY=1 /home/kevin/perl5/perlbrew/perls/perl-5.21.1/bin/perl5.21.1 "-MExtUtils::Command::MM" "-MTest::Harness" "-e" "undef *Test::Harness::Switches; test_harness(0, 'inc', 'blib/lib', 'blib/arch')" t/*.t
# Info: Testing Padre::Plugin::SpellCheck 1.33
t/00-load.t ............ ok
t/01-SpellCheck.t ...... ok
t/02-pod.t ............. skipped: Author tests, not required for installation.
t/03-pod-coverage.t .... skipped: Release Candidate testing, not required for installation.
t/04-Preferences.t ..... ok
t/05-Checker.t ......... ok
t/06-Engine.t .......... ok
# Prerequisite Report:
#    Version Module               
#   -------- ---------------------
#       0.34 Class::Accessor      
#       2.62 Encode               
#       6.98 ExtUtils::MakeMaker  
#       3.48 File::Spec::Functions
#       1.09 File::Which          
#       1.39 List::Util           
#       1.01 Padre                
#   1.001003 Test::More           
#    missing Test::Pod            
#    missing Test::Pod::Coverage  
#       0.07 Test::Requires       
#       2.08 Text::Hunspell       
#       0.22 Try::Tiny            
#       1.31 constant             
#      0.228 parent               
t/07-report-prereqs.t .. ok
All tests successful.
Files=8, Tests=30,  7 wallclock secs ( 0.11 usr  0.01 sys +  5.74 cusr  0.41 csys =  6.27 CPU)
Result: PASS

------------------------------
PREREQUISITES
------------------------------

Prerequisite modules loaded:

requires:

    Module              Need     Have    
    ------------------- -------- --------
    Class::Accessor     0.34     0.34    
    constant            1.27     1.31    
    Encode              2.55     2.62    
    File::Which         1.09     1.09    
    Padre               0.98     1.01    
    parent              0.227    0.228   
    perl                5.010001 5.021001
    Text::Hunspell      2.08     2.08    
    Try::Tiny           0.18     0.22    

build_requires:

    Module              Need     Have    
    ------------------- -------- --------
    ExtUtils::MakeMaker 6.59     6.98    
    Test::More          0.98     1.001003
    Test::Requires      0.07     0.07    

configure_requires:

    Module              Need     Have    
    ------------------- -------- --------
    ExtUtils::MakeMaker 6.59     6.98    


------------------------------
ENVIRONMENT AND OTHER CONTEXT
------------------------------

Environment variables:

    LANG = en_GB.UTF-8
    LANGUAGE = en_GB:en
    LC_COLLATE = en_GB.UTF-8
    LC_CTYPE = en_GB.UTF-8
    LC_MESSAGES = en_GB.UTF-8
    LC_TIME = en_DK.utf8
    PATH = /home/kevin/perl5/perlbrew/bin:/home/kevin/perl5/perlbrew/perls/perl-5.21.1/bin:/home/kevin/bin:/usr/local/sbin:/usr/local/bin:/usr/sbin:/usr/bin:/sbin:/bin:/usr/games:/usr/local/games
    PERL5LIB = 
    PERL5OPT = 
    PERL5_CPANPLUS_IS_RUNNING = 16166
    PERL5_CPAN_IS_RUNNING = 16166
    PERLBREW_BASHRC_VERSION = 0.61
    PERLBREW_HOME = /home/kevin/.perlbrew
    PERLBREW_MANPATH = /home/kevin/perl5/perlbrew/perls/perl-5.21.1/man
    PERLBREW_PATH = /home/kevin/perl5/perlbrew/bin:/home/kevin/perl5/perlbrew/perls/perl-5.21.1/bin
    PERLBREW_PERL = perl-5.21.1
    PERLBREW_ROOT = /home/kevin/perl5/perlbrew
    PERLBREW_VERSION = 0.61
    SHELL = /bin/bash
    TERM = screen

Perl special variables (and OS-specific diagnostics, for MSWin32):

    $^X = /home/kevin/perl5/perlbrew/perls/perl-5.21.1/bin/perl5.21.1
    $UID/$EUID = 1001 / 1001
    $GID = 1001 4 20 21 24 25 26 29 30 39 40 44 46 104 105 112 119 122 132 1000 1001
    $EGID = 1001 4 20 21 24 25 26 29 30 39 40 44 46 104 105 112 119 122 132 1000 1001

Perl module toolchain versions installed:

    Module              Have    
    ------------------- --------
    CPAN                2.05    
    CPAN::Meta          2.141520
    Cwd                 3.48    
    ExtUtils::CBuilder  0.280216
    ExtUtils::Command   1.18    
    ExtUtils::Install   1.68    
    ExtUtils::MakeMaker 6.98    
    ExtUtils::Manifest  1.63    
    ExtUtils::ParseXS   3.25    
    File::Spec          3.48    
    JSON                2.90    
    JSON::PP            2.27203 
    Module::Build       0.4205  
    Module::Signature   n/a     
    Parse::CPAN::Meta   1.4414  
    Test::Harness       3.32    
    Test::More          1.001003
    YAML                0.95    
    YAML::Syck          n/a     
    version             0.9908  


--

Summary of my perl5 (revision 5 version 21 subversion 1) configuration:
   
  Platform:
    osname=linux, osvers=3.13.0-29-generic, archname=i686-linux-thread-multi
    uname='linux vinny 3.13.0-29-generic #53-ubuntu smp wed jun 4 21:02:19 utc 2014 i686 i686 i686 gnulinux '
    config_args='-de -Dprefix=/home/kevin/perl5/perlbrew/perls/perl-5.21.1 -Dusethreads -Dusedevel -Aeval:scriptdir=/home/kevin/perl5/perlbrew/perls/perl-5.21.1/bin'
    hint=recommended, useposix=true, d_sigaction=define
    useithreads=define, usemultiplicity=define
    use64bitint=undef, use64bitall=undef, uselongdouble=undef
    usemymalloc=n, bincompat5005=undef
  Compiler:
    cc='cc', ccflags ='-D_REENTRANT -D_GNU_SOURCE -fwrapv -fno-strict-aliasing -pipe -fstack-protector -I/usr/local/include -D_LARGEFILE_SOURCE -D_FILE_OFFSET_BITS=64',
    optimize='-O2',
    cppflags='-D_REENTRANT -D_GNU_SOURCE -fwrapv -fno-strict-aliasing -pipe -fstack-protector -I/usr/local/include'
    ccversion='', gccversion='4.8.2', gccosandvers=''
    intsize=4, longsize=4, ptrsize=4, doublesize=8, byteorder=1234
    d_longlong=define, longlongsize=8, d_longdbl=define, longdblsize=12
    ivtype='long', ivsize=4, nvtype='double', nvsize=8, Off_t='off_t', lseeksize=8
    alignbytes=4, prototype=define
  Linker and Libraries:
    ld='cc', ldflags =' -fstack-protector -L/usr/local/lib'
    libpth=/usr/local/lib /usr/lib/gcc/i686-linux-gnu/4.8/include-fixed /usr/include/i386-linux-gnu /usr/lib /lib/i386-linux-gnu /lib/../lib /usr/lib/i386-linux-gnu /usr/lib/../lib /lib
    libs=-lnsl -ldl -lm -lcrypt -lutil -lpthread -lc
    perllibs=-lnsl -ldl -lm -lcrypt -lutil -lpthread -lc
    libc=libc-2.19.so, so=so, useshrplib=false, libperl=libperl.a
    gnulibc_version='2.19'
  Dynamic Linking:
    dlsrc=dl_dlopen.xs, dlext=so, d_dlsymun=undef, ccdlflags='-Wl,-E'
    cccdlflags='-fPIC', lddlflags='-shared -O2 -L/usr/local/lib -fstack-protector'


Characteristics of this binary (from libperl): 
  Compile-time options: HAS_TIMES MULTIPLICITY PERLIO_LAYERS
                        PERL_DONT_CREATE_GVSV
                        PERL_HASH_FUNC_ONE_AT_A_TIME_HARD
                        PERL_IMPLICIT_CONTEXT PERL_MALLOC_WRAP
                        PERL_NEW_COPY_ON_WRITE PERL_PRESERVE_IVUV
                        PERL_USE_DEVEL USE_ITHREADS USE_LARGE_FILES
                        USE_LOCALE USE_LOCALE_COLLATE USE_LOCALE_CTYPE
                        USE_LOCALE_NUMERIC USE_PERLIO USE_PERL_ATOF
                        USE_REENTRANT_API
  Built under linux
  Compiled at Jul  2 2014 23:29:09
  %ENV:
    PERL5LIB=""
    PERL5OPT=""
    PERL5_CPANPLUS_IS_RUNNING="16166"
    PERL5_CPAN_IS_RUNNING="16166"
    PERLBREW_BASHRC_VERSION="0.61"
    PERLBREW_HOME="/home/kevin/.perlbrew"
    PERLBREW_MANPATH="/home/kevin/perl5/perlbrew/perls/perl-5.21.1/man"
    PERLBREW_PATH="/home/kevin/perl5/perlbrew/bin:/home/kevin/perl5/perlbrew/perls/perl-5.21.1/bin"
    PERLBREW_PERL="perl-5.21.1"
    PERLBREW_ROOT="/home/kevin/perl5/perlbrew"
    PERLBREW_VERSION="0.61"
  @INC:
    /home/kevin/perl5/perlbrew/perls/perl-5.21.1/lib/site_perl/5.21.1/i686-linux-thread-multi
    /home/kevin/perl5/perlbrew/perls/perl-5.21.1/lib/site_perl/5.21.1
    /home/kevin/perl5/perlbrew/perls/perl-5.21.1/lib/5.21.1/i686-linux-thread-multi
    /home/kevin/perl5/perlbrew/perls/perl-5.21.1/lib/5.21.1
    .