Back
From: metabase:user:9820532a-708b-1014-9a05-b18a96298da1
Subject: PASS JS-YUI-Loader-0.06 v5.15.5 GNU/Linux
Date: 2011-12-12T11:26:36Z
This distribution has been tested as part of the CPAN Testers
project, supporting the Perl programming language. See
http://wiki.cpantesters.org/ for more information or email
questions to cpan-testers-discuss@perl.org
--
Dear Robert Krimen,
This is a computer-generated report for JS-YUI-Loader-0.06
on perl 5.15.5, created by CPAN-Reporter-1.2003.
Thank you for uploading your work to CPAN. Congratulations!
All tests were successful.
Sections of this report:
* Tester comments
* Program output
* Prerequisites
* Environment and other context
------------------------------
TESTER COMMENTS
------------------------------
Additional comments from tester:
this report is from an automated smoke testing program
and was not reviewed by a human for accuracy
------------------------------
PROGRAM OUTPUT
------------------------------
Output from '/usr/bin/make test':
PERL_DL_NONLAZY=1 /home/bri/perl5/perlbrew/perls/perl-5.15.5-th/bin/perl5.15.5 "-MExtUtils::Command::MM" "-e" "test_harness(0, 'inc', 'blib/lib', 'blib/arch')" t/00-load.t t/01-catalog.t t/02-manifest.t t/03-source.t t/04-cache.t t/05-loader.t t/06-list.t t/07-html.t t/90-colorpicker.t
# Testing JS::YUI::Loader 0.06, Perl 5.015005, /home/bri/perl5/perlbrew/perls/perl-5.15.5-th/bin/perl5.15.5
t/00-load.t ......... ok
** Path::Abstract::Underload::last behavior has changed since 0.093
** To disable this warning: use Path::Abstract qw/--no_0_093_warning/ at /home/bri/.cpan/build/JS-YUI-Loader-0.06-iF7tqi/blib/lib/JS/YUI/Loader/Entry.pm line 17
t/01-catalog.t ...... ok
t/02-manifest.t ..... ok
t/03-source.t ....... ok
t/04-cache.t ........ ok
** Path::Abstract::Underload::last behavior has changed since 0.093
** To disable this warning: use Path::Abstract qw/--no_0_093_warning/ at /home/bri/.cpan/build/JS-YUI-Loader-0.06-iF7tqi/blib/lib/JS/YUI/Loader/Entry.pm line 17
t/05-loader.t ....... ok
Found unknown argument(s) passed to 'loader' attribute constructor in 'Moose::Meta::Attribute': requires at /home/bri/perl5/perlbrew/perls/perl-5.15.5-th/lib/site_perl/5.15.5/i686-linux-thread-multi/Moose/Meta/Attribute.pm line 101
Moose::Meta::Attribute::new('Moose::Meta::Attribute', 'loader', 'weak_ref', 1, 'requires', 1, 'isa', 'JS::YUI::Loader', 'definition_context', ...) called at /home/bri/perl5/perlbrew/perls/perl-5.15.5-th/lib/site_perl/5.15.5/i686-linux-thread-multi/Moose/Meta/Attribute.pm line 114
Moose::Meta::Attribute::interpolate_class_and_new('Moose::Meta::Attribute', 'loader', 'weak_ref', 1, 'isa', 'JS::YUI::Loader', 'requires', 1, 'definition_context', ...) called at /home/bri/perl5/perlbrew/perls/perl-5.15.5-th/lib/site_perl/5.15.5/i686-linux-thread-multi/Moose/Meta/Class.pm line 704
Moose::Meta::Class::_process_new_attribute('Moose::Meta::Class=HASH(0xaa4d1c8)', 'loader', 'weak_ref', 1, 'isa', 'JS::YUI::Loader', 'requires', 1, 'definition_context', ...) called at /home/bri/perl5/perlbrew/perls/perl-5.15.5-th/lib/site_perl/5.15.5/i686-linux-thread-multi/Moose/Meta/Class.pm line 697
Moose::Meta::Class::_process_attribute('Moose::Meta::Class=HASH(0xaa4d1c8)', 'loader', 'weak_ref', 1, 'isa', 'JS::YUI::Loader', 'requires', 1, 'definition_context', ...) called at /home/bri/perl5/perlbrew/perls/perl-5.15.5-th/lib/site_perl/5.15.5/i686-linux-thread-multi/Moose/Meta/Class.pm line 566
Moose::Meta::Class::add_attribute('Moose::Meta::Class=HASH(0xaa4d1c8)', 'loader', 'weak_ref', 1, 'isa', 'JS::YUI::Loader', 'requires', 1, 'definition_context', ...) called at /home/bri/perl5/perlbrew/perls/perl-5.15.5-th/lib/site_perl/5.15.5/i686-linux-thread-multi/Moose.pm line 79
Moose::has('Moose::Meta::Class=HASH(0xaa4d1c8)', 'loader', 'is', 'ro', 'requires', 1, 'isa', 'JS::YUI::Loader', 'weak_ref', ...) called at /home/bri/perl5/perlbrew/perls/perl-5.15.5-th/lib/site_perl/5.15.5/i686-linux-thread-multi/Moose/Exporter.pm line 370
Moose::has('loader', 'is', 'ro', 'requires', 1, 'isa', 'JS::YUI::Loader', 'weak_ref', 1, ...) called at /home/bri/.cpan/build/JS-YUI-Loader-0.06-iF7tqi/blib/lib/JS/YUI/Loader/List.pm line 5
require JS/YUI/Loader/List.pm called at /home/bri/.cpan/build/JS-YUI-Loader-0.06-iF7tqi/blib/lib/JS/YUI/Loader.pm line 73
JS::YUI::Loader::__ANON__('JS::YUI::Loader=HASH(0xaa5ce40)') called at reader JS::YUI::Loader::list (defined at /home/bri/.cpan/build/JS-YUI-Loader-0.06-iF7tqi/blib/lib/JS/YUI/Loader.pm line 75) line 6
JS::YUI::Loader::list('JS::YUI::Loader=HASH(0xaa5ce40)') called at t/06-list.t line 11
t/06-list.t ......... ok
Found unknown argument(s) passed to 'loader' attribute constructor in 'Moose::Meta::Attribute': requires at /home/bri/perl5/perlbrew/perls/perl-5.15.5-th/lib/site_perl/5.15.5/i686-linux-thread-multi/Moose/Meta/Attribute.pm line 101
Moose::Meta::Attribute::new('Moose::Meta::Attribute', 'loader', 'weak_ref', 1, 'requires', 1, 'isa', 'JS::YUI::Loader', 'definition_context', ...) called at /home/bri/perl5/perlbrew/perls/perl-5.15.5-th/lib/site_perl/5.15.5/i686-linux-thread-multi/Moose/Meta/Attribute.pm line 114
Moose::Meta::Attribute::interpolate_class_and_new('Moose::Meta::Attribute', 'loader', 'weak_ref', 1, 'isa', 'JS::YUI::Loader', 'requires', 1, 'definition_context', ...) called at /home/bri/perl5/perlbrew/perls/perl-5.15.5-th/lib/site_perl/5.15.5/i686-linux-thread-multi/Moose/Meta/Class.pm line 704
Moose::Meta::Class::_process_new_attribute('Moose::Meta::Class=HASH(0xa49cb70)', 'loader', 'weak_ref', 1, 'isa', 'JS::YUI::Loader', 'requires', 1, 'definition_context', ...) called at /home/bri/perl5/perlbrew/perls/perl-5.15.5-th/lib/site_perl/5.15.5/i686-linux-thread-multi/Moose/Meta/Class.pm line 697
Moose::Meta::Class::_process_attribute('Moose::Meta::Class=HASH(0xa49cb70)', 'loader', 'weak_ref', 1, 'isa', 'JS::YUI::Loader', 'requires', 1, 'definition_context', ...) called at /home/bri/perl5/perlbrew/perls/perl-5.15.5-th/lib/site_perl/5.15.5/i686-linux-thread-multi/Moose/Meta/Class.pm line 566
Moose::Meta::Class::add_attribute('Moose::Meta::Class=HASH(0xa49cb70)', 'loader', 'weak_ref', 1, 'isa', 'JS::YUI::Loader', 'requires', 1, 'definition_context', ...) called at /home/bri/perl5/perlbrew/perls/perl-5.15.5-th/lib/site_perl/5.15.5/i686-linux-thread-multi/Moose.pm line 79
Moose::has('Moose::Meta::Class=HASH(0xa49cb70)', 'loader', 'is', 'ro', 'requires', 1, 'isa', 'JS::YUI::Loader', 'weak_ref', ...) called at /home/bri/perl5/perlbrew/perls/perl-5.15.5-th/lib/site_perl/5.15.5/i686-linux-thread-multi/Moose/Exporter.pm line 370
Moose::has('loader', 'is', 'ro', 'requires', 1, 'isa', 'JS::YUI::Loader', 'weak_ref', 1, ...) called at /home/bri/.cpan/build/JS-YUI-Loader-0.06-iF7tqi/blib/lib/JS/YUI/Loader/List.pm line 5
require JS/YUI/Loader/List.pm called at /home/bri/.cpan/build/JS-YUI-Loader-0.06-iF7tqi/blib/lib/JS/YUI/Loader.pm line 73
JS::YUI::Loader::__ANON__('JS::YUI::Loader=HASH(0xa443a78)') called at reader JS::YUI::Loader::list (defined at /home/bri/.cpan/build/JS-YUI-Loader-0.06-iF7tqi/blib/lib/JS/YUI/Loader.pm line 75) line 6
JS::YUI::Loader::list('JS::YUI::Loader=HASH(0xa443a78)') called at /home/bri/.cpan/build/JS-YUI-Loader-0.06-iF7tqi/blib/lib/JS/YUI/Loader.pm line 423
JS::YUI::Loader::html('JS::YUI::Loader=HASH(0xa443a78)') called at t/07-html.t line 16
t/07-html.t ......... ok
Found unknown argument(s) passed to 'loader' attribute constructor in 'Moose::Meta::Attribute': requires at /home/bri/perl5/perlbrew/perls/perl-5.15.5-th/lib/site_perl/5.15.5/i686-linux-thread-multi/Moose/Meta/Attribute.pm line 101
Moose::Meta::Attribute::new('Moose::Meta::Attribute', 'loader', 'weak_ref', 1, 'requires', 1, 'isa', 'JS::YUI::Loader', 'definition_context', ...) called at /home/bri/perl5/perlbrew/perls/perl-5.15.5-th/lib/site_perl/5.15.5/i686-linux-thread-multi/Moose/Meta/Attribute.pm line 114
Moose::Meta::Attribute::interpolate_class_and_new('Moose::Meta::Attribute', 'loader', 'weak_ref', 1, 'isa', 'JS::YUI::Loader', 'requires', 1, 'definition_context', ...) called at /home/bri/perl5/perlbrew/perls/perl-5.15.5-th/lib/site_perl/5.15.5/i686-linux-thread-multi/Moose/Meta/Class.pm line 704
Moose::Meta::Class::_process_new_attribute('Moose::Meta::Class=HASH(0x92f2ae8)', 'loader', 'weak_ref', 1, 'isa', 'JS::YUI::Loader', 'requires', 1, 'definition_context', ...) called at /home/bri/perl5/perlbrew/perls/perl-5.15.5-th/lib/site_perl/5.15.5/i686-linux-thread-multi/Moose/Meta/Class.pm line 697
Moose::Meta::Class::_process_attribute('Moose::Meta::Class=HASH(0x92f2ae8)', 'loader', 'weak_ref', 1, 'isa', 'JS::YUI::Loader', 'requires', 1, 'definition_context', ...) called at /home/bri/perl5/perlbrew/perls/perl-5.15.5-th/lib/site_perl/5.15.5/i686-linux-thread-multi/Moose/Meta/Class.pm line 566
Moose::Meta::Class::add_attribute('Moose::Meta::Class=HASH(0x92f2ae8)', 'loader', 'weak_ref', 1, 'isa', 'JS::YUI::Loader', 'requires', 1, 'definition_context', ...) called at /home/bri/perl5/perlbrew/perls/perl-5.15.5-th/lib/site_perl/5.15.5/i686-linux-thread-multi/Moose.pm line 79
Moose::has('Moose::Meta::Class=HASH(0x92f2ae8)', 'loader', 'is', 'ro', 'requires', 1, 'isa', 'JS::YUI::Loader', 'weak_ref', ...) called at /home/bri/perl5/perlbrew/perls/perl-5.15.5-th/lib/site_perl/5.15.5/i686-linux-thread-multi/Moose/Exporter.pm line 370
Moose::has('loader', 'is', 'ro', 'requires', 1, 'isa', 'JS::YUI::Loader', 'weak_ref', 1, ...) called at /home/bri/.cpan/build/JS-YUI-Loader-0.06-iF7tqi/blib/lib/JS/YUI/Loader/List.pm line 5
require JS/YUI/Loader/List.pm called at /home/bri/.cpan/build/JS-YUI-Loader-0.06-iF7tqi/blib/lib/JS/YUI/Loader.pm line 73
JS::YUI::Loader::__ANON__('JS::YUI::Loader=HASH(0x92a0200)') called at reader JS::YUI::Loader::list (defined at /home/bri/.cpan/build/JS-YUI-Loader-0.06-iF7tqi/blib/lib/JS/YUI/Loader.pm line 75) line 6
JS::YUI::Loader::list('JS::YUI::Loader=HASH(0x92a0200)') called at /home/bri/.cpan/build/JS-YUI-Loader-0.06-iF7tqi/blib/lib/JS/YUI/Loader.pm line 423
JS::YUI::Loader::html('JS::YUI::Loader=HASH(0x92a0200)') called at t/90-colorpicker.t line 16
t/90-colorpicker.t .. ok
All tests successful.
Files=9, Tests=56, 5 wallclock secs ( 0.06 usr 0.01 sys + 4.83 cusr 0.18 csys = 5.08 CPU)
Result: PASS
------------------------------
PREREQUISITES
------------------------------
Prerequisite modules loaded:
requires:
Module Need Have
--------------------- ------ -------
Algorithm::Dependency 0 1.110
Carp::Clan::Share 0 0.013
Directory::Scratch 0 0.14
ExtUtils::MakeMaker 6.6302 6.63_02
File::Copy 0 2.21
HTML::Declare 0 2.4
JSON 2.08 2.53
LWP::UserAgent 0 6.03
Moose 0 2.0401
Path::Abstract 0 0.096
Path::Class 0 0.24
Scalar::Util 0 1.23
Test::More 0 0.98
URI 0 1.59
build_requires:
Module Need Have
--------------------- ------ -------
ExtUtils::MakeMaker 0 6.63_02
------------------------------
ENVIRONMENT AND OTHER CONTEXT
------------------------------
Environment variables:
AUTOMATED_TESTING = 1
LANG = C
LANGUAGE = en_GB:en
LC_ALL = C
PATH = /home/bri/bin:/home/bri/perl5/perlbrew/bin:/home/bri/perl5/perlbrew/perls/perl-5.15.5-th/bin:~/bin:/usr/local/sbin:/usr/local/bin:/usr/sbin:/usr/bin:/sbin:/bin:/usr/games
PATH_WITHOUT_PERLBREW = ~/bin:/usr/local/sbin:/usr/local/bin:/usr/sbin:/usr/bin:/sbin:/bin:/usr/games
PERL5LIB =
PERL5OPT =
PERL5_CPANPLUS_IS_RUNNING = 26665
PERL5_CPAN_IS_RUNNING = 26665
PERL5_CPAN_IS_RUNNING_IN_RECURSION = 1965,26665
PERLBREW_BASHRC_VERSION = 0.33
PERLBREW_HOME = /home/bri/.perlbrew
PERLBREW_PATH = /home/bri/perl5/perlbrew/bin:/home/bri/perl5/perlbrew/perls/perl-5.15.5-th/bin
PERLBREW_PERL = perl-5.15.5-th
PERLBREW_ROOT = /home/bri/perl5/perlbrew
PERLBREW_VERSION = 0.33
PERL_CPANM_OPT = --prompt --mirror http://172.16.1.3/cpan/
PERL_CR_SMOKER_CURRENT = JS-YUI-Loader-0.06
PERL_EXTUTILS_AUTOINSTALL = --defaultdeps
PERL_MM_USE_DEFAULT = 1
SHELL = /bin/bash
TERM = linux
Perl special variables (and OS-specific diagnostics, for MSWin32):
$^X = /home/bri/perl5/perlbrew/perls/perl-5.15.5-th/bin/perl5.15.5
$UID/$EUID = 1000 / 1000
$GID = 1000 4 20 24 46 112 120 122 1000
$EGID = 1000 4 20 24 46 112 120 122 1000
Perl module toolchain versions installed:
Module Have
------------------- --------
CPAN 1.9800
CPAN::Meta 2.112621
Cwd 3.33
ExtUtils::CBuilder 0.280202
ExtUtils::Command 1.17
ExtUtils::Install 1.52
ExtUtils::MakeMaker 6.63_02
ExtUtils::Manifest 1.60
ExtUtils::ParseXS 3.07
File::Spec 3.33
JSON 2.53
JSON::PP 2.27200
Module::Build 0.3800
Module::Signature n/a
Parse::CPAN::Meta 1.4401
Test::Harness 3.23
Test::More 0.98
YAML 0.77
YAML::Syck 1.19
version 0.95
--
Summary of my perl5 (revision 5 version 15 subversion 5) configuration:
Platform:
osname=linux, osvers=2.6.38-11-generic, archname=i686-linux-thread-multi
uname='linux lappy 2.6.38-11-generic #48-ubuntu smp fri jul 29 19:05:14 utc 2011 i686 i686 i386 gnulinux '
config_args='-de -Dprefix=/home/bri/perl5/perlbrew/perls/perl-5.15.5-th -Dusethreads -Dusedevel'
hint=recommended, useposix=true, d_sigaction=define
useithreads=define, usemultiplicity=define
useperlio=define, d_sfio=undef, uselargefiles=define, usesocks=undef
use64bitint=undef, use64bitall=undef, uselongdouble=undef
usemymalloc=n, bincompat5005=undef
Compiler:
cc='cc', ccflags ='-D_REENTRANT -D_GNU_SOURCE -fno-strict-aliasing -pipe -fstack-protector -I/usr/local/include -D_LARGEFILE_SOURCE -D_FILE_OFFSET_BITS=64',
optimize='-O2',
cppflags='-D_REENTRANT -D_GNU_SOURCE -fno-strict-aliasing -pipe -fstack-protector -I/usr/local/include'
ccversion='', gccversion='4.5.2', gccosandvers=''
intsize=4, longsize=4, ptrsize=4, doublesize=8, byteorder=1234
d_longlong=define, longlongsize=8, d_longdbl=define, longdblsize=12
ivtype='long', ivsize=4, nvtype='double', nvsize=8, Off_t='off_t', lseeksize=8
alignbytes=4, prototype=define
Linker and Libraries:
ld='cc', ldflags =' -fstack-protector -L/usr/local/lib'
libpth=/usr/local/lib /lib /usr/lib /usr/lib/i386-linux-gnu /usr/lib64
libs=-lnsl -ldl -lm -lcrypt -lutil -lpthread -lc
perllibs=-lnsl -ldl -lm -lcrypt -lutil -lpthread -lc
libc=, so=so, useshrplib=false, libperl=libperl.a
gnulibc_version='2.13'
Dynamic Linking:
dlsrc=dl_dlopen.xs, dlext=so, d_dlsymun=undef, ccdlflags='-Wl,-E'
cccdlflags='-fPIC', lddlflags='-shared -O2 -L/usr/local/lib -fstack-protector'
Characteristics of this binary (from libperl):
Compile-time options: HAS_TIMES MULTIPLICITY PERLIO_LAYERS
PERL_DONT_CREATE_GVSV PERL_IMPLICIT_CONTEXT
PERL_MALLOC_WRAP PERL_PRESERVE_IVUV PERL_USE_DEVEL
USE_ITHREADS USE_LARGE_FILES USE_LOCALE
USE_LOCALE_COLLATE USE_LOCALE_CTYPE
USE_LOCALE_NUMERIC USE_PERLIO USE_PERL_ATOF
USE_REENTRANT_API
Built under linux
Compiled at Dec 5 2011 21:58:55
%ENV:
PERL5LIB=""
PERL5OPT=""
PERL5_CPANPLUS_IS_RUNNING="26665"
PERL5_CPAN_IS_RUNNING="26665"
PERL5_CPAN_IS_RUNNING_IN_RECURSION="1965,26665"
PERLBREW_BASHRC_VERSION="0.33"
PERLBREW_HOME="/home/bri/.perlbrew"
PERLBREW_PATH="/home/bri/perl5/perlbrew/bin:/home/bri/perl5/perlbrew/perls/perl-5.15.5-th/bin"
PERLBREW_PERL="perl-5.15.5-th"
PERLBREW_ROOT="/home/bri/perl5/perlbrew"
PERLBREW_VERSION="0.33"
PERL_CPANM_OPT="--prompt --mirror http://172.16.1.3/cpan/"
PERL_CR_SMOKER_CURRENT="JS-YUI-Loader-0.06"
PERL_EXTUTILS_AUTOINSTALL="--defaultdeps"
PERL_MM_USE_DEFAULT="1"
@INC:
/home/bri/perl5/perlbrew/perls/perl-5.15.5-th/lib/site_perl/5.15.5/i686-linux-thread-multi
/home/bri/perl5/perlbrew/perls/perl-5.15.5-th/lib/site_perl/5.15.5
/home/bri/perl5/perlbrew/perls/perl-5.15.5-th/lib/5.15.5/i686-linux-thread-multi
/home/bri/perl5/perlbrew/perls/perl-5.15.5-th/lib/5.15.5
.