Report for Mail-Transport-Dbx-0.07

Back
From: metabase:user:20b5d20a-b56b-11df-b6fe-a673812b71ce
Subject: PASS Mail-Transport-Dbx-0.07 v5.10.1 GNU/Linux
Date: 2010-09-24T04:56:55Z

This distribution has been tested as part of the CPAN Testers
project, supporting the Perl programming language.  See
http://wiki.cpantesters.org/ for more information or email
questions to cpan-testers-discuss@perl.org


--
Dear Tassilo von Parseval,

This is a computer-generated report for Mail-Transport-Dbx-0.07
on perl 5.10.1, created by CPAN-Reporter-1.1801.

Thank you for uploading your work to CPAN.  Congratulations!
All tests were successful.

Sections of this report:

    * Tester comments
    * Program output
    * Prerequisites
    * Environment and other context

------------------------------
TESTER COMMENTS
------------------------------

Additional comments from tester:

none provided

------------------------------
PROGRAM OUTPUT
------------------------------

Output from '/usr/bin/make test':

make[1]: Entering directory `/root/.cpan/build/Mail-Transport-Dbx-0.07-ARdxeF/libdbx'
make[1]: Nothing to be done for `all'.
make[1]: Leaving directory `/root/.cpan/build/Mail-Transport-Dbx-0.07-ARdxeF/libdbx'
PERL_DL_NONLAZY=1 /usr/bin/perl5.10.1 "-MExtUtils::Command::MM" "-e" "test_harness(0, 'blib/lib', 'blib/arch')" t/*.t
t/0_pod.t ........... ok
t/0_pod_coverage.t .. ok
t/1.t ............... ok
t/2.t ............... ok
t/3.t ............... ok
t/fixed.t ........... ok
All tests successful.
Files=6, Tests=60,  0 wallclock secs ( 0.07 usr  0.00 sys +  0.20 cusr  0.03 csys =  0.30 CPU)
Result: PASS
make[1]: Entering directory `/root/.cpan/build/Mail-Transport-Dbx-0.07-ARdxeF/libdbx'
No tests defined for Mail::Transport::Dbx::libdbx extension.
make[1]: Leaving directory `/root/.cpan/build/Mail-Transport-Dbx-0.07-ARdxeF/libdbx'

------------------------------
PREREQUISITES
------------------------------

Prerequisite modules loaded:

    No requirements found

------------------------------
ENVIRONMENT AND OTHER CONTEXT
------------------------------

Environment variables:

    PATH = /usr/local/sbin:/usr/local/bin:/usr/sbin:/usr/bin:/sbin:/bin:/opt/bin:/usr/x86_64-pc-linux-gnu/gcc-bin/4.3.4
    PERL5LIB = 
    PERL5OPT = 
    PERL5_CPANPLUS_IS_RUNNING = 26098
    PERL5_CPAN_IS_RUNNING = 26098
    SHELL = /bin/bash
    TERM = screen

Perl special variables (and OS-specific diagnostics, for MSWin32):

    $^X = /usr/bin/perl5.10.1
    $UID/$EUID = 0 / 0
    $GID = 0 0 1 2 3 4 6 10 11 20 26 27
    $EGID = 0 0 1 2 3 4 6 10 11 20 26 27

Perl module toolchain versions installed:

    Module              Have  
    ------------------- ------
    CPAN                1.9402
    Cwd                 3.31  
    ExtUtils::CBuilder  0.2703
    ExtUtils::Command   1.16  
    ExtUtils::Install   1.54  
    ExtUtils::MakeMaker 6.56  
    ExtUtils::Manifest  1.58  
    ExtUtils::ParseXS   2.2206
    File::Spec          3.31  
    Module::Build       0.3607
    Module::Signature   0.64  
    Test::Harness       3.22  
    Test::More          0.96  
    YAML                0.72  
    YAML::Syck          1.14  
    version             0.82  


--

Summary of my perl5 (revision 5 version 10 subversion 1) configuration:
   
  Platform:
    osname=linux, osvers=2.6.31-gentoo-r6, archname=x86_64-linux
    uname='linux ux11 2.6.31-gentoo-r6 #1 smp wed dec 9 11:38:58 cst 2009 x86_64 amd athlon(tm) 64 x2 dual core processor 4800+ authenticamd gnulinux '
    config_args='-des -Duseshrplib -Darchname=x86_64-linux -Dcc=x86_64-pc-linux-gnu-gcc -Doptimize=-march=athlon64 -O2 -pipe -Dscriptdir=/usr/bin -Dprefix=/usr -Dvendorprefix=/usr -Dsiteprefix=/usr -Dprivlib=/usr/lib64/perl5/5.10.1 -Darchlib=/usr/lib64/perl5/5.10.1/x86_64-linux -Dvendorlib=/usr/lib64/perl5/vendor_perl/5.10.1 -Dvendorarch=/usr/lib64/perl5/vendor_perl/5.10.1/x86_64-linux -Dsitelib=/usr/lib64/perl5/site_perl/5.10.1 -Dsitearch=/usr/lib64/perl5/site_perl/5.10.1/x86_64-linux -Dman1dir=/usr/share/man/man1 -Dman3dir=/usr/share/man/man3 -Dinstallman1dir=/usr/share/man/man1 -Dinstallman3dir=/usr/share/man/man3 -Dman1ext=1 -Dman3ext=3pm -Dlibperl=libperl.so.5.10.1 -Dlocincpth=  -Duselargefiles -Dd_semctl_semun -Dinc_version_list=5.10.0 5.10.0/x86_64-linux -Dcf_by=Gentoo -Dmyhostname=localhost -Dperladmin=root@localhost -Dinstallusrbinperl=n -Ud_csh -Uusenm -Di_ndbm -Di_gdbm -Di_db -Dusrinc=/usr/include -Dlibpth=/usr/local/lib64 /lib64 /usr/lib64'
    hint=recommended, useposix=true, d_sigaction=define
    useithreads=undef, usemultiplicity=undef
    useperlio=define, d_sfio=undef, uselargefiles=define, usesocks=undef
    use64bitint=define, use64bitall=define, uselongdouble=undef
    usemymalloc=n, bincompat5005=undef
  Compiler:
    cc='x86_64-pc-linux-gnu-gcc', ccflags ='-fno-strict-aliasing -pipe -fstack-protector -D_LARGEFILE_SOURCE -D_FILE_OFFSET_BITS=64',
    optimize='-march=athlon64 -O2 -pipe',
    cppflags='-fno-strict-aliasing -pipe -fstack-protector'
    ccversion='', gccversion='4.3.4', gccosandvers=''
    intsize=4, longsize=8, ptrsize=8, doublesize=8, byteorder=12345678
    d_longlong=define, longlongsize=8, d_longdbl=define, longdblsize=16
    ivtype='long', ivsize=8, nvtype='double', nvsize=8, Off_t='off_t', lseeksize=8
    alignbytes=8, prototype=define
  Linker and Libraries:
    ld='x86_64-pc-linux-gnu-gcc', ldflags =' -fstack-protector'
    libpth=/usr/local/lib64 /lib64 /usr/lib64
    libs=-lpthread -lnsl -lndbm -lgdbm -ldb -ldl -lm -lcrypt -lutil -lc -lgdbm_compat
    perllibs=-lpthread -lnsl -ldl -lm -lcrypt -lutil -lc
    libc=/lib/libc-2.10.1.so, so=so, useshrplib=true, libperl=libperl.so.5.10.1
    gnulibc_version='2.10.1'
  Dynamic Linking:
    dlsrc=dl_dlopen.xs, dlext=so, d_dlsymun=undef, ccdlflags='-Wl,-E'
    cccdlflags='-fPIC', lddlflags='-shared -march=athlon64 -O2 -pipe -fstack-protector'


Characteristics of this binary (from libperl): 
  Compile-time options: PERL_DONT_CREATE_GVSV PERL_MALLOC_WRAP USE_64_BIT_ALL
                        USE_64_BIT_INT USE_LARGE_FILES USE_PERLIO
  Built under linux
  Compiled at Apr  8 2010 22:21:53
  %ENV:
    PERL5LIB=""
    PERL5OPT=""
    PERL5_CPANPLUS_IS_RUNNING="26098"
    PERL5_CPAN_IS_RUNNING="26098"
  @INC:
    /usr/lib64/perl5/site_perl/5.10.1/x86_64-linux
    /usr/lib64/perl5/site_perl/5.10.1
    /usr/lib64/perl5/site_perl
    /usr/lib64/perl5/vendor_perl/5.10.1/x86_64-linux
    /usr/lib64/perl5/vendor_perl/5.10.1
    /usr/lib64/perl5/vendor_perl
    /usr/lib64/perl5/5.10.1/x86_64-linux
    /usr/lib64/perl5/5.10.1
    .