Back
From: metabase:user:320bfe00-2aae-11df-837a-5e0a49663a4f
Subject: PASS JS-jQuery-Loader-0.02 v5.12.0 GNU/Linux
Date: 2017-06-08T17:51:52Z
This distribution has been tested as part of the CPAN Testers
project, supporting the Perl programming language. See
http://wiki.cpantesters.org/ for more information or email
questions to cpan-testers-discuss@perl.org
--
Dear Robert Krimen,
This is a computer-generated report for JS-jQuery-Loader-0.02
on perl 5.12.0, created by CPAN-Reporter-1.2018.
Thank you for uploading your work to CPAN. Congratulations!
All tests were successful.
Sections of this report:
* Tester comments
* Program output
* Prerequisites
* Environment and other context
------------------------------
TESTER COMMENTS
------------------------------
Additional comments from tester:
this report is from an automated smoke testing program
and was not reviewed by a human for accuracy
------------------------------
PROGRAM OUTPUT
------------------------------
Output from '/usr/bin/make test':
PERL_DL_NONLAZY=1 "/home/sand/src/perl/repoperls/installed-perls/host/k93msid/v5.12.0/89ad/bin/perl" "-MExtUtils::Command::MM" "-MTest::Harness" "-e" "undef *Test::Harness::Switches; test_harness(0, 'inc', 'blib/lib', 'blib/arch')" t/00-load.t t/01-template.t t/02-location.t t/03-source.t t/04-cache.t t/05-loader.t t/06-html.t
# Testing JS::jQuery::Loader 0.02, Perl 5.012000, /home/sand/src/perl/repoperls/installed-perls/host/k93msid/v5.12.0/89ad/bin/perl
t/00-load.t ...... ok
t/01-template.t .. ok
You are overwriting a locally defined function (file) with an accessor at /home/sand/src/perl/repoperls/installed-perls/host/k93msid/v5.12.0/89ad/lib/site_perl/5.12.0/x86_64-linux/Moose/Meta/Attribute.pm line 1113.
Moose::Meta::Attribute::_process_accessors(Moose::Meta::Attribute=HASH(0x55c9f1253138), "accessor", "file", undef) called at /home/sand/src/perl/repoperls/installed-perls/host/k93msid/v5.12.0/89ad/lib/site_perl/5.12.0/x86_64-linux/Class/MOP/Attribute.pm line 446
Class::MOP::Attribute::install_accessors(Moose::Meta::Attribute=HASH(0x55c9f1253138)) called at /home/sand/src/perl/repoperls/installed-perls/host/k93msid/v5.12.0/89ad/lib/site_perl/5.12.0/x86_64-linux/Moose/Meta/Attribute.pm line 1016
Moose::Meta::Attribute::install_accessors(Moose::Meta::Attribute=HASH(0x55c9f1253138)) called at /home/sand/src/perl/repoperls/installed-perls/host/k93msid/v5.12.0/89ad/lib/site_perl/5.12.0/x86_64-linux/Class/MOP/Class.pm line 899
Class::MOP::Class::try {...} () called at /home/sand/src/perl/repoperls/installed-perls/host/k93msid/v5.12.0/89ad/lib/site_perl/5.12.0/Try/Tiny.pm line 103
eval {...} called at /home/sand/src/perl/repoperls/installed-perls/host/k93msid/v5.12.0/89ad/lib/site_perl/5.12.0/Try/Tiny.pm line 94
Try::Tiny::try(CODE(0x55c9f1247648), Try::Tiny::Catch=REF(0x55c9f124a3e8)) called at /home/sand/src/perl/repoperls/installed-perls/host/k93msid/v5.12.0/89ad/lib/site_perl/5.12.0/x86_64-linux/Class/MOP/Class.pm line 904
Class::MOP::Class::_post_add_attribute(Moose::Meta::Class=HASH(0x55c9f0e1c470), Moose::Meta::Attribute=HASH(0x55c9f1253138)) called at /home/sand/src/perl/repoperls/installed-perls/host/k93msid/v5.12.0/89ad/lib/site_perl/5.12.0/x86_64-linux/Class/MOP/Mixin/HasAttributes.pm line 39
Class::MOP::Mixin::HasAttributes::add_attribute(Moose::Meta::Class=HASH(0x55c9f0e1c470), Moose::Meta::Attribute=HASH(0x55c9f1253138)) called at /home/sand/src/perl/repoperls/installed-perls/host/k93msid/v5.12.0/89ad/lib/site_perl/5.12.0/x86_64-linux/Moose/Meta/Class.pm line 583
Moose::Meta::Class::add_attribute(Moose::Meta::Class=HASH(0x55c9f0e1c470), "file", "definition_context", HASH(0x55c9f124c2b8), "is", "rw") called at /home/sand/src/perl/repoperls/installed-perls/host/k93msid/v5.12.0/89ad/lib/site_perl/5.12.0/x86_64-linux/Moose.pm line 74
Moose::has(Moose::Meta::Class=HASH(0x55c9f0e1c470), "file", "is", "rw") called at /home/sand/src/perl/repoperls/installed-perls/host/k93msid/v5.12.0/89ad/lib/site_perl/5.12.0/x86_64-linux/Moose/Exporter.pm line 419
Moose::has("file", "is", "rw") called at /tmp/loop_over_bdir-6782-pJBWut/JS-jQuery-Loader-0.02-0/blib/lib/JS/jQuery/Loader/Location.pm line 18
require JS/jQuery/Loader/Location.pm called at t/02-location.t line 8
main::BEGIN() called at /tmp/loop_over_bdir-6782-pJBWut/JS-jQuery-Loader-0.02-0/blib/lib/JS/jQuery/Loader/Location.pm line 0
eval {...} called at /tmp/loop_over_bdir-6782-pJBWut/JS-jQuery-Loader-0.02-0/blib/lib/JS/jQuery/Loader/Location.pm line 0
t/02-location.t .. ok
You are overwriting a locally defined function (file) with an accessor at /home/sand/src/perl/repoperls/installed-perls/host/k93msid/v5.12.0/89ad/lib/site_perl/5.12.0/x86_64-linux/Moose/Meta/Attribute.pm line 1113.
Moose::Meta::Attribute::_process_accessors(Moose::Meta::Attribute=HASH(0x556e0c807e58), "accessor", "file", undef) called at /home/sand/src/perl/repoperls/installed-perls/host/k93msid/v5.12.0/89ad/lib/site_perl/5.12.0/x86_64-linux/Class/MOP/Attribute.pm line 446
Class::MOP::Attribute::install_accessors(Moose::Meta::Attribute=HASH(0x556e0c807e58)) called at /home/sand/src/perl/repoperls/installed-perls/host/k93msid/v5.12.0/89ad/lib/site_perl/5.12.0/x86_64-linux/Moose/Meta/Attribute.pm line 1016
Moose::Meta::Attribute::install_accessors(Moose::Meta::Attribute=HASH(0x556e0c807e58)) called at /home/sand/src/perl/repoperls/installed-perls/host/k93msid/v5.12.0/89ad/lib/site_perl/5.12.0/x86_64-linux/Class/MOP/Class.pm line 899
Class::MOP::Class::try {...} () called at /home/sand/src/perl/repoperls/installed-perls/host/k93msid/v5.12.0/89ad/lib/site_perl/5.12.0/Try/Tiny.pm line 103
eval {...} called at /home/sand/src/perl/repoperls/installed-perls/host/k93msid/v5.12.0/89ad/lib/site_perl/5.12.0/Try/Tiny.pm line 94
Try::Tiny::try(CODE(0x556e0c7feb18), Try::Tiny::Catch=REF(0x556e0c801dc8)) called at /home/sand/src/perl/repoperls/installed-perls/host/k93msid/v5.12.0/89ad/lib/site_perl/5.12.0/x86_64-linux/Class/MOP/Class.pm line 904
Class::MOP::Class::_post_add_attribute(Moose::Meta::Class=HASH(0x556e0c54a250), Moose::Meta::Attribute=HASH(0x556e0c807e58)) called at /home/sand/src/perl/repoperls/installed-perls/host/k93msid/v5.12.0/89ad/lib/site_perl/5.12.0/x86_64-linux/Class/MOP/Mixin/HasAttributes.pm line 39
Class::MOP::Mixin::HasAttributes::add_attribute(Moose::Meta::Class=HASH(0x556e0c54a250), Moose::Meta::Attribute=HASH(0x556e0c807e58)) called at /home/sand/src/perl/repoperls/installed-perls/host/k93msid/v5.12.0/89ad/lib/site_perl/5.12.0/x86_64-linux/Moose/Meta/Class.pm line 583
Moose::Meta::Class::add_attribute(Moose::Meta::Class=HASH(0x556e0c54a250), "file", "definition_context", HASH(0x556e0c7f7d88), "is", "rw") called at /home/sand/src/perl/repoperls/installed-perls/host/k93msid/v5.12.0/89ad/lib/site_perl/5.12.0/x86_64-linux/Moose.pm line 74
Moose::has(Moose::Meta::Class=HASH(0x556e0c54a250), "file", "is", "rw") called at /home/sand/src/perl/repoperls/installed-perls/host/k93msid/v5.12.0/89ad/lib/site_perl/5.12.0/x86_64-linux/Moose/Exporter.pm line 419
Moose::has("file", "is", "rw") called at /tmp/loop_over_bdir-6782-pJBWut/JS-jQuery-Loader-0.02-0/blib/lib/JS/jQuery/Loader/Location.pm line 18
require JS/jQuery/Loader/Location.pm called at /tmp/loop_over_bdir-6782-pJBWut/JS-jQuery-Loader-0.02-0/blib/lib/JS/jQuery/Loader/Source/URI.pm line 7
JS::jQuery::Loader::Source::URI::BEGIN() called at /tmp/loop_over_bdir-6782-pJBWut/JS-jQuery-Loader-0.02-0/blib/lib/JS/jQuery/Loader/Location.pm line 0
eval {...} called at /tmp/loop_over_bdir-6782-pJBWut/JS-jQuery-Loader-0.02-0/blib/lib/JS/jQuery/Loader/Location.pm line 0
require JS/jQuery/Loader/Source/URI.pm called at t/03-source.t line 9
main::BEGIN() called at /tmp/loop_over_bdir-6782-pJBWut/JS-jQuery-Loader-0.02-0/blib/lib/JS/jQuery/Loader/Location.pm line 0
eval {...} called at /tmp/loop_over_bdir-6782-pJBWut/JS-jQuery-Loader-0.02-0/blib/lib/JS/jQuery/Loader/Location.pm line 0
t/03-source.t .... ok
You are overwriting a locally defined function (file) with an accessor at /home/sand/src/perl/repoperls/installed-perls/host/k93msid/v5.12.0/89ad/lib/site_perl/5.12.0/x86_64-linux/Moose/Meta/Attribute.pm line 1113.
Moose::Meta::Attribute::_process_accessors(Moose::Meta::Attribute=HASH(0x56483e685348), "accessor", "file", undef) called at /home/sand/src/perl/repoperls/installed-perls/host/k93msid/v5.12.0/89ad/lib/site_perl/5.12.0/x86_64-linux/Class/MOP/Attribute.pm line 446
Class::MOP::Attribute::install_accessors(Moose::Meta::Attribute=HASH(0x56483e685348)) called at /home/sand/src/perl/repoperls/installed-perls/host/k93msid/v5.12.0/89ad/lib/site_perl/5.12.0/x86_64-linux/Moose/Meta/Attribute.pm line 1016
Moose::Meta::Attribute::install_accessors(Moose::Meta::Attribute=HASH(0x56483e685348)) called at /home/sand/src/perl/repoperls/installed-perls/host/k93msid/v5.12.0/89ad/lib/site_perl/5.12.0/x86_64-linux/Class/MOP/Class.pm line 899
Class::MOP::Class::try {...} () called at /home/sand/src/perl/repoperls/installed-perls/host/k93msid/v5.12.0/89ad/lib/site_perl/5.12.0/Try/Tiny.pm line 103
eval {...} called at /home/sand/src/perl/repoperls/installed-perls/host/k93msid/v5.12.0/89ad/lib/site_perl/5.12.0/Try/Tiny.pm line 94
Try::Tiny::try(CODE(0x56483e67cfb0), Try::Tiny::Catch=REF(0x56483e67fec8)) called at /home/sand/src/perl/repoperls/installed-perls/host/k93msid/v5.12.0/89ad/lib/site_perl/5.12.0/x86_64-linux/Class/MOP/Class.pm line 904
Class::MOP::Class::_post_add_attribute(Moose::Meta::Class=HASH(0x56483de15178), Moose::Meta::Attribute=HASH(0x56483e685348)) called at /home/sand/src/perl/repoperls/installed-perls/host/k93msid/v5.12.0/89ad/lib/site_perl/5.12.0/x86_64-linux/Class/MOP/Mixin/HasAttributes.pm line 39
Class::MOP::Mixin::HasAttributes::add_attribute(Moose::Meta::Class=HASH(0x56483de15178), Moose::Meta::Attribute=HASH(0x56483e685348)) called at /home/sand/src/perl/repoperls/installed-perls/host/k93msid/v5.12.0/89ad/lib/site_perl/5.12.0/x86_64-linux/Moose/Meta/Class.pm line 583
Moose::Meta::Class::add_attribute(Moose::Meta::Class=HASH(0x56483de15178), "file", "definition_context", HASH(0x56483e675ea8), "is", "rw") called at /home/sand/src/perl/repoperls/installed-perls/host/k93msid/v5.12.0/89ad/lib/site_perl/5.12.0/x86_64-linux/Moose.pm line 74
Moose::has(Moose::Meta::Class=HASH(0x56483de15178), "file", "is", "rw") called at /home/sand/src/perl/repoperls/installed-perls/host/k93msid/v5.12.0/89ad/lib/site_perl/5.12.0/x86_64-linux/Moose/Exporter.pm line 419
Moose::has("file", "is", "rw") called at /tmp/loop_over_bdir-6782-pJBWut/JS-jQuery-Loader-0.02-0/blib/lib/JS/jQuery/Loader/Location.pm line 18
require JS/jQuery/Loader/Location.pm called at /tmp/loop_over_bdir-6782-pJBWut/JS-jQuery-Loader-0.02-0/blib/lib/JS/jQuery/Loader/Source/URI.pm line 7
JS::jQuery::Loader::Source::URI::BEGIN() called at /tmp/loop_over_bdir-6782-pJBWut/JS-jQuery-Loader-0.02-0/blib/lib/JS/jQuery/Loader/Location.pm line 0
eval {...} called at /tmp/loop_over_bdir-6782-pJBWut/JS-jQuery-Loader-0.02-0/blib/lib/JS/jQuery/Loader/Location.pm line 0
require JS/jQuery/Loader/Source/URI.pm called at t/04-cache.t line 12
main::BEGIN() called at /tmp/loop_over_bdir-6782-pJBWut/JS-jQuery-Loader-0.02-0/blib/lib/JS/jQuery/Loader/Location.pm line 0
eval {...} called at /tmp/loop_over_bdir-6782-pJBWut/JS-jQuery-Loader-0.02-0/blib/lib/JS/jQuery/Loader/Location.pm line 0
t/04-cache.t ..... ok
You are overwriting a locally defined function (file) with an accessor at /home/sand/src/perl/repoperls/installed-perls/host/k93msid/v5.12.0/89ad/lib/site_perl/5.12.0/x86_64-linux/Moose/Meta/Attribute.pm line 1113.
Moose::Meta::Attribute::_process_accessors(Moose::Meta::Attribute=HASH(0x55b85067c668), "accessor", "file", undef) called at /home/sand/src/perl/repoperls/installed-perls/host/k93msid/v5.12.0/89ad/lib/site_perl/5.12.0/x86_64-linux/Class/MOP/Attribute.pm line 446
Class::MOP::Attribute::install_accessors(Moose::Meta::Attribute=HASH(0x55b85067c668)) called at /home/sand/src/perl/repoperls/installed-perls/host/k93msid/v5.12.0/89ad/lib/site_perl/5.12.0/x86_64-linux/Moose/Meta/Attribute.pm line 1016
Moose::Meta::Attribute::install_accessors(Moose::Meta::Attribute=HASH(0x55b85067c668)) called at /home/sand/src/perl/repoperls/installed-perls/host/k93msid/v5.12.0/89ad/lib/site_perl/5.12.0/x86_64-linux/Class/MOP/Class.pm line 899
Class::MOP::Class::try {...} () called at /home/sand/src/perl/repoperls/installed-perls/host/k93msid/v5.12.0/89ad/lib/site_perl/5.12.0/Try/Tiny.pm line 103
eval {...} called at /home/sand/src/perl/repoperls/installed-perls/host/k93msid/v5.12.0/89ad/lib/site_perl/5.12.0/Try/Tiny.pm line 94
Try::Tiny::try(CODE(0x55b85066a0e0), Try::Tiny::Catch=REF(0x55b850671540)) called at /home/sand/src/perl/repoperls/installed-perls/host/k93msid/v5.12.0/89ad/lib/site_perl/5.12.0/x86_64-linux/Class/MOP/Class.pm line 904
Class::MOP::Class::_post_add_attribute(Moose::Meta::Class=HASH(0x55b850617660), Moose::Meta::Attribute=HASH(0x55b85067c668)) called at /home/sand/src/perl/repoperls/installed-perls/host/k93msid/v5.12.0/89ad/lib/site_perl/5.12.0/x86_64-linux/Class/MOP/Mixin/HasAttributes.pm line 39
Class::MOP::Mixin::HasAttributes::add_attribute(Moose::Meta::Class=HASH(0x55b850617660), Moose::Meta::Attribute=HASH(0x55b85067c668)) called at /home/sand/src/perl/repoperls/installed-perls/host/k93msid/v5.12.0/89ad/lib/site_perl/5.12.0/x86_64-linux/Moose/Meta/Class.pm line 583
Moose::Meta::Class::add_attribute(Moose::Meta::Class=HASH(0x55b850617660), "file", "definition_context", HASH(0x55b850677198), "is", "rw") called at /home/sand/src/perl/repoperls/installed-perls/host/k93msid/v5.12.0/89ad/lib/site_perl/5.12.0/x86_64-linux/Moose.pm line 74
Moose::has(Moose::Meta::Class=HASH(0x55b850617660), "file", "is", "rw") called at /home/sand/src/perl/repoperls/installed-perls/host/k93msid/v5.12.0/89ad/lib/site_perl/5.12.0/x86_64-linux/Moose/Exporter.pm line 419
Moose::has("file", "is", "rw") called at /tmp/loop_over_bdir-6782-pJBWut/JS-jQuery-Loader-0.02-0/blib/lib/JS/jQuery/Loader/Location.pm line 18
require JS/jQuery/Loader/Location.pm called at /tmp/loop_over_bdir-6782-pJBWut/JS-jQuery-Loader-0.02-0/blib/lib/JS/jQuery/Loader/Source/URI.pm line 7
JS::jQuery::Loader::Source::URI::BEGIN() called at /tmp/loop_over_bdir-6782-pJBWut/JS-jQuery-Loader-0.02-0/blib/lib/JS/jQuery/Loader/Location.pm line 0
eval {...} called at /tmp/loop_over_bdir-6782-pJBWut/JS-jQuery-Loader-0.02-0/blib/lib/JS/jQuery/Loader/Location.pm line 0
require JS/jQuery/Loader/Source/URI.pm called at /tmp/loop_over_bdir-6782-pJBWut/JS-jQuery-Loader-0.02-0/blib/lib/JS/jQuery/Loader/Source/Internet.pm line 4
JS::jQuery::Loader::Source::Internet::BEGIN() called at /tmp/loop_over_bdir-6782-pJBWut/JS-jQuery-Loader-0.02-0/blib/lib/JS/jQuery/Loader/Location.pm line 0
eval {...} called at /tmp/loop_over_bdir-6782-pJBWut/JS-jQuery-Loader-0.02-0/blib/lib/JS/jQuery/Loader/Location.pm line 0
require JS/jQuery/Loader/Source/Internet.pm called at /tmp/loop_over_bdir-6782-pJBWut/JS-jQuery-Loader-0.02-0/blib/lib/JS/jQuery/Loader.pm line 111
JS::jQuery::Loader::new_from_internet("JS::jQuery::Loader", "cache", Path::Class::Dir=HASH(0x55b84f7adc18)) called at t/05-loader.t line 14
t/05-loader.t .... ok
You are overwriting a locally defined function (file) with an accessor at /home/sand/src/perl/repoperls/installed-perls/host/k93msid/v5.12.0/89ad/lib/site_perl/5.12.0/x86_64-linux/Moose/Meta/Attribute.pm line 1113.
Moose::Meta::Attribute::_process_accessors(Moose::Meta::Attribute=HASH(0x5564e5b28110), "accessor", "file", undef) called at /home/sand/src/perl/repoperls/installed-perls/host/k93msid/v5.12.0/89ad/lib/site_perl/5.12.0/x86_64-linux/Class/MOP/Attribute.pm line 446
Class::MOP::Attribute::install_accessors(Moose::Meta::Attribute=HASH(0x5564e5b28110)) called at /home/sand/src/perl/repoperls/installed-perls/host/k93msid/v5.12.0/89ad/lib/site_perl/5.12.0/x86_64-linux/Moose/Meta/Attribute.pm line 1016
Moose::Meta::Attribute::install_accessors(Moose::Meta::Attribute=HASH(0x5564e5b28110)) called at /home/sand/src/perl/repoperls/installed-perls/host/k93msid/v5.12.0/89ad/lib/site_perl/5.12.0/x86_64-linux/Class/MOP/Class.pm line 899
Class::MOP::Class::try {...} () called at /home/sand/src/perl/repoperls/installed-perls/host/k93msid/v5.12.0/89ad/lib/site_perl/5.12.0/Try/Tiny.pm line 103
eval {...} called at /home/sand/src/perl/repoperls/installed-perls/host/k93msid/v5.12.0/89ad/lib/site_perl/5.12.0/Try/Tiny.pm line 94
Try::Tiny::try(CODE(0x5564e5b16e98), Try::Tiny::Catch=REF(0x5564e5b1c3a8)) called at /home/sand/src/perl/repoperls/installed-perls/host/k93msid/v5.12.0/89ad/lib/site_perl/5.12.0/x86_64-linux/Class/MOP/Class.pm line 904
Class::MOP::Class::_post_add_attribute(Moose::Meta::Class=HASH(0x5564e5ac3370), Moose::Meta::Attribute=HASH(0x5564e5b28110)) called at /home/sand/src/perl/repoperls/installed-perls/host/k93msid/v5.12.0/89ad/lib/site_perl/5.12.0/x86_64-linux/Class/MOP/Mixin/HasAttributes.pm line 39
Class::MOP::Mixin::HasAttributes::add_attribute(Moose::Meta::Class=HASH(0x5564e5ac3370), Moose::Meta::Attribute=HASH(0x5564e5b28110)) called at /home/sand/src/perl/repoperls/installed-perls/host/k93msid/v5.12.0/89ad/lib/site_perl/5.12.0/x86_64-linux/Moose/Meta/Class.pm line 583
Moose::Meta::Class::add_attribute(Moose::Meta::Class=HASH(0x5564e5ac3370), "file", "definition_context", HASH(0x5564e5b23870), "is", "rw") called at /home/sand/src/perl/repoperls/installed-perls/host/k93msid/v5.12.0/89ad/lib/site_perl/5.12.0/x86_64-linux/Moose.pm line 74
Moose::has(Moose::Meta::Class=HASH(0x5564e5ac3370), "file", "is", "rw") called at /home/sand/src/perl/repoperls/installed-perls/host/k93msid/v5.12.0/89ad/lib/site_perl/5.12.0/x86_64-linux/Moose/Exporter.pm line 419
Moose::has("file", "is", "rw") called at /tmp/loop_over_bdir-6782-pJBWut/JS-jQuery-Loader-0.02-0/blib/lib/JS/jQuery/Loader/Location.pm line 18
require JS/jQuery/Loader/Location.pm called at /tmp/loop_over_bdir-6782-pJBWut/JS-jQuery-Loader-0.02-0/blib/lib/JS/jQuery/Loader/Source/URI.pm line 7
JS::jQuery::Loader::Source::URI::BEGIN() called at /tmp/loop_over_bdir-6782-pJBWut/JS-jQuery-Loader-0.02-0/blib/lib/JS/jQuery/Loader/Location.pm line 0
eval {...} called at /tmp/loop_over_bdir-6782-pJBWut/JS-jQuery-Loader-0.02-0/blib/lib/JS/jQuery/Loader/Location.pm line 0
require JS/jQuery/Loader/Source/URI.pm called at /tmp/loop_over_bdir-6782-pJBWut/JS-jQuery-Loader-0.02-0/blib/lib/JS/jQuery/Loader/Source/Internet.pm line 4
JS::jQuery::Loader::Source::Internet::BEGIN() called at /tmp/loop_over_bdir-6782-pJBWut/JS-jQuery-Loader-0.02-0/blib/lib/JS/jQuery/Loader/Location.pm line 0
eval {...} called at /tmp/loop_over_bdir-6782-pJBWut/JS-jQuery-Loader-0.02-0/blib/lib/JS/jQuery/Loader/Location.pm line 0
require JS/jQuery/Loader/Source/Internet.pm called at /tmp/loop_over_bdir-6782-pJBWut/JS-jQuery-Loader-0.02-0/blib/lib/JS/jQuery/Loader.pm line 111
JS::jQuery::Loader::new_from_internet("JS::jQuery::Loader") called at t/06-html.t line 14
t/06-html.t ...... ok
All tests successful.
Files=7, Tests=28, 4 wallclock secs ( 0.03 usr 0.04 sys + 1.64 cusr 0.25 csys = 1.96 CPU)
Result: PASS
------------------------------
PREREQUISITES
------------------------------
Prerequisite modules loaded:
requires:
Module Need Have
------------------- ---- --------
Carp::Clan::Share 0 0.013
Directory::Scratch 0 0.18
ExtUtils::MakeMaker 7.24 7.24
File::Copy 0 2.18
HTML::Declare 0 2.6
LWP::UserAgent 0 6.26
Moose 0 2.2004
Path::Abstract 0 0.096
Path::Class 0 0.37
Test::More 0 1.302085
URI 0 1.71
build_requires:
Module Need Have
------------------- ---- --------
ExtUtils::MakeMaker 0 7.24
------------------------------
ENVIRONMENT AND OTHER CONTEXT
------------------------------
Environment variables:
AUTOMATED_TESTING = 1
LANG = en_US.UTF-8
PATH = /home/sand/bin:/usr/local/bin:/usr/bin:/bin:/usr/games:/usr/local/perl/bin:/usr/X11/bin:/sbin:/usr/sbin
PERL5LIB =
PERL5OPT =
PERL5_CPANPLUS_IS_RUNNING = 6793
PERL5_CPAN_IS_RUNNING = 6793
PERL_CANARY_STABILITY_NOPROMPT = 1
PERL_MM_USE_DEFAULT = 1
PERL_USE_UNSAFE_INC = 1
SHELL = /usr/bin/zsh
TERM = screen
Perl special variables (and OS-specific diagnostics, for MSWin32):
$^X = /home/sand/src/perl/repoperls/installed-perls/host/k93msid/v5.12.0/89ad/bin/perl
$UID/$EUID = 1005 / 1005
$GID = 1005 1005
$EGID = 1005 1005
Perl module toolchain versions installed:
Module Have
------------------- --------
CPAN 2.18
CPAN::Meta 2.150010
Cwd 3.62
ExtUtils::CBuilder 0.280224
ExtUtils::Command 7.24
ExtUtils::Install 2.12
ExtUtils::MakeMaker 7.24
ExtUtils::Manifest 1.70
ExtUtils::ParseXS 3.30
File::Spec 3.62
JSON 2.93
JSON::PP 2.94
Module::Build 0.4222
Module::Signature 0.81
Parse::CPAN::Meta 2.150010
Test::Harness 3.39
Test::More 1.302085
YAML 1.23
YAML::Syck 1.30
version 0.9917
--
Summary of my perl5 (revision 5 version 12 subversion 0) configuration:
Derived from: 6d52c880307229a35c23215c596700e716bd7c32
Platform:
osname=linux, osvers=4.9.0-2-amd64, archname=x86_64-linux
uname='linux k93msid 4.9.0-2-amd64 #1 smp debian 4.9.18-1 (2017-03-30) x86_64 gnulinux '
config_args='-Dprefix=/home/sand/src/perl/repoperls/installed-perls/host/k93msid/v5.12.0/89ad -Dmyhostname=k93msid -Dinstallusrbinperl=n -Uversiononly -Dusedevel -des -Ui_db -Dlibswanted=cl pthread socket inet nsl gdbm dbm malloc dl ld sun m crypt sec util c cposix posix ucb BSD gdbm_compat -Uuseithreads -Uuselongdouble -DDEBUGGING=-g'
hint=recommended, useposix=true, d_sigaction=define
useithreads=undef, usemultiplicity=undef
useperlio=define, d_sfio=undef, uselargefiles=define, usesocks=undef
use64bitint=define, use64bitall=define, uselongdouble=undef
usemymalloc=n, bincompat5005=undef
Compiler:
cc='cc', ccflags ='-fno-strict-aliasing -pipe -fstack-protector -I/usr/local/include -D_LARGEFILE_SOURCE -D_FILE_OFFSET_BITS=64',
optimize='-O2 -g',
cppflags='-fno-strict-aliasing -pipe -fstack-protector -I/usr/local/include'
ccversion='', gccversion='6.3.0 20170406', gccosandvers=''
intsize=4, longsize=8, ptrsize=8, doublesize=8, byteorder=12345678
d_longlong=define, longlongsize=8, d_longdbl=define, longdblsize=16
ivtype='long', ivsize=8, nvtype='double', nvsize=8, Off_t='off_t', lseeksize=8
alignbytes=8, prototype=define
Linker and Libraries:
ld='cc', ldflags =' -fstack-protector -L/usr/local/lib'
libpth=/usr/local/lib /lib/x86_64-linux-gnu /lib/../lib /usr/lib/x86_64-linux-gnu /usr/lib/../lib /lib /usr/lib
libs=-lpthread -lnsl -ldl -lm -lcrypt -lutil -lc
perllibs=-lpthread -lnsl -ldl -lm -lcrypt -lutil -lc
libc=libc-2.24.so, so=so, useshrplib=false, libperl=libperl.a
gnulibc_version='2.24'
Dynamic Linking:
dlsrc=dl_dlopen.xs, dlext=so, d_dlsymun=undef, ccdlflags='-Wl,-E'
cccdlflags='-fPIC', lddlflags='-shared -O2 -g -L/usr/local/lib -fstack-protector'
Characteristics of this binary (from libperl):
Compile-time options: PERL_DONT_CREATE_GVSV PERL_MALLOC_WRAP PERL_USE_DEVEL
USE_64_BIT_ALL USE_64_BIT_INT USE_LARGE_FILES
USE_PERLIO USE_PERL_ATOF
Locally applied patches:
uncommitted-changes
Built under linux
Compiled at Apr 17 2017 09:30:27
%ENV:
PERL5LIB=""
PERL5OPT=""
PERL5_CPANPLUS_IS_RUNNING="6793"
PERL5_CPAN_IS_RUNNING="6793"
PERL_CANARY_STABILITY_NOPROMPT="1"
PERL_MM_USE_DEFAULT="1"
PERL_USE_UNSAFE_INC="1"
@INC:
/home/sand/src/perl/repoperls/installed-perls/host/k93msid/v5.12.0/89ad/lib/site_perl/5.12.0/x86_64-linux
/home/sand/src/perl/repoperls/installed-perls/host/k93msid/v5.12.0/89ad/lib/site_perl/5.12.0
/home/sand/src/perl/repoperls/installed-perls/host/k93msid/v5.12.0/89ad/lib/5.12.0/x86_64-linux
/home/sand/src/perl/repoperls/installed-perls/host/k93msid/v5.12.0/89ad/lib/5.12.0
.