Report for Number-Phone-Normalize-0.220

Back
From: metabase:user:30f0bd62-2aae-11df-837a-5e0a49663a4f
Subject: PASS Number-Phone-Normalize-0.220 v5.13.5 NetBSD
Date: 2011-01-05T12:34:35Z

This distribution has been tested as part of the CPAN Testers
project, supporting the Perl programming language.  See
http://wiki.cpantesters.org/ for more information or email
questions to cpan-testers-discuss@perl.org


--
Dear Claus Faerber,

This is a computer-generated report for Number-Phone-Normalize-0.220
on perl 5.13.5, created by CPAN-Reporter-1.1805.

Thank you for uploading your work to CPAN.  Congratulations!
All tests were successful.

Sections of this report:

    * Tester comments
    * Program output
    * Prerequisites
    * Environment and other context

------------------------------
TESTER COMMENTS
------------------------------

Additional comments from tester:

this report is from an automated smoke testing program
and was not reviewed by a human for accuracy

------------------------------
PROGRAM OUTPUT
------------------------------

Output from './Build test':

t/00base-use.t ....... ok
t/05pod_check.t ...... skipped: Test::Pod 1.00 required for testing POD
t/06pod_coverage.t ... skipped: Test::Pod::Coverage required for testing POD coverage
t/10obj__intl.t ...... ok
t/15obj__local.t ..... ok
t/16obj__l_ld.t ...... ok
t/17obj__l_nocc.t .... ok
t/18obj__l_noac.t .... ok
t/20phone_intl.t ..... ok
t/25phone_local.t .... ok
t/26phone_l_ld.t ..... ok
t/27phone_l_nocc.t ... ok
t/28phone_l_noac.t ... ok
t/30intl_cc_ac.t ..... ok
t/31local_cc.t ....... ok
t/32local_ac.t ....... ok
t/33local_ac_ld.t .... ok
t/34local_ac_nocc.t .. ok
t/40vanity_cvrt.t .... ok
t/41vanity_ok.t ...... ok
t/42vanity_ac.t ...... ok
All tests successful.
Files=21, Tests=124,  6 wallclock secs ( 0.10 usr  0.10 sys +  0.96 cusr  0.39 csys =  1.55 CPU)
Result: PASS

------------------------------
PREREQUISITES
------------------------------

Prerequisite modules loaded:

build_requires:

    Module        Need Have   
    ------------- ---- -------
    Test::More    0    0.97_01

configure_requires:

    Module        Need Have   
    ------------- ---- -------
    Module::Build 0.35 0.3607 


------------------------------
ENVIRONMENT AND OTHER CONTEXT
------------------------------

Environment variables:

    AUTOMATED_TESTING = 1
    PATH = /home/sts/bin:/bin:/sbin:/usr/bin:/usr/sbin:/usr/X11R7/bin:/usr/X11R6/bin:/usr/pkg/bin:/usr/pkg/sbin:/usr/games:/usr/local/bin:/usr/local/sbin
    PERL5LIB = 
    PERL5OPT = 
    PERL5_CPANPLUS_IS_RUNNING = 6191
    PERL5_CPAN_IS_RUNNING = 6191
    PERL5_CPAN_IS_RUNNING_IN_RECURSION = 15463,6191
    PERL_CR_SMOKER_CURRENT = Number-Phone-Normalize-0.220
    PERL_EXTUTILS_AUTOINSTALL = --defaultdeps
    PERL_MM_USE_DEFAULT = 1
    SHELL = /bin/sh
    TERM = screen
    TMPDIR = /home/sts/cpansmoke/tmp

Perl special variables (and OS-specific diagnostics, for MSWin32):

    $^X = /home/sts/cpansmoke/perl-5.13.5/bin/perl5.13.5
    $UID/$EUID = 1000 / 1000
    $GID = 100 100 0
    $EGID = 100 100 0

Perl module toolchain versions installed:

    Module              Have   
    ------------------- -------
    CPAN                1.94_57
    Cwd                 3.31   
    ExtUtils::CBuilder  0.2703 
    ExtUtils::Command   1.16   
    ExtUtils::Install   1.55   
    ExtUtils::MakeMaker 6.57_05
    ExtUtils::Manifest  1.58   
    ExtUtils::ParseXS   2.2207 
    File::Spec          3.31_01
    Module::Build       0.3607 
    Module::Signature   n/a    
    Test::Harness       3.22   
    Test::More          0.97_01
    YAML                n/a    
    YAML::Syck          1.15   
    version             0.82   


--

Summary of my perl5 (revision 5 version 13 subversion 5) configuration:
   
  Platform:
    osname=netbsd, osvers=5.0.2, archname=i386-netbsd-thread-multi
    uname='netbsd cpansmoke2 5.0.2 netbsd 5.0.2 (xen3_domu) #0: sat feb 6 17:51:58 utc 2010 builds@b7.netbsd.org:homebuildsabnetbsd-5-0-2-releasei386201002061851z-objhomebuildsabnetbsd-5-0-2-releasesrcsysarchi386compilexen3_domu i386 '
    config_args='-des -Dusedevel -Dusethreads -Dprefix=/home/sts/cpansmoke/perl-5.13.5'
    hint=recommended, useposix=true, d_sigaction=define
    useithreads=define, usemultiplicity=define
    useperlio=define, d_sfio=undef, uselargefiles=define, usesocks=undef
    use64bitint=undef, use64bitall=undef, uselongdouble=undef
    usemymalloc=y, bincompat5005=undef
  Compiler:
    cc='cc', ccflags ='-fno-strict-aliasing -pipe -fstack-protector -I/usr/pkg/include',
    optimize='-O',
    cppflags='-fno-strict-aliasing -pipe -fstack-protector -I/usr/pkg/include'
    ccversion='', gccversion='4.1.3 20080704 prerelease (NetBSD nb2 20081120)', gccosandvers=''
    intsize=4, longsize=4, ptrsize=4, doublesize=8, byteorder=1234
    d_longlong=define, longlongsize=8, d_longdbl=define, longdblsize=12
    ivtype='long', ivsize=4, nvtype='double', nvsize=8, Off_t='off_t', lseeksize=8
    alignbytes=4, prototype=define
  Linker and Libraries:
    ld='cc', ldflags =' -Wl,-rpath,/usr/pkg/lib -Wl,-rpath,/usr/local/lib -fstack-protector -L/usr/pkg/lib'
    libpth=/usr/pkg/lib /lib /usr/lib
    libs=-lm -lcrypt -lutil -lc -lposix -lpthread
    perllibs=-lm -lcrypt -lutil -lc -lposix -lpthread
    libc=/lib/libc.so, so=so, useshrplib=false, libperl=libperl.a
    gnulibc_version=''
  Dynamic Linking:
    dlsrc=dl_dlopen.xs, dlext=so, d_dlsymun=undef, ccdlflags='-Wl,-E '
    cccdlflags='-DPIC -fPIC ', lddlflags='--whole-archive -shared  -L/usr/pkg/lib -fstack-protector'


Characteristics of this binary (from libperl): 
  Compile-time options: MULTIPLICITY MYMALLOC PERL_DONT_CREATE_GVSV
                        PERL_IMPLICIT_CONTEXT PERL_MALLOC_WRAP PERL_USE_DEVEL
                        USE_ITHREADS USE_LARGE_FILES USE_PERLIO USE_PERL_ATOF
                        USE_REENTRANT_API
  Built under netbsd
  Compiled at Oct 20 2010 14:31:56
  %ENV:
    PERL5LIB=""
    PERL5OPT=""
    PERL5_CPANPLUS_IS_RUNNING="6191"
    PERL5_CPAN_IS_RUNNING="6191"
    PERL5_CPAN_IS_RUNNING_IN_RECURSION="15463,6191"
    PERL_CR_SMOKER_CURRENT="Number-Phone-Normalize-0.220"
    PERL_EXTUTILS_AUTOINSTALL="--defaultdeps"
    PERL_MM_USE_DEFAULT="1"
  @INC:
    /home/sts/cpansmoke/perl-5.13.5/lib/site_perl/5.13.5/i386-netbsd-thread-multi
    /home/sts/cpansmoke/perl-5.13.5/lib/site_perl/5.13.5
    /home/sts/cpansmoke/perl-5.13.5/lib/5.13.5/i386-netbsd-thread-multi
    /home/sts/cpansmoke/perl-5.13.5/lib/5.13.5
    .