Report for Syntax-Feature-Try-0.008

Back
From: metabase:user:e83797c6-6da0-1014-84df-33ea7e0f01d3
Subject: PASS Syntax-Feature-Try-0.008 v5.18.1 GNU/Linux
Date: 2013-09-01T19:03:15Z

This distribution has been tested as part of the CPAN Testers
project, supporting the Perl programming language.  See
http://wiki.cpantesters.org/ for more information or email
questions to cpan-testers-discuss@perl.org


--
Dear Tomas Pokorny,

This is a computer-generated report for Syntax-Feature-Try-0.008
on perl 5.18.1, created by CPAN-Reporter-1.2010.

Thank you for uploading your work to CPAN.  Congratulations!
All tests were successful.

Sections of this report:

    * Tester comments
    * Program output
    * Prerequisites
    * Environment and other context

------------------------------
TESTER COMMENTS
------------------------------

Additional comments from tester:

this report is from an automated smoke testing program
and was not reviewed by a human for accuracy

------------------------------
PROGRAM OUTPUT
------------------------------

Output from '/usr/bin/make test':

PERL_DL_NONLAZY=1 /root/perl5/perlbrew/perls/perl-5.18.1/bin/perl "-MExtUtils::Command::MM" "-e" "test_harness(0, 'blib/lib', 'blib/arch')" t/*.t
t/01_use_ok.t ................. ok
t/10_parser_output.t .......... ok
t/15_parser_syntax_ok.t ....... ok
t/20_parser_syntax_errors.t ... ok
t/20_parser_warnings.t ........ ok
t/author-critic.t ............. skipped: these tests are for testing by the author
t/catch_isa.t ................. ok
t/catch_others.t .............. ok
t/catch_variable.t ............ ok
t/catch_without_variable.t .... ok
t/exception_class.t ........... ok
t/exit.t ...................... ok
t/finally.t ................... ok
t/import.t .................... ok
t/last_op_in_block.t .......... ok
t/line_numbers.t .............. ok
t/localized_error_variable.t .. ok
t/loops.t ..................... ok
t/memory_leaks.t .............. ok
t/nested.t .................... ok
t/recursive.t ................. ok
t/release-pod-coverage.t ...... skipped: these tests are for release candidate testing
t/release-pod-syntax.t ........ skipped: these tests are for release candidate testing
given is experimental at t/return.t line 17.
when is experimental at t/return.t line 18.
when is experimental at t/return.t line 22.
when is experimental at t/return.t line 25.
when is experimental at t/return.t line 28.
t/return.t .................... ok
t/sig_die.t ................... ok
t/statement.t ................. ok
t/subroutine_args.t ........... ok
given is experimental at t/wantarray.t line 105.
when is experimental at t/wantarray.t line 106.
t/wantarray.t ................. ok
All tests successful.

Test Summary Report
-------------------
t/loops.t                   (Wstat: 0 Tests: 5 Failed: 0)
  TODO passed:   2, 4
Files=28, Tests=287,  3 wallclock secs ( 0.15 usr  0.12 sys +  1.76 cusr  0.49 csys =  2.52 CPU)
Result: PASS

------------------------------
PREREQUISITES
------------------------------

Prerequisite modules loaded:

requires:

    Module              Need    Have    
    ------------------- ------- --------
    Scalar::Util        0       1.31    
    strict              0       1.07    
    syntax              0.004   0.004   
    warnings            0       1.18    
    XSLoader            0       0.16    

build_requires:

    Module              Need    Have    
    ------------------- ------- --------
    base                0       2.18    
    English             0       1.06    
    Exception::Class    0       1.37    
    Exporter            0       5.68    
    FindBin             0       1.51    
  ! Mock::Animal        0       n/a     
  ! Mock::Bird          0       n/a     
  ! Mock::Raptor        0       n/a     
    perl                v5.10.1 5.018001
    syntax              0       0.004   
    Test::Exception     0       0.32    
    Test::LeakTrace     0       0.14    
    Test::More          0       0.98    
    Test::NoWarnings    0       1.04    
    Test::Spec          0       0.46    
    Test::Warn          0       0.24    

configure_requires:

    Module              Need    Have    
    ------------------- ------- --------
    ExtUtils::MakeMaker 6.30    6.74    


------------------------------
ENVIRONMENT AND OTHER CONTEXT
------------------------------

Environment variables:

    AUTOMATED_TESTING = 1
    LANG = en_US.UTF-8
    PATH = /root/perl5/perlbrew/bin:/root/perl5/perlbrew/perls/perl-5.18.1/bin:/usr/local/sbin:/usr/sbin:/sbin:/usr/local/bin:/usr/bin:/bin:/root/bin
    PERL5LIB = /root/.cpan/build/Test-Spec-0.46-wtfWcH/blib/arch:/root/.cpan/build/Test-Spec-0.46-wtfWcH/blib/lib
    PERL5OPT = 
    PERL5_CPANPLUS_IS_RUNNING = 23380
    PERL5_CPAN_IS_RUNNING = 23380
    PERL5_CPAN_IS_RUNNING_IN_RECURSION = 2771,23380
    PERLBREW_BASHRC_VERSION = 0.66
    PERLBREW_HOME = /root/.perlbrew
    PERLBREW_MANPATH = /root/perl5/perlbrew/perls/perl-5.18.1/man
    PERLBREW_PATH = /root/perl5/perlbrew/bin:/root/perl5/perlbrew/perls/perl-5.18.1/bin
    PERLBREW_PERL = perl-5.18.1
    PERLBREW_ROOT = /root/perl5/perlbrew
    PERLBREW_VERSION = 0.66
    PERL_CR_SMOKER_CURRENT = Syntax-Feature-Try-0.008
    PERL_EXTUTILS_AUTOINSTALL = --defaultdeps
    PERL_MM_USE_DEFAULT = 1
    SHELL = /bin/bash
    TERM = xterm

Perl special variables (and OS-specific diagnostics, for MSWin32):

    $^X = /root/perl5/perlbrew/perls/perl-5.18.1/bin/perl
    $UID/$EUID = 0 / 0
    $GID = 0 0
    $EGID = 0 0

Perl module toolchain versions installed:

    Module              Have    
    ------------------- --------
    CPAN                2.00    
    CPAN::Meta          2.132140
    Cwd                 3.40    
    ExtUtils::CBuilder  0.280210
    ExtUtils::Command   1.17    
    ExtUtils::Install   1.59    
    ExtUtils::MakeMaker 6.74    
    ExtUtils::Manifest  1.63    
    ExtUtils::ParseXS   3.21    
    File::Spec          3.40    
    JSON                2.59    
    JSON::PP            2.27202 
    Module::Build       0.4005  
    Module::Signature   n/a     
    Parse::CPAN::Meta   1.4405  
    Test::Harness       3.28    
    Test::More          0.98    
    YAML                0.84    
    YAML::Syck          1.27    
    version             0.9903  


--

Summary of my perl5 (revision 5 version 18 subversion 1) configuration:
   
  Platform:
    osname=linux, osvers=2.6.32-358.el6.i686, archname=i686-linux
    uname='linux localhost.localdomain 2.6.32-358.el6.i686 #1 smp thu feb 21 21:50:49 utc 2013 i686 i686 i386 gnulinux '
    config_args='-de -Dprefix=/root/perl5/perlbrew/perls/perl-5.18.1 -Aeval:scriptdir=/root/perl5/perlbrew/perls/perl-5.18.1/bin'
    hint=recommended, useposix=true, d_sigaction=define
    useithreads=undef, usemultiplicity=undef
    useperlio=define, d_sfio=undef, uselargefiles=define, usesocks=undef
    use64bitint=undef, use64bitall=undef, uselongdouble=undef
    usemymalloc=n, bincompat5005=undef
  Compiler:
    cc='cc', ccflags ='-fno-strict-aliasing -pipe -fstack-protector -I/usr/local/include -D_LARGEFILE_SOURCE -D_FILE_OFFSET_BITS=64',
    optimize='-O2',
    cppflags='-fno-strict-aliasing -pipe -fstack-protector -I/usr/local/include'
    ccversion='', gccversion='4.4.7 20120313 (Red Hat 4.4.7-3)', gccosandvers=''
    intsize=4, longsize=4, ptrsize=4, doublesize=8, byteorder=1234
    d_longlong=define, longlongsize=8, d_longdbl=define, longdblsize=12
    ivtype='long', ivsize=4, nvtype='double', nvsize=8, Off_t='off_t', lseeksize=8
    alignbytes=4, prototype=define
  Linker and Libraries:
    ld='cc', ldflags =' -fstack-protector -L/usr/local/lib'
    libpth=/usr/local/lib /lib /usr/lib
    libs=-lnsl -ldl -lm -lcrypt -lutil -lc
    perllibs=-lnsl -ldl -lm -lcrypt -lutil -lc
    libc=/lib/libc-2.12.so, so=so, useshrplib=false, libperl=libperl.a
    gnulibc_version='2.12'
  Dynamic Linking:
    dlsrc=dl_dlopen.xs, dlext=so, d_dlsymun=undef, ccdlflags='-Wl,-E'
    cccdlflags='-fPIC', lddlflags='-shared -O2 -L/usr/local/lib -fstack-protector'


Characteristics of this binary (from libperl): 
  Compile-time options: HAS_TIMES PERLIO_LAYERS PERL_DONT_CREATE_GVSV
                        PERL_HASH_FUNC_ONE_AT_A_TIME_HARD PERL_MALLOC_WRAP
                        PERL_PRESERVE_IVUV PERL_SAWAMPERSAND USE_LARGE_FILES
                        USE_LOCALE USE_LOCALE_COLLATE USE_LOCALE_CTYPE
                        USE_LOCALE_NUMERIC USE_PERLIO USE_PERL_ATOF
  Built under linux
  Compiled at Aug 25 2013 21:00:38
  %ENV:
    PERL5LIB="/root/.cpan/build/Test-Spec-0.46-wtfWcH/blib/arch:/root/.cpan/build/Test-Spec-0.46-wtfWcH/blib/lib"
    PERL5OPT=""
    PERL5_CPANPLUS_IS_RUNNING="23380"
    PERL5_CPAN_IS_RUNNING="23380"
    PERL5_CPAN_IS_RUNNING_IN_RECURSION="2771,23380"
    PERLBREW_BASHRC_VERSION="0.66"
    PERLBREW_HOME="/root/.perlbrew"
    PERLBREW_MANPATH="/root/perl5/perlbrew/perls/perl-5.18.1/man"
    PERLBREW_PATH="/root/perl5/perlbrew/bin:/root/perl5/perlbrew/perls/perl-5.18.1/bin"
    PERLBREW_PERL="perl-5.18.1"
    PERLBREW_ROOT="/root/perl5/perlbrew"
    PERLBREW_VERSION="0.66"
    PERL_CR_SMOKER_CURRENT="Syntax-Feature-Try-0.008"
    PERL_EXTUTILS_AUTOINSTALL="--defaultdeps"
    PERL_MM_USE_DEFAULT="1"
  @INC:
    /root/.cpan/build/Test-Spec-0.46-wtfWcH/blib/arch
    /root/.cpan/build/Test-Spec-0.46-wtfWcH/blib/lib
    /root/perl5/perlbrew/perls/perl-5.18.1/lib/site_perl/5.18.1/i686-linux
    /root/perl5/perlbrew/perls/perl-5.18.1/lib/site_perl/5.18.1
    /root/perl5/perlbrew/perls/perl-5.18.1/lib/5.18.1/i686-linux
    /root/perl5/perlbrew/perls/perl-5.18.1/lib/5.18.1
    .