Report for Plucene-1.25

Back
From: metabase:user:9820532a-708b-1014-9a05-b18a96298da1
Subject: PASS Plucene-1.25 v5.15.3 GNU/Linux
Date: 2011-10-02T16:11:15Z

This distribution has been tested as part of the CPAN Testers
project, supporting the Perl programming language.  See
http://wiki.cpantesters.org/ for more information or email
questions to cpan-testers-discuss@perl.org


--
Dear Tony Bowden,

This is a computer-generated report for Plucene-1.25
on perl 5.15.3, created by CPAN-Reporter-1.2002.

Thank you for uploading your work to CPAN.  Congratulations!
All tests were successful.

Sections of this report:

    * Tester comments
    * Program output
    * Prerequisites
    * Environment and other context

------------------------------
TESTER COMMENTS
------------------------------

Additional comments from tester:

this report is from an automated smoke testing program
and was not reviewed by a human for accuracy

------------------------------
PROGRAM OUTPUT
------------------------------

Output from './Build test':

t/98_pod_coverage.t .. ok
t/99_pod.t ........... ok
t/analyzers.t ........ ok
t/datesearch.t ....... ok
t/dateserializer.t ... ok
t/deletable.t ........ ok
t/delete.t ........... ok
t/indexsearcher.t .... ok
t/mergefactor.t ...... ok
t/queryparser.t ...... ok
t/regress-01.t ....... ok
t/regress-02.t ....... ok
t/regress-04.t ....... ok
t/search_hits.t ...... ok
t/searchtest.t ....... ok
t/segments.t ......... ok
t/similarity.t ....... ok
t/sloppy_scorer.t .... ok
# Indexing the entire Odyssey. This may take some time
# t/data/book1
# t/data/book10
# t/data/book11
# t/data/book12
# t/data/book13
# t/data/book14
# t/data/book15
# t/data/book16
# t/data/book17
# t/data/book18
# t/data/book19
# t/data/book2
# t/data/book20
# t/data/book21
# t/data/book22
# t/data/book23
# t/data/book24
# t/data/book3
# t/data/book4
# t/data/book5
# t/data/book6
# t/data/book7
# t/data/book8
# t/data/book9
# t/data/preface
# Closing
t/stress.t ........... ok
t/terminfostest.t .... ok
t/testbitvector.t .... ok
t/testindexwriter.t .. ok
t/tokenfilter.t ...... ok
t/tokenizer.t ........ ok
t/utf8.t ............. ok
All tests successful.
Files=25, Tests=6101, 22 wallclock secs ( 0.72 usr  0.12 sys + 19.32 cusr  1.01 csys = 21.17 CPU)
Result: PASS

------------------------------
PREREQUISITES
------------------------------

Prerequisite modules loaded:

requires:

    Module                Need      Have   
    --------------------- --------- -------
    Bit::Vector::Minimal  1.0       1.3    
    Carp                  0         1.23   
    Class::Accessor       0.18      0.34   
    Class::Accessor::Fast 0.02      0.34   
    Class::Virtual        0.03      0.06   
    Encode                0         2.44   
    File::Spec::Functions 1.1       3.33   
    IO::File              1.08      1.15   
    IO::Handle            1.21_00   1.33   
    IO::Scalar            2.104     2.110  
    Lingua::Stem::En      2.12      2.16   
    List::Util            1.13      1.23   
    Memoize               1.01      1.02   
    Tie::Array::Sorted    1.1       1.41   
    Time::Piece           1.08      1.20   

build_requires:

    Module                Need      Have   
    --------------------- --------- -------
    File::Slurp           2002.1031 9999.19
    Test::Harness         2.30      3.23   


------------------------------
ENVIRONMENT AND OTHER CONTEXT
------------------------------

Environment variables:

    AUTOMATED_TESTING = 1
    LANG = C
    LC_ALL = C
    PATH = /home/test/bin:/home/test/perl5/perlbrew/bin:/home/test/perl5/perlbrew/perls/perl-5.15.3/bin:~/bin:/usr/bin:/bin
    PATH_WITHOUT_PERLBREW = ~/bin:/usr/bin:/bin
    PERL5LIB = 
    PERL5OPT = 
    PERL5_CPANPLUS_IS_RUNNING = 22711
    PERL5_CPAN_IS_RUNNING = 22711
    PERL5_CPAN_IS_RUNNING_IN_RECURSION = 27404,22711
    PERLBREW_HOME = /home/test/.perlbrew
    PERLBREW_PATH = /home/test/perl5/perlbrew/bin:/home/test/perl5/perlbrew/perls/perl-5.15.3/bin
    PERLBREW_PERL = perl-5.15.3
    PERLBREW_ROOT = /home/test/perl5/perlbrew
    PERLBREW_VERSION = 0.29
    PERL_CPANM_OPT = --prompt --mirror file:///mirrors/cpan/
    PERL_CR_SMOKER_CURRENT = OpenGuides-0.65
    PERL_EXTUTILS_AUTOINSTALL = --defaultdeps
    PERL_MM_USE_DEFAULT = 1
    SHELL = /bin/bash
    TERM = linux

Perl special variables (and OS-specific diagnostics, for MSWin32):

    $^X = /home/test/perl5/perlbrew/perls/perl-5.15.3/bin/perl5.15.3
    $UID/$EUID = 1001 / 1001
    $GID = 1001 1001
    $EGID = 1001 1001

Perl module toolchain versions installed:

    Module              Have    
    ------------------- --------
    CPAN                1.9800  
    CPAN::Meta          2.112621
    Cwd                 3.33    
    ExtUtils::CBuilder  0.280202
    ExtUtils::Command   1.17    
    ExtUtils::Install   1.57    
    ExtUtils::MakeMaker 6.58    
    ExtUtils::Manifest  1.60    
    ExtUtils::ParseXS   3.04    
    File::Spec          3.33    
    JSON                2.53    
    JSON::PP            2.27008 
    Module::Build       0.3800  
    Module::Signature   n/a     
    Parse::CPAN::Meta   1.4401  
    Test::Harness       3.23    
    Test::More          0.98    
    YAML                0.73    
    YAML::Syck          n/a     
    version             0.94    


--

Summary of my perl5 (revision 5 version 15 subversion 3) configuration:
   
  Platform:
    osname=linux, osvers=2.6.35-28-generic, archname=x86_64-linux-thread-multi
    uname='linux zippy 2.6.35-28-generic #50-ubuntu smp fri mar 18 18:42:20 utc 2011 x86_64 gnulinux '
    config_args='-de -Dprefix=/home/test/perl5/perlbrew/perls/perl-5.15.3 -Dusethreads -Dusedevel'
    hint=recommended, useposix=true, d_sigaction=define
    useithreads=define, usemultiplicity=define
    useperlio=define, d_sfio=undef, uselargefiles=define, usesocks=undef
    use64bitint=define, use64bitall=define, uselongdouble=undef
    usemymalloc=n, bincompat5005=undef
  Compiler:
    cc='cc', ccflags ='-D_REENTRANT -D_GNU_SOURCE -fno-strict-aliasing -pipe -fstack-protector -I/usr/local/include -D_LARGEFILE_SOURCE -D_FILE_OFFSET_BITS=64',
    optimize='-O2',
    cppflags='-D_REENTRANT -D_GNU_SOURCE -fno-strict-aliasing -pipe -fstack-protector -I/usr/local/include'
    ccversion='', gccversion='4.4.5', gccosandvers=''
    intsize=4, longsize=8, ptrsize=8, doublesize=8, byteorder=12345678
    d_longlong=define, longlongsize=8, d_longdbl=define, longdblsize=16
    ivtype='long', ivsize=8, nvtype='double', nvsize=8, Off_t='off_t', lseeksize=8
    alignbytes=8, prototype=define
  Linker and Libraries:
    ld='cc', ldflags =' -fstack-protector -L/usr/local/lib'
    libpth=/usr/local/lib /lib/../lib /usr/lib/../lib /lib /usr/lib /usr/lib/x86_64-linux-gnu /lib64 /usr/lib64
    libs=-lnsl -ldl -lm -lcrypt -lutil -lpthread -lc
    perllibs=-lnsl -ldl -lm -lcrypt -lutil -lpthread -lc
    libc=/lib/libc-2.12.1.so, so=so, useshrplib=false, libperl=libperl.a
    gnulibc_version='2.12.1'
  Dynamic Linking:
    dlsrc=dl_dlopen.xs, dlext=so, d_dlsymun=undef, ccdlflags='-Wl,-E'
    cccdlflags='-fPIC', lddlflags='-shared -O2 -L/usr/local/lib -fstack-protector'


Characteristics of this binary (from libperl): 
  Compile-time options: HAS_TIMES MULTIPLICITY PERLIO_LAYERS
                        PERL_DONT_CREATE_GVSV PERL_IMPLICIT_CONTEXT
                        PERL_MALLOC_WRAP PERL_PRESERVE_IVUV PERL_USE_DEVEL
                        USE_64_BIT_ALL USE_64_BIT_INT USE_ITHREADS
                        USE_LARGE_FILES USE_LOCALE USE_LOCALE_COLLATE
                        USE_LOCALE_CTYPE USE_LOCALE_NUMERIC USE_PERLIO
                        USE_PERL_ATOF USE_REENTRANT_API
  Built under linux
  Compiled at Sep 30 2011 13:34:21
  %ENV:
    PERL5LIB=""
    PERL5OPT=""
    PERL5_CPANPLUS_IS_RUNNING="22711"
    PERL5_CPAN_IS_RUNNING="22711"
    PERL5_CPAN_IS_RUNNING_IN_RECURSION="27404,22711"
    PERLBREW_HOME="/home/test/.perlbrew"
    PERLBREW_PATH="/home/test/perl5/perlbrew/bin:/home/test/perl5/perlbrew/perls/perl-5.15.3/bin"
    PERLBREW_PERL="perl-5.15.3"
    PERLBREW_ROOT="/home/test/perl5/perlbrew"
    PERLBREW_VERSION="0.29"
    PERL_CPANM_OPT="--prompt --mirror file:///mirrors/cpan/"
    PERL_CR_SMOKER_CURRENT="OpenGuides-0.65"
    PERL_EXTUTILS_AUTOINSTALL="--defaultdeps"
    PERL_MM_USE_DEFAULT="1"
  @INC:
    /home/test/perl5/perlbrew/perls/perl-5.15.3/lib/site_perl/5.15.3/x86_64-linux-thread-multi
    /home/test/perl5/perlbrew/perls/perl-5.15.3/lib/site_perl/5.15.3
    /home/test/perl5/perlbrew/perls/perl-5.15.3/lib/5.15.3/x86_64-linux-thread-multi
    /home/test/perl5/perlbrew/perls/perl-5.15.3/lib/5.15.3
    .