Config-Model-TkUI v1.379 Perl 5 v5.40.1 x86_64-linux

Status
Pass
From
Andreas J. König (ANDK)
Dist
Config-Model-TkUI v1.379
Platform
Perl 5 v5.40.1 x86_64-linux
Date
2025-04-14 00:12:30
ID
27c60c7c-18c5-11f0-bc0e-d8d2d96f545d
This distribution has been tested as part of the CPAN Testers
project, supporting the Perl programming language.  See
http://wiki.cpantesters.org/ for more information or email
questions to cpan-testers-discuss@perl.org


--
Dear Dominique Dumont,

This is a computer-generated report for Config-Model-TkUI-1.379
on perl 5.40.1, created by CPAN-Reporter-1.2020.

Thank you for uploading your work to CPAN.  Congratulations!
All tests were successful.

Sections of this report:

    * Tester comments
    * Program output
    * Prerequisites
    * Environment and other context

------------------------------
TESTER COMMENTS
------------------------------

Additional comments from tester:

this report is from an automated smoke testing program
and was not reviewed by a human for accuracy

------------------------------
PROGRAM OUTPUT
------------------------------

Output from './Build test':

t/author-critic.t ........ skipped: these tests are for testing by the author
Name "Pod::POM::Node::Pod::ATTRIBS" used only once: possible typo at /home/sand/src/perl/repoperls/installed-perls/host/k93msid/v5.40.1/bb7f/lib/site_perl/5.40.1/Pod/POM/Node.pm line 81.
Name "Pod::POM::Node::Verbatim::EXPECT" used only once: possible typo at /home/sand/src/perl/repoperls/installed-perls/host/k93msid/v5.40.1/bb7f/lib/site_perl/5.40.1/Pod/POM/Node.pm line 137.
t/config-model-ui.t ...... ok
Name "Pod::POM::Node::Verbatim::EXPECT" used only once: possible typo at /home/sand/src/perl/repoperls/installed-perls/host/k93msid/v5.40.1/bb7f/lib/site_perl/5.40.1/Pod/POM/Node.pm line 137.
Name "Pod::POM::Node::Pod::ATTRIBS" used only once: possible typo at /home/sand/src/perl/repoperls/installed-perls/host/k93msid/v5.40.1/bb7f/lib/site_perl/5.40.1/Pod/POM/Node.pm line 81.
t/config-model-wizard.t .. ok
t/filter.t ............... ok
t/pod.t .................. ok
All tests successful.
Files=5, Tests=149, 29 wallclock secs ( 0.04 usr  0.02 sys +  5.57 cusr  0.47 csys =  6.10 CPU)
Result: PASS

------------------------------
PREREQUISITES
------------------------------

Prerequisite modules loaded:

requires:

    Module                        Need  Have    
    ----------------------------- ----- --------
    Carp                          0     1.54    
    Config::Model                 2.139 2.155   
    Config::Model::ObjTreeScanner 0     2.155   
    File::HomeDir                 0     1.006   
    List::MoreUtils               0     0.430   
    Log::Log4perl                 1.11  1.57    
    Path::Tiny                    0     0.146   
    perl                          5.012 5.040001
    Pod::POM                      0     2.01    
    Pod::POM::View::Text          0     2.01    
    Scalar::Util                  0     1.68    
    Text::Diff                    0     1.45    
    Text::Wrap                    0     2024.001
    Tk                            0     804.036 
    Tk::Adjuster                  0     4.008   
    Tk::Balloon                   0     4.013   
    Tk::BrowseEntry               0     4.015   
    Tk::Dialog                    0     4.005   
    Tk::DialogBox                 0     4.016   
    Tk::DoubleClick               0     0.04    
    Tk::FontDialog                0     0.19    
    Tk::Frame                     0     4.010   
    Tk::Menubutton                0     4.005   
    Tk::NoteBook                  0     4.012   
    Tk::Pane                      0     4.007   
    Tk::Photo                     0     4.006   
    Tk::PNG                       0     4.004   
    Tk::Pod                       0     5.41    
    Tk::Pod::Text                 0     5.32    
    Tk::ROText                    0     4.011   
    Tk::Toplevel                  0     4.006   
    Tk::Tree                      0     4.72    
    Try::Tiny                     0     0.32    
    YAML::PP                      0     v0.38.1 

build_requires:

    Module                        Need  Have    
    ----------------------------- ----- --------
    Config::Model::Tester::Setup  0     4.007   
    Config::Model::Value          0     2.155   
    Hash::Merge                   0     0.302   
    Module::Build                 0.34  0.4234  
    Test::Differences             0     0.71    
    Test::Log::Log4perl           0     0.32    
    Test::Memory::Cycle           0     1.06    
    Test::More                    0     1.302210
    Test::Pod                     1.00  1.52    
    XXX                           0     0.38    

configure_requires:

    Module                        Need  Have    
    ----------------------------- ----- --------
    Module::Build                 0.34  0.4234  


------------------------------
ENVIRONMENT AND OTHER CONTEXT
------------------------------

Environment variables:

    AUTOMATED_TESTING = 1
    LANG = en_US.UTF-8
    LANGUAGE = en_US:en
    PATH = /home/sand/bin:/usr/local/bin:/usr/bin:/bin:/usr/games:/usr/local/perl/bin:/usr/X11/bin:/sbin:/usr/sbin
    PERL5LIB = 
    PERL5OPT = 
    PERL5_CPANPLUS_IS_RUNNING = 150362
    PERL5_CPAN_IS_RUNNING = 150362
    PERL_CANARY_STABILITY_NOPROMPT = 1
    PERL_MM_USE_DEFAULT = 1
    PERL_USE_UNSAFE_INC = 1
    SHELL = /usr/bin/zsh
    TERM = screen

Perl special variables (and OS-specific diagnostics, for MSWin32):

    $^X = /home/sand/src/perl/repoperls/installed-perls/host/k93msid/v5.40.1/bb7f/bin/perl
    $UID/$EUID = 1005 / 1005
    $GID = 1005 1005
    $EGID = 1005 1005

Perl module toolchain versions installed:

    Module              Have    
    ------------------- --------
    CPAN                2.38    
    CPAN::Meta          2.150010
    Cwd                 3.91    
    ExtUtils::CBuilder  0.280240
    ExtUtils::Command   7.70    
    ExtUtils::Install   2.22    
    ExtUtils::MakeMaker 7.70    
    ExtUtils::Manifest  1.75    
    ExtUtils::ParseXS   3.51    
    File::Spec          3.91    
    JSON                4.10    
    JSON::PP            4.16    
    Module::Build       0.4234  
    Module::Signature   0.89    
    Parse::CPAN::Meta   2.150010
    Test2               1.302210
    Test::Harness       3.50    
    Test::More          1.302210
    YAML                1.31    
    YAML::Syck          1.34    
    version             0.9933  


--

Summary of my perl5 (revision 5 version 40 subversion 1) configuration:
  Commit id: f722f11a2b1a34e28743e331bad6dd7da41e2086
  Platform:
    osname=linux
    osvers=6.8.12-amd64
    archname=x86_64-linux
    uname='linux k93msid 6.8.12-amd64 #1 smp preempt_dynamic debian 6.8.12-1 (2024-05-31) x86_64 gnulinux '
    config_args='-Dprefix=/home/sand/src/perl/repoperls/installed-perls/host/k93msid/v5.40.1/bb7f -Dmyhostname=k93msid -Dinstallusrbinperl=n -Uversiononly -Dusedevel -des -Ui_db -Dlibswanted=cl pthread socket inet nsl gdbm dbm malloc dl ld sun m crypt sec util c cposix posix ucb BSD gdbm_compat -Uuseithreads -Uuselongdouble -DEBUGGING=both'
    hint=recommended
    useposix=true
    d_sigaction=define
    useithreads=undef
    usemultiplicity=undef
    use64bitint=define
    use64bitall=define
    uselongdouble=undef
    usemymalloc=n
    default_inc_excludes_dot=define
  Compiler:
    cc='cc'
    ccflags ='-fwrapv -DDEBUGGING -fno-strict-aliasing -pipe -fstack-protector-strong -I/usr/local/include -D_LARGEFILE_SOURCE -D_FILE_OFFSET_BITS=64 -D_FORTIFY_SOURCE=2'
    optimize='-O2 -g'
    cppflags='-fwrapv -DDEBUGGING -fno-strict-aliasing -pipe -fstack-protector-strong -I/usr/local/include'
    ccversion=''
    gccversion='13.3.0'
    gccosandvers=''
    intsize=4
    longsize=8
    ptrsize=8
    doublesize=8
    byteorder=12345678
    doublekind=3
    d_longlong=define
    longlongsize=8
    d_longdbl=define
    longdblsize=16
    longdblkind=3
    ivtype='long'
    ivsize=8
    nvtype='double'
    nvsize=8
    Off_t='off_t'
    lseeksize=8
    alignbytes=8
    prototype=define
  Linker and Libraries:
    ld='cc'
    ldflags =' -fstack-protector-strong -L/usr/local/lib'
    libpth=/usr/local/lib /usr/lib/x86_64-linux-gnu /usr/lib /usr/lib64
    libs=-lpthread -ldl -lm -lcrypt -lutil -lc
    perllibs=-lpthread -ldl -lm -lcrypt -lutil -lc
    libc=/lib/x86_64-linux-gnu/libc.so.6
    so=so
    useshrplib=false
    libperl=libperl.a
    gnulibc_version='2.38'
  Dynamic Linking:
    dlsrc=dl_dlopen.xs
    dlext=so
    d_dlsymun=undef
    ccdlflags='-Wl,-E'
    cccdlflags='-fPIC'
    lddlflags='-shared -O2 -g -L/usr/local/lib -fstack-protector-strong'


Characteristics of this binary (from libperl): 
  Compile-time options:
    DEBUGGING
    HAS_LONG_DOUBLE
    HAS_STRTOLD
    HAS_TIMES
    PERLIO_LAYERS
    PERL_COPY_ON_WRITE
    PERL_DONT_CREATE_GVSV
    PERL_HASH_FUNC_SIPHASH13
    PERL_HASH_USE_SBOX32
    PERL_MALLOC_WRAP
    PERL_OP_PARENT
    PERL_PRESERVE_IVUV
    PERL_USE_DEVEL
    PERL_USE_SAFE_PUTENV
    USE_64_BIT_ALL
    USE_64_BIT_INT
    USE_LARGE_FILES
    USE_LOCALE
    USE_LOCALE_COLLATE
    USE_LOCALE_CTYPE
    USE_LOCALE_NUMERIC
    USE_LOCALE_TIME
    USE_PERLIO
    USE_PERL_ATOF
  Built under linux
  Compiled at Jan 20 2025 16:27:20
  %ENV:
    PERL5LIB=""
    PERL5OPT=""
    PERL5_CPANPLUS_IS_RUNNING="150362"
    PERL5_CPAN_IS_RUNNING="150362"
    PERL_CANARY_STABILITY_NOPROMPT="1"
    PERL_MM_USE_DEFAULT="1"
    PERL_USE_UNSAFE_INC="1"
  @INC:
    /home/sand/src/perl/repoperls/installed-perls/host/k93msid/v5.40.1/bb7f/lib/site_perl/5.40.1/x86_64-linux
    /home/sand/src/perl/repoperls/installed-perls/host/k93msid/v5.40.1/bb7f/lib/site_perl/5.40.1
    /home/sand/src/perl/repoperls/installed-perls/host/k93msid/v5.40.1/bb7f/lib/5.40.1/x86_64-linux
    /home/sand/src/perl/repoperls/installed-perls/host/k93msid/v5.40.1/bb7f/lib/5.40.1
    .