Unicode-LineBreak v2018.003 Perl 5 v5.27.8 OpenBSD.amd64-openbsd-thread-multi

Status
Pass
From
Nigel Horne
Dist
Unicode-LineBreak v2018.003
Platform
Perl 5 v5.27.8 OpenBSD.amd64-openbsd-thread-multi
Date
2018-05-14 18:03:50
ID
27c9b8f0-57a1-11e8-9da6-f703c768dc7a
This distribution has been tested as part of the CPAN Testers
project, supporting the Perl programming language.  See
http://wiki.cpantesters.org/ for more information or email
questions to cpan-testers-discuss@perl.org


--
Dear Hatuka*nezumi - IKEDA Soji,

This is a computer-generated report for Unicode-LineBreak-2018.003
on perl 5.27.8, created by CPAN-Reporter-1.2018.

Thank you for uploading your work to CPAN.  Congratulations!
All tests were successful.

Sections of this report:

    * Tester comments
    * Program output
    * Prerequisites
    * Environment and other context

------------------------------
TESTER COMMENTS
------------------------------

Additional comments from tester:

this report is from an automated smoke testing program
and was not reviewed by a human for accuracy

------------------------------
PROGRAM OUTPUT
------------------------------

Output from '/usr/bin/make test':

cd test-data;  [ -f LineBreakTest.txt ] ||  wget -q -N -O LineBreakTest.txt  ftp://unicode.org/Public/8.0.0/ucd/auxiliary/LineBreakTest*.txt  || true
cd test-data;  [ -f GraphemeBreakTest.txt ] ||  wget -q -N -O GraphemeBreakTest.txt  ftp://unicode.org/Public/8.0.0/ucd/auxiliary/GraphemeBreakTest*.txt  || true
"/home/njh/perl5/perlbrew/perls/perl-5.27.8-thread/bin/perl5.27.8" -MExtUtils::Command::MM -e 'cp_nonempty' -- LineBreak.bs blib/arch/auto/Unicode/LineBreak/LineBreak.bs 644
No tests defined for sombok extension.
PERL_DL_NONLAZY=1 "/home/njh/perl5/perlbrew/perls/perl-5.27.8-thread/bin/perl5.27.8" "-MExtUtils::Command::MM" "-MTest::Harness" "-e" "undef *Test::Harness::Switches; test_harness(0, 'blib/lib', 'blib/arch')" t/*.t
# sombok 2.4.0 with Unicode 8.0.0
t/000.t .................. ok
t/00GraphemeBreakTest.t .. skipped: test-data/GraphemeBreakTest.txt is empty.
t/00LineBreakTest.t ...... skipped: test-data/LineBreakTest.txt is empty.
t/01break.t .............. ok
t/02hangul.t ............. ok
t/03ns.t ................. ok
t/04fold.t ............... ok
t/05urgent.t ............. ok
t/06context.t ............ ok
t/07sea.t ................ skipped: SA word segmentation not supported.
t/08partial.t ............ ok
t/09uri.t ................ ok
t/10gcstring.t ........... ok
t/11format.t ............. ok
t/12fold2.t .............. ok
t/13flowedsp.t ........... ok
t/14sea_al.t ............. ok
t/15array.t .............. ok
t/16regex.t .............. ok
t/17prop.t ............... ok
t/18currency.t ........... ok
t/pod.t .................. ok
All tests successful.
Files=22, Tests=248, 31 wallclock secs ( 0.37 usr  0.42 sys + 12.65 cusr  5.80 csys = 19.24 CPU)
Result: PASS

------------------------------
PREREQUISITES
------------------------------

Prerequisite modules loaded:

requires:

    Module              Need   Have    
    ------------------- ------ --------
    Encode              1.98   2.94    
    MIME::Charset       v1.6.2 1.012.2 
    perl                5.008  5.027008

build_requires:

    Module              Need   Have    
    ------------------- ------ --------
    ExtUtils::MakeMaker 6.26   7.32    
    Test::More          0.45   1.302136

configure_requires:

    Module              Need   Have    
    ------------------- ------ --------
    ExtUtils::MakeMaker 6.26   7.32    


------------------------------
ENVIRONMENT AND OTHER CONTEXT
------------------------------

Environment variables:

    AUTOMATED_TESTING = 1
    PATH = /home/njh/perl5/perlbrew/bin:/home/njh/perl5/perlbrew/perls/perl-5.27.8-thread/bin:src/njh/smoker/bin:/usr/bin:/bin:/usr/sbin:/sbin:/usr/X11R6/bin:/usr/local/bin:/usr/local/sbin
    PERL5LIB = /tmp/build/MIME-Charset-1.012.2-0/blib/arch:/tmp/build/MIME-Charset-1.012.2-0/blib/lib:/tmp/build/Path-Class-0.37-0/blib/arch:/tmp/build/Path-Class-0.37-0/blib/lib:/tmp/build/MooX-Locale-Passthrough-0.001-0/blib/arch:/tmp/build/MooX-Locale-Passthrough-0.001-0/blib/lib:/tmp/build/Map-Tube-Exception-3.16-0/blib/arch:/tmp/build/Map-Tube-Exception-3.16-0/blib/lib:/tmp/build/Throwable-0.200013-0/blib/arch:/tmp/build/Throwable-0.200013-0/blib/lib:/tmp/build/Moo-2.003004-0/blib/arch:/tmp/build/Moo-2.003004-0/blib/lib:/tmp/build/Sub-Quote-2.005001-0/blib/arch:/tmp/build/Sub-Quote-2.005001-0/blib/lib:/tmp/build/Role-Tiny-2.000006-0/blib/arch:/tmp/build/Role-Tiny-2.000006-0/blib/lib:/tmp/build/Class-Method-Modifiers-2.12-0/blib/arch:/tmp/build/Class-Method-Modifiers-2.12-0/blib/lib:/tmp/build/File-Share-0.25-0/blib/arch:/tmp/build/File-Share-0.25-0/blib/lib:/tmp/build/ExtUtils-ModuleMaker-0.61-0/blib/arch:/tmp/build/ExtUtils-ModuleMaker-0.61-0/blib/lib:/tmp/build/File-Copy-Recursive-Reduced-0.006-0/blib/arch:/tmp/build/File-Copy-Recursive-Reduced-0.006-0/blib/lib:/tmp/build/Text-PerlPP-0.3.2-0/blib/arch:/tmp/build/Text-PerlPP-0.3.2-0/blib/lib:/tmp/build/IPC-Run3-0.048-0/blib/arch:/tmp/build/IPC-Run3-0.048-0/blib/lib:/tmp/build/App-FatPacker-0.010007-0/blib/arch:/tmp/build/App-FatPacker-0.010007-0/blib/lib
    PERL5OPT = 
    PERL5_CPANPLUS_IS_RUNNING = 21433
    PERL5_CPAN_IS_RUNNING = 21433
    PERLBREW_HOME = /home/njh/.perlbrew
    PERLBREW_MANPATH = /home/njh/perl5/perlbrew/perls/perl-5.27.8-thread/man
    PERLBREW_PATH = /home/njh/perl5/perlbrew/bin:/home/njh/perl5/perlbrew/perls/perl-5.27.8-thread/bin
    PERLBREW_PERL = perl-5.27.8-thread
    PERLBREW_ROOT = /home/njh/perl5/perlbrew
    PERLBREW_SHELLRC_VERSION = 0.82
    PERLBREW_VERSION = 0.82
    PERL_USE_UNSAFE_INC = 1
    SHELL = /bin/sh
    TMPDIR = /tmp/testwrapper.79418

Perl special variables (and OS-specific diagnostics, for MSWin32):

    $^X = /home/njh/perl5/perlbrew/perls/perl-5.27.8-thread/bin/perl5.27.8
    $UID/$EUID = 1000 / 1000
    $GID = 1000 1000 0
    $EGID = 1000 1000 0

Perl module toolchain versions installed:

    Module              Have    
    ------------------- --------
    CPAN                2.20    
    CPAN::Meta          2.150010
    Cwd                 3.72    
    ExtUtils::CBuilder  0.280230
    ExtUtils::Command   7.32    
    ExtUtils::Install   2.14    
    ExtUtils::MakeMaker 7.32    
    ExtUtils::Manifest  1.70    
    ExtUtils::ParseXS   3.36    
    File::Spec          3.72    
    JSON                2.97001 
    JSON::PP            2.97001 
    Module::Build       0.4224  
    Module::Signature   n/a     
    Parse::CPAN::Meta   2.150010
    Test::Harness       3.39    
    Test::More          1.302136
    YAML                1.24    
    YAML::Syck          n/a     
    version             0.9918  


--

Summary of my perl5 (revision 5 version 27 subversion 8) configuration:
   
  Platform:
    osname=openbsd
    osvers=6.2
    archname=OpenBSD.amd64-openbsd-thread-multi
    uname='openbsd netgate1.bandsman.co.uk 6.2 generic.mp#5 amd64 '
    config_args='-de -Dprefix=/home/njh/perl5/perlbrew/perls/perl-5.27.8-thread -Dusedevel -Dusethreads -Dusedevel -Accflags=-O2 -W -Wformat=2 -Wswitch -Wshadow -Wwrite-strings -Wuninitialized -Wall -pipe -mtune=native -march=native -fomit-frame-pointer -ftree-vectorize -fdiagnostics-color=auto -Aeval:scriptdir=/home/njh/perl5/perlbrew/perls/perl-5.27.8-thread/bin'
    hint=recommended
    useposix=true
    d_sigaction=define
    useithreads=define
    usemultiplicity=define
    use64bitint=define
    use64bitall=define
    uselongdouble=undef
    usemymalloc=n
    default_inc_excludes_dot=define
    bincompat5005=undef
  Compiler:
    cc='cc'
    ccflags ='-pthread -O2 -W -Wformat=2 -Wswitch -Wshadow -Wwrite-strings -Wuninitialized -Wall -pipe -mtune=native -march=native -fomit-frame-pointer -ftree-vectorize -fdiagnostics-color=auto -fno-strict-aliasing -fstack-protector-strong -I/usr/local/include -D_FORTIFY_SOURCE=2'
    optimize='-O2'
    cppflags='-pthread -O2 -W -Wformat=2 -Wswitch -Wshadow -Wwrite-strings -Wuninitialized -Wall -pipe -mtune=native -march=native -fomit-frame-pointer -ftree-vectorize -fdiagnostics-color=auto -fno-strict-aliasing -fstack-protector-strong -I/usr/local/include'
    ccversion=''
    gccversion='4.2.1 Compatible OpenBSD Clang 4.0.0 (tags/RELEASE_400/final)'
    gccosandvers=''
    intsize=4
    longsize=8
    ptrsize=8
    doublesize=8
    byteorder=12345678
    doublekind=3
    d_longlong=define
    longlongsize=8
    d_longdbl=define
    longdblsize=16
    longdblkind=3
    ivtype='long'
    ivsize=8
    nvtype='double'
    nvsize=8
    Off_t='off_t'
    lseeksize=8
    alignbytes=8
    prototype=define
  Linker and Libraries:
    ld='cc'
    ldflags ='-pthread -Wl,-E  -fstack-protector-strong -L/usr/local/lib'
    libpth=/usr/lib /usr/local/lib
    libs=-lpthread -lm -lutil -lc
    perllibs=-lpthread -lm -lutil -lc
    libc=/usr/lib/libc.so.90.0
    so=so
    useshrplib=false
    libperl=libperl.a
    gnulibc_version=''
  Dynamic Linking:
    dlsrc=dl_dlopen.xs
    dlext=so
    d_dlsymun=undef
    ccdlflags=' '
    cccdlflags='-DPIC -fPIC '
    lddlflags='-shared -fPIC  -L/usr/local/lib -fstack-protector-strong'


Characteristics of this binary (from libperl): 
  Compile-time options:
    HAS_TIMES
    MULTIPLICITY
    PERLIO_LAYERS
    PERL_COPY_ON_WRITE
    PERL_DONT_CREATE_GVSV
    PERL_IMPLICIT_CONTEXT
    PERL_MALLOC_WRAP
    PERL_OP_PARENT
    PERL_PRESERVE_IVUV
    PERL_USE_DEVEL
    USE_64_BIT_ALL
    USE_64_BIT_INT
    USE_ITHREADS
    USE_LARGE_FILES
    USE_LOCALE
    USE_LOCALE_COLLATE
    USE_LOCALE_CTYPE
    USE_LOCALE_NUMERIC
    USE_LOCALE_TIME
    USE_PERLIO
    USE_PERL_ATOF
    USE_REENTRANT_API
  Locally applied patches:
    Devel::PatchPerl 1.48
  Built under openbsd
  Compiled at Mar  5 2018 08:09:59
  %ENV:
    PERL5LIB="/tmp/build/MIME-Charset-1.012.2-0/blib/arch:/tmp/build/MIME-Charset-1.012.2-0/blib/lib:/tmp/build/Path-Class-0.37-0/blib/arch:/tmp/build/Path-Class-0.37-0/blib/lib:/tmp/build/MooX-Locale-Passthrough-0.001-0/blib/arch:/tmp/build/MooX-Locale-Passthrough-0.001-0/blib/lib:/tmp/build/Map-Tube-Exception-3.16-0/blib/arch:/tmp/build/Map-Tube-Exception-3.16-0/blib/lib:/tmp/build/Throwable-0.200013-0/blib/arch:/tmp/build/Throwable-0.200013-0/blib/lib:/tmp/build/Moo-2.003004-0/blib/arch:/tmp/build/Moo-2.003004-0/blib/lib:/tmp/build/Sub-Quote-2.005001-0/blib/arch:/tmp/build/Sub-Quote-2.005001-0/blib/lib:/tmp/build/Role-Tiny-2.000006-0/blib/arch:/tmp/build/Role-Tiny-2.000006-0/blib/lib:/tmp/build/Class-Method-Modifiers-2.12-0/blib/arch:/tmp/build/Class-Method-Modifiers-2.12-0/blib/lib:/tmp/build/File-Share-0.25-0/blib/arch:/tmp/build/File-Share-0.25-0/blib/lib:/tmp/build/ExtUtils-ModuleMaker-0.61-0/blib/arch:/tmp/build/ExtUtils-ModuleMaker-0.61-0/blib/lib:/tmp/build/File-Copy-Recursive-Reduced-0.006-0/blib/arch:/tmp/build/File-Copy-Recursive-Reduced-0.006-0/blib/lib:/tmp/build/Text-PerlPP-0.3.2-0/blib/arch:/tmp/build/Text-PerlPP-0.3.2-0/blib/lib:/tmp/build/IPC-Run3-0.048-0/blib/arch:/tmp/build/IPC-Run3-0.048-0/blib/lib:/tmp/build/App-FatPacker-0.010007-0/blib/arch:/tmp/build/App-FatPacker-0.010007-0/blib/lib"
    PERL5OPT=""
    PERL5_CPANPLUS_IS_RUNNING="21433"
    PERL5_CPAN_IS_RUNNING="21433"
    PERLBREW_HOME="/home/njh/.perlbrew"
    PERLBREW_MANPATH="/home/njh/perl5/perlbrew/perls/perl-5.27.8-thread/man"
    PERLBREW_PATH="/home/njh/perl5/perlbrew/bin:/home/njh/perl5/perlbrew/perls/perl-5.27.8-thread/bin"
    PERLBREW_PERL="perl-5.27.8-thread"
    PERLBREW_ROOT="/home/njh/perl5/perlbrew"
    PERLBREW_SHELLRC_VERSION="0.82"
    PERLBREW_VERSION="0.82"
    PERL_USE_UNSAFE_INC="1"
  @INC:
    /tmp/build/MIME-Charset-1.012.2-0/blib/arch
    /tmp/build/MIME-Charset-1.012.2-0/blib/lib
    /tmp/build/Path-Class-0.37-0/blib/arch
    /tmp/build/Path-Class-0.37-0/blib/lib
    /tmp/build/MooX-Locale-Passthrough-0.001-0/blib/arch
    /tmp/build/MooX-Locale-Passthrough-0.001-0/blib/lib
    /tmp/build/Map-Tube-Exception-3.16-0/blib/arch
    /tmp/build/Map-Tube-Exception-3.16-0/blib/lib
    /tmp/build/Throwable-0.200013-0/blib/arch
    /tmp/build/Throwable-0.200013-0/blib/lib
    /tmp/build/Moo-2.003004-0/blib/arch
    /tmp/build/Moo-2.003004-0/blib/lib
    /tmp/build/Sub-Quote-2.005001-0/blib/arch
    /tmp/build/Sub-Quote-2.005001-0/blib/lib
    /tmp/build/Role-Tiny-2.000006-0/blib/arch
    /tmp/build/Role-Tiny-2.000006-0/blib/lib
    /tmp/build/Class-Method-Modifiers-2.12-0/blib/arch
    /tmp/build/Class-Method-Modifiers-2.12-0/blib/lib
    /tmp/build/File-Share-0.25-0/blib/arch
    /tmp/build/File-Share-0.25-0/blib/lib
    /tmp/build/ExtUtils-ModuleMaker-0.61-0/blib/arch
    /tmp/build/ExtUtils-ModuleMaker-0.61-0/blib/lib
    /tmp/build/File-Copy-Recursive-Reduced-0.006-0/blib/arch
    /tmp/build/File-Copy-Recursive-Reduced-0.006-0/blib/lib
    /tmp/build/Text-PerlPP-0.3.2-0/blib/arch
    /tmp/build/Text-PerlPP-0.3.2-0/blib/lib
    /tmp/build/IPC-Run3-0.048-0/blib/arch
    /tmp/build/IPC-Run3-0.048-0/blib/lib
    /tmp/build/App-FatPacker-0.010007-0/blib/arch
    /tmp/build/App-FatPacker-0.010007-0/blib/lib
    /home/njh/perl5/perlbrew/perls/perl-5.27.8-thread/lib/site_perl/5.27.8/OpenBSD.amd64-openbsd-thread-multi
    /home/njh/perl5/perlbrew/perls/perl-5.27.8-thread/lib/site_perl/5.27.8
    /home/njh/perl5/perlbrew/perls/perl-5.27.8-thread/lib/5.27.8/OpenBSD.amd64-openbsd-thread-multi
    /home/njh/perl5/perlbrew/perls/perl-5.27.8-thread/lib/5.27.8
    .