HTTP-Message v7.00 Perl 5 v5.38.3 x86_64-linux-thread-multi

Status
Pass
From
Paul Evans
Dist
HTTP-Message v7.00
Platform
Perl 5 v5.38.3 x86_64-linux-thread-multi
Date
2025-01-19 21:27:16
ID
27d550fc-d6ac-11ef-92cd-adaaea7a5eff
This distribution has been tested as part of the CPAN Testers
project, supporting the Perl programming language.  See
http://wiki.cpantesters.org/ for more information or email
questions to cpan-testers-discuss@perl.org


--
Dear Olaf Alders,

This is a computer-generated report for HTTP-Message-7.00
on perl 5.38.3, created by CPAN-Reporter-1.2020.

Thank you for uploading your work to CPAN.  Congratulations!
All tests were successful.

Sections of this report:

    * Tester comments
    * Program output
    * Prerequisites
    * Environment and other context

------------------------------
TESTER COMMENTS
------------------------------

Additional comments from tester:

none provided

------------------------------
PROGRAM OUTPUT
------------------------------

Output from '/usr/bin/make test':

PERL_DL_NONLAZY=1 "/home/leo/perl5/perlbrew/perls/perl-5.38.3/bin/perl" "-MExtUtils::Command::MM" "-MTest::Harness" "-e" "undef *Test::Harness::Switches; test_harness(0, 'blib/lib', 'blib/arch')" t/*.t
# 
# Versions for all modules listed in MYMETA.json (including optional ones):
# 
# === Configure Requires ===
# 
#     Module               Want     Have
#     ------------------- ----- --------
#     ExtUtils::MakeMaker   any     7.70
#     perl                5.006 5.038003
# 
# === Configure Suggests ===
# 
#     Module      Want Have
#     -------- ------- ----
#     JSON::PP 2.27300 4.16
# 
# === Build Requires ===
# 
#     Module              Want Have
#     ------------------- ---- ----
#     ExtUtils::MakeMaker  any 7.70
# 
# === Test Requires ===
# 
#     Module                  Want     Have
#     ------------------- -------- --------
#     ExtUtils::MakeMaker      any     7.70
#     File::Spec               any     3.88
#     File::Temp               any   0.2311
#     PerlIO::encoding         any     0.30
#     Test::More              0.88 1.302207
#     Test::Needs              any 0.002010
#     Time::Local              any     1.30
#     Try::Tiny                any     0.32
#     URI::URL                 any     5.31
#     lib                      any     0.65
#     overload                 any     1.37
#     perl                5.008001 5.038003
# 
# === Test Recommends ===
# 
#     Module                     Want     Have
#     ---------------------- -------- --------
#     CPAN::Meta             2.120900 2.150010
#     IO::Compress::Brotli   0.004001  missing
#     IO::Uncompress::Brotli 0.004001  missing
# 
# === Runtime Requires ===
# 
#     Module                         Want      Have
#     -------------------------- -------- ---------
#     Carp                            any      1.54
#     Clone                          0.46      0.47
#     Compress::Raw::Bzip2            any 2.204_001
#     Compress::Raw::Zlib           2.062 2.204_001
#     Encode                         3.01      3.19
#     Encode::Locale                    1      1.05
#     Exporter                       5.57      5.77
#     File::Spec                      any      3.88
#     HTTP::Date                        6      6.06
#     IO::Compress::Bzip2           2.021     2.204
#     IO::Compress::Deflate           any     2.204
#     IO::Compress::Gzip              any     2.204
#     IO::HTML                        any     1.004
#     IO::Uncompress::Inflate         any     2.204
#     IO::Uncompress::RawInflate      any     2.204
#     LWP::MediaTypes                   6      6.04
#     MIME::Base64                    2.1   3.16_01
#     MIME::QuotedPrint               any   3.16_01
#     URI                            1.10      5.31
#     parent                          any     0.241
#     perl                       5.008001  5.038003
#     strict                          any      1.12
#     warnings                        any      1.65
# 
# === Runtime Recommends ===
# 
#     Module                     Want    Have
#     ---------------------- -------- -------
#     IO::Compress::Brotli   0.004001 missing
#     IO::Uncompress::Brotli 0.004001 missing
# 
t/00-report-prereqs.t .......... ok
t/common-req.t ................. ok
t/headers-auth.t ............... ok
t/headers-etag.t ............... ok
t/headers-util.t ............... ok
t/headers.t .................... ok
t/http-config.t ................ ok
t/message-brotli.t ............. skipped: Need IO::Compress::Brotli, IO::Uncompress::Brotli
t/message-charset.t ............ ok
t/message-decode-brotlibomb.t .. skipped: Need IO::Compress::Brotli, IO::Uncompress::Brotli
t/message-decode-bzipbomb.t .... ok
t/message-decode-xml.t ......... ok
t/message-decode-zipbomb.t ..... ok
t/message-old.t ................ ok
t/message-parts.t .............. ok
t/message.t .................... ok
t/request.t .................... ok
t/request_type_with_data.t ..... ok
t/response.t ................... ok
t/status-old.t ................. ok
t/status.t ..................... ok
All tests successful.
Files=21, Tests=841,  4 wallclock secs ( 0.12 usr  0.03 sys +  2.74 cusr  0.43 csys =  3.32 CPU)
Result: PASS

------------------------------
PREREQUISITES
------------------------------

Prerequisite modules loaded:

requires:

    Module                     Need     Have     
    -------------------------- -------- ---------
    Carp                       0        1.54     
    Clone                      0.46     0.47     
    Compress::Raw::Bzip2       0        2.204_001
    Compress::Raw::Zlib        2.062    2.204_001
    Encode                     3.01     3.19     
    Encode::Locale             1        1.05     
    Exporter                   5.57     5.77     
    File::Spec                 0        3.88     
    HTTP::Date                 6        6.06     
    IO::Compress::Bzip2        2.021    2.204    
    IO::Compress::Deflate      0        2.204    
    IO::Compress::Gzip         0        2.204    
    IO::HTML                   0        1.004    
    IO::Uncompress::Inflate    0        2.204    
    IO::Uncompress::RawInflate 0        2.204    
    LWP::MediaTypes            6        6.04     
    MIME::Base64               2.1      3.16_01  
    MIME::QuotedPrint          0        3.16_01  
    parent                     0        0.241    
    perl                       5.008001 5.038003 
    strict                     0        1.12     
    URI                        1.10     5.31     
    warnings                   0        1.65     

build_requires:

    Module                     Need     Have     
    -------------------------- -------- ---------
    ExtUtils::MakeMaker        0        7.70     
    File::Spec                 0        3.88     
    File::Temp                 0        0.2311   
    lib                        0        0.65     
    overload                   0        1.37     
    PerlIO::encoding           0        0.30     
    Test::More                 0.88     1.302207 
    Test::Needs                0        0.002010 
    Time::Local                0        1.30     
    Try::Tiny                  0        0.32     
    URI::URL                   0        5.31     

configure_requires:

    Module                     Need     Have     
    -------------------------- -------- ---------
    ExtUtils::MakeMaker        0        7.70     
    perl                       5.006    5.038003 

opt_requires:

    Module                     Need     Have     
    -------------------------- -------- ---------
  ! IO::Compress::Brotli       0.004001 n/a      
  ! IO::Uncompress::Brotli     0.004001 n/a      

opt_build_requires:

    Module                     Need     Have     
    -------------------------- -------- ---------
    CPAN::Meta                 2.120900 2.150010 
  ! IO::Compress::Brotli       0.004001 n/a      
  ! IO::Uncompress::Brotli     0.004001 n/a      


------------------------------
ENVIRONMENT AND OTHER CONTEXT
------------------------------

Environment variables:

    LANG = en_GB.UTF-8
    LD_LIBRARY_PATH = /home/leo/lib
    NONINTERACTIVE_TESTING = 1
    PATH = /home/leo/bin:/usr/local/bin:/usr/bin:/bin:/usr/local/games:/usr/games
    PERL5LIB = 
    PERL5OPT = 
    PERL5_CPANPLUS_IS_RUNNING = 2281115
    PERL5_CPAN_IS_RUNNING = 2281115
    PERL_MM_USE_DEFAULT = 1
    PERL_USE_UNSAFE_INC = 1
    SHELL = /bin/bash
    TERM = xterm

Perl special variables (and OS-specific diagnostics, for MSWin32):

    $^X = /home/leo/perl5/perlbrew/perls/perl-5.38.3/bin/perl
    $UID/$EUID = 1000 / 1000
    $GID = 1000 100 1000
    $EGID = 1000 100 1000

Perl module toolchain versions installed:

    Module              Have    
    ------------------- --------
    CPAN                2.36    
    CPAN::Meta          2.150010
    Cwd                 3.89    
    ExtUtils::CBuilder  0.280238
    ExtUtils::Command   7.70    
    ExtUtils::Install   2.22    
    ExtUtils::MakeMaker 7.70    
    ExtUtils::Manifest  1.73    
    ExtUtils::ParseXS   3.51    
    File::Spec          3.88    
    JSON                n/a     
    JSON::PP            4.16    
    Module::Build       0.4234  
    Module::Signature   n/a     
    Parse::CPAN::Meta   2.150010
    Test2               1.302207
    Test::Harness       3.44    
    Test::More          1.302207
    YAML                n/a     
    YAML::Syck          n/a     
    version             0.9929  


--

Summary of my perl5 (revision 5 version 38 subversion 3) configuration:
   
  Platform:
    osname=linux
    osvers=6.10.6-amd64
    archname=x86_64-linux-thread-multi
    uname='linux hevva 6.10.6-amd64 #1 smp preempt_dynamic debian 6.10.6-1 (2024-08-19) x86_64 gnulinux '
    config_args='-de -Dprefix=/home/leo/perl5/perlbrew/perls/perl-5.38.3 -Dusethreads -Aeval:scriptdir=/home/leo/perl5/perlbrew/perls/perl-5.38.3/bin'
    hint=recommended
    useposix=true
    d_sigaction=define
    useithreads=define
    usemultiplicity=define
    use64bitint=define
    use64bitall=define
    uselongdouble=undef
    usemymalloc=n
    default_inc_excludes_dot=define
  Compiler:
    cc='cc'
    ccflags ='-D_REENTRANT -D_GNU_SOURCE -fwrapv -fno-strict-aliasing -pipe -fstack-protector-strong -I/usr/local/include -D_LARGEFILE_SOURCE -D_FILE_OFFSET_BITS=64 -D_FORTIFY_SOURCE=2'
    optimize='-O2'
    cppflags='-D_REENTRANT -D_GNU_SOURCE -fwrapv -fno-strict-aliasing -pipe -fstack-protector-strong -I/usr/local/include'
    ccversion=''
    gccversion='14.2.0'
    gccosandvers=''
    intsize=4
    longsize=8
    ptrsize=8
    doublesize=8
    byteorder=12345678
    doublekind=3
    d_longlong=define
    longlongsize=8
    d_longdbl=define
    longdblsize=16
    longdblkind=3
    ivtype='long'
    ivsize=8
    nvtype='double'
    nvsize=8
    Off_t='off_t'
    lseeksize=8
    alignbytes=8
    prototype=define
  Linker and Libraries:
    ld='cc'
    ldflags =' -fstack-protector-strong -L/usr/local/lib'
    libpth=/usr/local/lib /usr/lib/x86_64-linux-gnu /usr/lib /usr/lib64
    libs=-lpthread -ldl -lm -lcrypt -lutil -lc
    perllibs=-lpthread -ldl -lm -lcrypt -lutil -lc
    libc=/lib/x86_64-linux-gnu/libc.so.6
    so=so
    useshrplib=false
    libperl=libperl.a
    gnulibc_version='2.40'
  Dynamic Linking:
    dlsrc=dl_dlopen.xs
    dlext=so
    d_dlsymun=undef
    ccdlflags='-Wl,-E'
    cccdlflags='-fPIC'
    lddlflags='-shared -O2 -L/usr/local/lib -fstack-protector-strong'


Characteristics of this binary (from libperl): 
  Compile-time options:
    HAS_LONG_DOUBLE
    HAS_STRTOLD
    HAS_TIMES
    MULTIPLICITY
    PERLIO_LAYERS
    PERL_COPY_ON_WRITE
    PERL_DONT_CREATE_GVSV
    PERL_HASH_FUNC_SIPHASH13
    PERL_HASH_USE_SBOX32
    PERL_MALLOC_WRAP
    PERL_OP_PARENT
    PERL_PRESERVE_IVUV
    PERL_USE_SAFE_PUTENV
    USE_64_BIT_ALL
    USE_64_BIT_INT
    USE_ITHREADS
    USE_LARGE_FILES
    USE_LOCALE
    USE_LOCALE_COLLATE
    USE_LOCALE_CTYPE
    USE_LOCALE_NUMERIC
    USE_LOCALE_TIME
    USE_PERLIO
    USE_PERL_ATOF
    USE_REENTRANT_API
    USE_THREAD_SAFE_LOCALE
  Built under linux
  Compiled at Jan 19 2025 20:11:35
  %ENV:
    PERL5LIB=""
    PERL5OPT=""
    PERL5_CPANPLUS_IS_RUNNING="2281115"
    PERL5_CPAN_IS_RUNNING="2281115"
    PERL_MM_USE_DEFAULT="1"
    PERL_USE_UNSAFE_INC="1"
  @INC:
    /home/leo/perl5/perlbrew/perls/perl-5.38.3/lib/site_perl/5.38.3/x86_64-linux-thread-multi
    /home/leo/perl5/perlbrew/perls/perl-5.38.3/lib/site_perl/5.38.3
    /home/leo/perl5/perlbrew/perls/perl-5.38.3/lib/5.38.3/x86_64-linux-thread-multi
    /home/leo/perl5/perlbrew/perls/perl-5.38.3/lib/5.38.3
    .