Net-SAML2 v0.72-TRIAL Perl 5 v5.20.2 x86_64-linux
- Status
- Pass
- From
- David Cantrell (DCANTRELL)
- Dist
-
Net-SAML2 v0.72-TRIAL
- Platform
- Perl 5 v5.20.2 x86_64-linux
- Date
- 2023-07-09 02:48:59
- ID
- 27dd0aee-1e03-11ee-b9cf-5540bf14c7e6
This distribution has been tested as part of the CPAN Testers
project, supporting the Perl programming language. See
http://wiki.cpantesters.org/ for more information or email
questions to cpan-testers-discuss@perl.org
--
Dear Timothy Legge,
This is a computer-generated report for Net-SAML2-0.72-TRIAL
on perl 5.20.2, created by CPAN-Reporter-1.2019.
Thank you for uploading your work to CPAN. Congratulations!
All tests were successful.
Sections of this report:
* Tester comments
* Program output
* Prerequisites
* Environment and other context
------------------------------
TESTER COMMENTS
------------------------------
Additional comments from tester:
this report is from an automated smoke testing program
and was not reviewed by a human for accuracy
------------------------------
PROGRAM OUTPUT
------------------------------
Output from '/usr/bin/make test':
PERL_DL_NONLAZY=1 "/home/david/cpantesting/perl-5.20.2/bin/perl" "-MExtUtils::Command::MM" "-MTest::Harness" "-e" "undef *Test::Harness::Switches; test_harness(0, 'blib/lib', 'blib/arch')" t/*.t t/author/*.t
t/00-basic.t ...................................... ok
t/01-create-idp.t ................................. ok
t/02-create-sp.t .................................. ok
t/03-assertions.t ................................. ok
t/04-response.t ................................... ok
not verified by x509
t/05-soap-binding.t ............................... ok
t/06-redirect-binding.t ........................... ok
t/07-logout-request.t ............................. ok
t/08-logout-response.t ............................ ok
t/09-authn-request.t .............................. ok
t/10-artifact-resolve.t ........................... ok
t/11-more-metadata.t .............................. ok
t/12-full-client.t ................................ ok
t/13-verify-issues.t .............................. ok
t/15-evil-nameid-and-email-assertion.t ............ ok
t/16-encrypted-assertion.t ........................ ok
t/17-lowercase-url-escaping.t ..................... ok
t/18-metadata-multiple-signing.t .................. ok
t/19-metadata-multiple-signing.t .................. ok
t/20-path-only-redirect.t ......................... ok
t/21-artifact-response.t .......................... ok
t/22-types.t ...................................... ok
t/23-post-binding.t ............................... ok
t/24-assertion-with-encrypted-attribute-values.t .. ok
t/25-verify-authn-post-sign_xml.t ................. ok
t/author-critic.t ................................. skipped: these tests are for testing by the author
t/author-eof.t .................................... skipped: these tests are for testing by the author
t/author-eol.t .................................... skipped: these tests are for testing by the author
t/author-no-tabs.t ................................ skipped: these tests are for testing by the author
t/author-pod-coverage.t ........................... skipped: these tests are for testing by the author
t/author-pod-syntax.t ............................. skipped: these tests are for testing by the author
t/author/01-confirm-schema.t ...................... skipped: Author test skipped
t/author/notabs.t ................................. ok
t/author/pod.t .................................... ok
t/author/podcoverage.t ............................ skipped: these tests are for testing by the author
All tests successful.
Files=35, Tests=473, 159 wallclock secs ( 0.21 usr 0.08 sys + 33.24 cusr 3.01 csys = 36.54 CPU)
Result: PASS
------------------------------
PREREQUISITES
------------------------------
Prerequisite modules loaded:
requires:
Module Need Have
----------------------------- ----- --------
base 0 2.23
Carp 0 1.50
Crypt::OpenSSL::Bignum 0 0.09
Crypt::OpenSSL::Random 0 0.15
Crypt::OpenSSL::RSA 0 0.33
Crypt::OpenSSL::Verify 0 0.36
Crypt::OpenSSL::X509 0 1.915
DateTime 0 1.59
DateTime::Format::XSD 0 0.4
DateTime::HiRes 0 0.04
Digest::MD5 0 2.58
Exporter 0 5.77
File::Slurper 0 0.014
HTTP::Request::Common 0 6.44
IO::Compress::RawDeflate 0 2.204
IO::Uncompress::RawInflate 0 2.204
List::Util 0 1.63
LWP::Protocol::https 0 6.10
LWP::UserAgent 0 6.71
MIME::Base64 0 3.16
Moose 0 2.2203
Moose::Role 0 2.2203
MooseX::Types 0 0.50
MooseX::Types::Common::String 0 0.001014
MooseX::Types::DateTime 0 0.13
MooseX::Types::Moose 0 0.50
MooseX::Types::URI 0 0.09
namespace::autoclean 0 0.29
perl 5.012 5.020002
strict 0 1.08
Try::Tiny 0 0.31
Types::Serialiser 0 1.01
URI 0 5.19
URI::Encode 0 1.1.1
URI::Escape 0 5.19
URI::QueryParam 0 5.19
URN::OASIS::SAML2 0.003 0.003
vars 0 1.03
warnings 0 1.23
XML::Enc 0.13 0.13
XML::Generator 1.13 1.13
XML::LibXML 0 2.0208
XML::LibXML::XPathContext 0 2.0208
XML::Sig 0.64 0.64
build_requires:
Module Need Have
----------------------------- ----- --------
ExtUtils::MakeMaker 0 7.70
Import::Into 0 1.002005
Path::Tiny 0 0.144
Sub::Override 0 0.09
Test::Deep 0 1.204
Test::Exception 0 0.43
Test::Fatal 0 0.017
Test::Lib 0 0.003
Test::Mock::One 0 0.011
Test::More 0 1.302195
Test::NoTabs 0 2.02
Test::Pod 1.14 1.52
Test::Pod::Coverage 1.04 1.10
URI::URL 0 5.19
XML::LibXML::XPathContext 0 2.0208
configure_requires:
Module Need Have
----------------------------- ----- --------
ExtUtils::MakeMaker 0 7.70
------------------------------
ENVIRONMENT AND OTHER CONTEXT
------------------------------
Environment variables:
AUTOMATED_TESTING = 1
LANG = en_GB.UTF-8
LANGUAGE = en_GB:en
LC_TERMINAL = iTerm2
LC_TERMINAL_VERSION = 3.4.19
NONINTERACTIVE_TESTING = 1
PATH = /home/david/.nvm/versions/node/v18.16.1/bin:/home/david/.cargo/bin:/home/david/perl5/perlbrew/bin:/home/david/perl5/perlbrew/perls/perl-5.30.2/bin:/home/david/bin:/usr/local/bin:/usr/bin:/bin:/usr/local/games:/usr/games
PERL = 5.20.2
PERL5LIB =
PERL5OPT =
PERL5_CPANPLUS_IS_RUNNING = 1271167
PERL5_CPAN_IS_RUNNING = 1271167
PERLBREW_HOME = /home/david/.perlbrew
PERLBREW_MANPATH = /home/david/perl5/perlbrew/perls/perl-5.30.2/man
PERLBREW_PATH = /home/david/perl5/perlbrew/bin:/home/david/perl5/perlbrew/perls/perl-5.30.2/bin
PERLBREW_PERL = perl-5.30.2
PERLBREW_ROOT = /home/david/perl5/perlbrew
PERLBREW_SHELLRC_VERSION = 0.89
PERLBREW_VERSION = 0.89
PERLVER = 5.20.2
PERL_INLINE_DIRECTORY = /home/david/.Inline-5.20.2
PERL_MM_USE_DEFAULT = 1
PERL_USE_UNSAFE_INC = 0
SHELL = /bin/bash
TERM = screen
Perl special variables (and OS-specific diagnostics, for MSWin32):
$^X = /home/david/cpantesting/perl-5.20.2/bin/perl
$UID/$EUID = 1000 / 1000
$GID = 1000 24 25 27 29 30 44 46 109 1000
$EGID = 1000 24 25 27 29 30 44 46 109 1000
Perl module toolchain versions installed:
Module Have
------------------- --------
CPAN 2.05
CPAN::Meta 2.150010
Cwd 3.75
ExtUtils::CBuilder 0.280236
ExtUtils::Command 7.70
ExtUtils::Install 2.22
ExtUtils::MakeMaker 7.70
ExtUtils::Manifest 1.75
ExtUtils::ParseXS 3.44
File::Spec 3.75
JSON 4.10
JSON::PP 4.16
Module::Build 0.4234
Module::Signature n/a
Parse::CPAN::Meta 2.150010
Test2 1.302195
Test::Harness 3.44
Test::More 1.302195
YAML 1.30
YAML::Syck n/a
version 0.9929
--
Summary of my perl5 (revision 5 version 20 subversion 2) configuration:
Platform:
osname=linux, osvers=5.10.0-11-amd64, archname=x86_64-linux
uname='linux cpantesting-linux 5.10.0-11-amd64 #1 smp debian 5.10.92-1 (2022-01-18) x86_64 gnulinux '
config_args='-de -Dprefix=/home/david/cpantesting/perl-5.20.2'
hint=recommended, useposix=true, d_sigaction=define
useithreads=undef, usemultiplicity=undef
use64bitint=define, use64bitall=define, uselongdouble=undef
usemymalloc=n, bincompat5005=undef
Compiler:
cc='cc', ccflags ='-fwrapv -fno-strict-aliasing -pipe -fstack-protector -I/usr/local/include -D_LARGEFILE_SOURCE -D_FILE_OFFSET_BITS=64',
optimize='-O2',
cppflags='-fwrapv -fno-strict-aliasing -pipe -fstack-protector -I/usr/local/include'
ccversion='', gccversion='10.2.1 20210110', gccosandvers=''
intsize=4, longsize=8, ptrsize=8, doublesize=8, byteorder=12345678
d_longlong=define, longlongsize=8, d_longdbl=define, longdblsize=16
ivtype='long', ivsize=8, nvtype='double', nvsize=8, Off_t='off_t', lseeksize=8
alignbytes=8, prototype=define
Linker and Libraries:
ld='cc', ldflags =' -fstack-protector -L/usr/local/lib'
libpth=/usr/local/lib /usr/include/x86_64-linux-gnu /usr/lib /lib/x86_64-linux-gnu /lib/../lib /usr/lib/x86_64-linux-gnu /usr/lib/../lib /lib /lib64 /usr/lib64
libs=-lnsl -ldl -lm -lcrypt -lutil -lc
perllibs=-lnsl -ldl -lm -lcrypt -lutil -lc
libc=libc-2.31.so, so=so, useshrplib=false, libperl=libperl.a
gnulibc_version='2.31'
Dynamic Linking:
dlsrc=dl_dlopen.xs, dlext=so, d_dlsymun=undef, ccdlflags='-Wl,-E'
cccdlflags='-fPIC', lddlflags='-shared -O2 -L/usr/local/lib -fstack-protector'
Characteristics of this binary (from libperl):
Compile-time options: HAS_TIMES PERLIO_LAYERS PERL_DONT_CREATE_GVSV
PERL_HASH_FUNC_ONE_AT_A_TIME_HARD PERL_MALLOC_WRAP
PERL_NEW_COPY_ON_WRITE PERL_PRESERVE_IVUV
USE_64_BIT_ALL USE_64_BIT_INT USE_LARGE_FILES
USE_LOCALE USE_LOCALE_COLLATE USE_LOCALE_CTYPE
USE_LOCALE_NUMERIC USE_PERLIO USE_PERL_ATOF
Locally applied patches:
Devel::PatchPerl 2.08
Built under linux
Compiled at Jul 5 2023 22:41:21
%ENV:
PERL="5.20.2"
PERL5LIB=""
PERL5OPT=""
PERL5_CPANPLUS_IS_RUNNING="1271167"
PERL5_CPAN_IS_RUNNING="1271167"
PERLBREW_HOME="/home/david/.perlbrew"
PERLBREW_MANPATH="/home/david/perl5/perlbrew/perls/perl-5.30.2/man"
PERLBREW_PATH="/home/david/perl5/perlbrew/bin:/home/david/perl5/perlbrew/perls/perl-5.30.2/bin"
PERLBREW_PERL="perl-5.30.2"
PERLBREW_ROOT="/home/david/perl5/perlbrew"
PERLBREW_SHELLRC_VERSION="0.89"
PERLBREW_VERSION="0.89"
PERLVER="5.20.2"
PERL_INLINE_DIRECTORY="/home/david/.Inline-5.20.2"
PERL_MM_USE_DEFAULT="1"
PERL_USE_UNSAFE_INC="0"
@INC:
/home/david/cpantesting/perl-5.20.2/lib/site_perl/5.20.2/x86_64-linux
/home/david/cpantesting/perl-5.20.2/lib/site_perl/5.20.2
/home/david/cpantesting/perl-5.20.2/lib/5.20.2/x86_64-linux
/home/david/cpantesting/perl-5.20.2/lib/5.20.2
.