B-Generate v1.56 Perl 5 v5.14.4 x86_64-linux

Status
Pass
From
Andreas J. König (ANDK)
Dist
B-Generate v1.56
Platform
Perl 5 v5.14.4 x86_64-linux
Date
2018-12-18 20:11:51
ID
27e52e58-0301-11e9-852d-6f4c8bef4992
This distribution has been tested as part of the CPAN Testers
project, supporting the Perl programming language.  See
http://wiki.cpantesters.org/ for more information or email
questions to cpan-testers-discuss@perl.org


--
Dear Reini Urban,

This is a computer-generated report for B-Generate-1.56
on perl 5.14.4, created by CPAN-Reporter-1.2018.

Thank you for uploading your work to CPAN.  Congratulations!
All tests were successful.

Sections of this report:

    * Tester comments
    * Program output
    * Prerequisites
    * Environment and other context

------------------------------
TESTER COMMENTS
------------------------------

Additional comments from tester:

this report is from an automated smoke testing program
and was not reviewed by a human for accuracy

------------------------------
PROGRAM OUTPUT
------------------------------

Output from '/usr/bin/make test':

"/home/sand/src/perl/repoperls/installed-perls/host/k93msid/v5.14.4/da1c/bin/perl" -MExtUtils::Command::MM -e 'cp_nonempty' -- Generate.bs blib/arch/auto/B/Generate/Generate.bs 644
"/home/sand/src/perl/repoperls/installed-perls/host/k93msid/v5.14.4/da1c/bin/perl" "-MExtUtils::Command::MM" "-MTest::Harness" "-e" "undef *Test::Harness::Switches; test_harness(0, 'blib/lib', 'blib/arch')" t/*.t
Name "DB::single" used only once: possible typo at t/basic.t line 32.
# search for const(PV 'lead') in &foo::baz
# changed 'lead' into 'gold'
# search for const(PV 'bad') in ANON &CODE(0x559f78319c78)
# changed 'bad' into 'good'
# found first add
# search for const(IV 30) after the add
# found const(IV 30)
# changed add - const(IV 30) into 13
# find_cv &foo::baz->START
t/basic.t ......... ok
t/const.t ......... ok
t/cpan70396.t ..... ok
t/cpan70398.t ..... ok
t/find_cv.t ....... ok
t/new_cv.t ........ ok
t/op_list.t ....... ok
t/op_list_bgen.t .. ok
t/scope.t ......... ok
t/svclasses.t ..... ok
All tests successful.
Files=10, Tests=54,  3 wallclock secs ( 0.03 usr  0.03 sys +  0.54 cusr  0.27 csys =  0.87 CPU)
Result: PASS

------------------------------
PREREQUISITES
------------------------------

Prerequisite modules loaded:

requires:

    Module              Need Have    
    ------------------- ---- --------
    B                   0    1.29    
    ExtUtils::CBuilder  0    0.280230
    ExtUtils::Embed     0    1.30    

build_requires:

    Module              Need Have    
    ------------------- ---- --------
    ExtUtils::MakeMaker 0    7.34    

configure_requires:

    Module              Need Have    
    ------------------- ---- --------
    ExtUtils::MakeMaker 0    7.34    


------------------------------
ENVIRONMENT AND OTHER CONTEXT
------------------------------

Environment variables:

    AUTOMATED_TESTING = 1
    LANG = en_US.UTF-8
    PATH = /home/sand/bin:/usr/local/bin:/usr/bin:/bin:/usr/games:/usr/local/perl/bin:/usr/X11/bin:/sbin:/usr/sbin
    PERL5LIB = /tmp/loop_over_bdir-11001-DYnD4U/Perl6-Caller-0.100-0/blib/arch:/tmp/loop_over_bdir-11001-DYnD4U/Perl6-Caller-0.100-0/blib/lib:/tmp/loop_over_bdir-11001-DYnD4U/Devel-Declare-0.006019-0/blib/arch:/tmp/loop_over_bdir-11001-DYnD4U/Devel-Declare-0.006019-0/blib/lib:/tmp/loop_over_bdir-11001-DYnD4U/Devel-BeginLift-0.001003-0/blib/arch:/tmp/loop_over_bdir-11001-DYnD4U/Devel-BeginLift-0.001003-0/blib/lib:/tmp/loop_over_bdir-11001-DYnD4U/B-Hooks-OP-Check-EntersubForCV-0.10-0/blib/arch:/tmp/loop_over_bdir-11001-DYnD4U/B-Hooks-OP-Check-EntersubForCV-0.10-0/blib/lib:/tmp/loop_over_bdir-11001-DYnD4U/Data-Bind-0.30-0/blib/arch:/tmp/loop_over_bdir-11001-DYnD4U/Data-Bind-0.30-0/blib/lib:/tmp/loop_over_bdir-11001-DYnD4U/Data-Capture-0.27-0/blib/arch:/tmp/loop_over_bdir-11001-DYnD4U/Data-Capture-0.27-0/blib/lib:/tmp/loop_over_bdir-11001-DYnD4U/B-Hooks-Parser-0.19-0/blib/arch:/tmp/loop_over_bdir-11001-DYnD4U/B-Hooks-Parser-0.19-0/blib/lib
    PERL5OPT = 
    PERL5_CPANPLUS_IS_RUNNING = 11003
    PERL5_CPAN_IS_RUNNING = 11003
    PERL5_CPAN_IS_RUNNING_IN_RECURSION = 6113,11003
    PERL_CANARY_STABILITY_NOPROMPT = 1
    PERL_MM_USE_DEFAULT = 1
    PERL_USE_UNSAFE_INC = 1
    SHELL = /usr/bin/zsh
    TERM = screen

Perl special variables (and OS-specific diagnostics, for MSWin32):

    $^X = /home/sand/src/perl/repoperls/installed-perls/host/k93msid/v5.14.4/da1c/bin/perl
    $UID/$EUID = 1005 / 1005
    $GID = 1005 1005
    $EGID = 1005 1005

Perl module toolchain versions installed:

    Module              Have    
    ------------------- --------
    CPAN                2.21    
    CPAN::Meta          2.150010
    Cwd                 3.75    
    ExtUtils::CBuilder  0.280230
    ExtUtils::Command   7.34    
    ExtUtils::Install   2.06    
    ExtUtils::MakeMaker 7.34    
    ExtUtils::Manifest  1.70    
    ExtUtils::ParseXS   3.35    
    File::Spec          3.75    
    JSON                4.00    
    JSON::PP            2.97001 
    Module::Build       0.4224  
    Module::Signature   0.83    
    Parse::CPAN::Meta   2.150010
    Test::Harness       3.42    
    Test::More          1.302145
    YAML                1.26    
    YAML::Syck          1.31    
    version             0.9924  


--

Summary of my perl5 (revision 5 version 14 subversion 4) configuration:
  Derived from: 26c5c13a4ece9084f310610bb17fb2f24c72a73e
  Platform:
    osname=linux, osvers=4.18.0-2-amd64, archname=x86_64-linux
    uname='linux k93msid 4.18.0-2-amd64 #1 smp debian 4.18.10-2 (2018-10-07) x86_64 gnulinux '
    config_args='-Dprefix=/home/sand/src/perl/repoperls/installed-perls/host/k93msid/v5.14.4/da1c -Dmyhostname=k93msid -Dinstallusrbinperl=n -Uversiononly -Dusedevel -des -Ui_db -Dlibswanted=cl pthread socket inet nsl gdbm dbm malloc dl ld sun m crypt sec util c cposix posix ucb BSD gdbm_compat -Uuseithreads -Uuselongdouble -DEBUGGING=-g'
    hint=recommended, useposix=true, d_sigaction=define
    useithreads=undef, usemultiplicity=undef
    useperlio=define, d_sfio=undef, uselargefiles=define, usesocks=undef
    use64bitint=define, use64bitall=define, uselongdouble=undef
    usemymalloc=n, bincompat5005=undef
  Compiler:
    cc='cc', ccflags ='-fno-strict-aliasing -pipe -fstack-protector -I/usr/local/include -D_LARGEFILE_SOURCE -D_FILE_OFFSET_BITS=64',
    optimize='-O2 -g',
    cppflags='-fno-strict-aliasing -pipe -fstack-protector -I/usr/local/include'
    ccversion='', gccversion='8.2.0', gccosandvers=''
    intsize=4, longsize=8, ptrsize=8, doublesize=8, byteorder=12345678
    d_longlong=define, longlongsize=8, d_longdbl=define, longdblsize=16
    ivtype='long', ivsize=8, nvtype='double', nvsize=8, Off_t='off_t', lseeksize=8
    alignbytes=8, prototype=define
  Linker and Libraries:
    ld='cc', ldflags =' -fstack-protector -L/usr/local/lib'
    libpth=/usr/local/lib /lib/x86_64-linux-gnu /lib/../lib /usr/lib/x86_64-linux-gnu /usr/lib/../lib /lib /usr/lib
    libs=-lpthread -lnsl -ldl -lm -lcrypt -lutil -lc
    perllibs=-lpthread -lnsl -ldl -lm -lcrypt -lutil -lc
    libc=libc-2.27.so, so=so, useshrplib=false, libperl=libperl.a
    gnulibc_version='2.27'
  Dynamic Linking:
    dlsrc=dl_dlopen.xs, dlext=so, d_dlsymun=undef, ccdlflags='-Wl,-E'
    cccdlflags='-fPIC', lddlflags='-shared -O2 -g -L/usr/local/lib -fstack-protector'


Characteristics of this binary (from libperl): 
  Compile-time options: PERL_DONT_CREATE_GVSV PERL_MALLOC_WRAP
                        PERL_PRESERVE_IVUV PERL_USE_DEVEL USE_64_BIT_ALL
                        USE_64_BIT_INT USE_LARGE_FILES USE_PERLIO
                        USE_PERL_ATOF
  Locally applied patches:
	uncommitted-changes
  Built under linux
  Compiled at Oct 29 2018 01:17:56
  %ENV:
    PERL5LIB="/tmp/loop_over_bdir-11001-DYnD4U/Perl6-Caller-0.100-0/blib/arch:/tmp/loop_over_bdir-11001-DYnD4U/Perl6-Caller-0.100-0/blib/lib:/tmp/loop_over_bdir-11001-DYnD4U/Devel-Declare-0.006019-0/blib/arch:/tmp/loop_over_bdir-11001-DYnD4U/Devel-Declare-0.006019-0/blib/lib:/tmp/loop_over_bdir-11001-DYnD4U/Devel-BeginLift-0.001003-0/blib/arch:/tmp/loop_over_bdir-11001-DYnD4U/Devel-BeginLift-0.001003-0/blib/lib:/tmp/loop_over_bdir-11001-DYnD4U/B-Hooks-OP-Check-EntersubForCV-0.10-0/blib/arch:/tmp/loop_over_bdir-11001-DYnD4U/B-Hooks-OP-Check-EntersubForCV-0.10-0/blib/lib:/tmp/loop_over_bdir-11001-DYnD4U/Data-Bind-0.30-0/blib/arch:/tmp/loop_over_bdir-11001-DYnD4U/Data-Bind-0.30-0/blib/lib:/tmp/loop_over_bdir-11001-DYnD4U/Data-Capture-0.27-0/blib/arch:/tmp/loop_over_bdir-11001-DYnD4U/Data-Capture-0.27-0/blib/lib:/tmp/loop_over_bdir-11001-DYnD4U/B-Hooks-Parser-0.19-0/blib/arch:/tmp/loop_over_bdir-11001-DYnD4U/B-Hooks-Parser-0.19-0/blib/lib"
    PERL5OPT=""
    PERL5_CPANPLUS_IS_RUNNING="11003"
    PERL5_CPAN_IS_RUNNING="11003"
    PERL5_CPAN_IS_RUNNING_IN_RECURSION="6113,11003"
    PERL_CANARY_STABILITY_NOPROMPT="1"
    PERL_MM_USE_DEFAULT="1"
    PERL_USE_UNSAFE_INC="1"
  @INC:
    /tmp/loop_over_bdir-11001-DYnD4U/Perl6-Caller-0.100-0/blib/arch
    /tmp/loop_over_bdir-11001-DYnD4U/Perl6-Caller-0.100-0/blib/lib
    /tmp/loop_over_bdir-11001-DYnD4U/Devel-Declare-0.006019-0/blib/arch
    /tmp/loop_over_bdir-11001-DYnD4U/Devel-Declare-0.006019-0/blib/lib
    /tmp/loop_over_bdir-11001-DYnD4U/Devel-BeginLift-0.001003-0/blib/arch
    /tmp/loop_over_bdir-11001-DYnD4U/Devel-BeginLift-0.001003-0/blib/lib
    /tmp/loop_over_bdir-11001-DYnD4U/B-Hooks-OP-Check-EntersubForCV-0.10-0/blib/arch
    /tmp/loop_over_bdir-11001-DYnD4U/B-Hooks-OP-Check-EntersubForCV-0.10-0/blib/lib
    /tmp/loop_over_bdir-11001-DYnD4U/Data-Bind-0.30-0/blib/arch
    /tmp/loop_over_bdir-11001-DYnD4U/Data-Bind-0.30-0/blib/lib
    /tmp/loop_over_bdir-11001-DYnD4U/Data-Capture-0.27-0/blib/arch
    /tmp/loop_over_bdir-11001-DYnD4U/Data-Capture-0.27-0/blib/lib
    /tmp/loop_over_bdir-11001-DYnD4U/B-Hooks-Parser-0.19-0/blib/arch
    /tmp/loop_over_bdir-11001-DYnD4U/B-Hooks-Parser-0.19-0/blib/lib
    /home/sand/src/perl/repoperls/installed-perls/host/k93msid/v5.14.4/da1c/lib/site_perl/5.14.4/x86_64-linux
    /home/sand/src/perl/repoperls/installed-perls/host/k93msid/v5.14.4/da1c/lib/site_perl/5.14.4
    /home/sand/src/perl/repoperls/installed-perls/host/k93msid/v5.14.4/da1c/lib/5.14.4/x86_64-linux
    /home/sand/src/perl/repoperls/installed-perls/host/k93msid/v5.14.4/da1c/lib/5.14.4
    .