Dist-Zilla-Plugin-Test-EOL v0.19 Perl 5 v5.18.1 i386-freebsd-64int

Status
Pass
From
Chris Williams (BINGOS)
Dist
Dist-Zilla-Plugin-Test-EOL v0.19
Platform
Perl 5 v5.18.1 i386-freebsd-64int
Date
2021-01-27 08:03:35
ID
28020e18-6076-11eb-84bc-edd243e66a77
This distribution has been tested as part of the CPAN Testers
project, supporting the Perl programming language.  See
http://wiki.cpantesters.org/ for more information or email
questions to cpan-testers-discuss@perl.org


--

Dear Karen Etheridge,

This is a computer-generated error report created automatically by
CPANPLUS, version 0.9908. Testers personal comments may appear
at the end of this report.


Thank you for uploading your work to CPAN.  Congratulations!
All tests were successful.

TEST RESULTS:

Below is the error stack from stage 'make test':

# 
# Versions for all modules listed in MYMETA.json (including optional ones):
# 
# === Configure Requires ===
# 
#     Module               Want  Have
#     ------------------- ----- -----
#     Module::Build::Tiny 0.034 0.039
# 
# === Test Requires ===
# 
#     Module            Want     Have
#     ---------------- ----- --------
#     File::Spec         any     3.75
#     File::pushd        any    1.016
#     FindBin            any     1.51
#     Module::Metadata   any 1.000037
#     Test::DZil         any    6.017
#     Test::Deep         any    1.130
#     Test::EOL          any     2.02
#     Test::More        0.88 1.302183
#     Test::Warnings   0.009    0.030
#     if                 any   0.0602
# 
# === Test Recommends ===
# 
#     Module         Want     Have
#     ---------- -------- --------
#     CPAN::Meta 2.120900 2.150010
# 
# === Runtime Requires ===
# 
#     Module                             Want     Have
#     --------------------------------- ----- --------
#     Data::Section                     0.004 0.200007
#     Dist::Zilla::File::InMemory         any    6.017
#     Dist::Zilla::Role::FileFinderUser   any    6.017
#     Dist::Zilla::Role::FileGatherer     any    6.017
#     Dist::Zilla::Role::FileMunger       any    6.017
#     Dist::Zilla::Role::PrereqSource     any    6.017
#     Dist::Zilla::Role::TextTemplate     any    6.017
#     Moose                               any   2.2014
#     Moose::Util::TypeConstraints        any   2.2014
#     Path::Tiny                          any    0.116
#     Sub::Exporter::ForMethods           any 0.100052
#     namespace::autoclean                any     0.29
#     strict                              any     1.07
#     warnings                            any     1.18
# 
# === Other Modules ===
# 
#     Module                    Have
#     --------------------- --------
#     CPAN::Meta::Validator 2.150010
#     Pod::Coverage          missing
# 
t/00-report-prereqs.t .. ok
t/01-basic.t ........... ok
t/02-eoltests.t ........ ok
t/03-finder.t .......... ok
t/04-filename.t ........ ok
t/eol.t ................ ok
t/prereqs.t ............ ok
t/zzz-check-breaks.t ... ok
All tests successful.
Files=8, Tests=66, 11 wallclock secs ( 0.11 usr  0.02 sys +  9.55 cusr  1.69 csys = 11.37 CPU)
Result: PASS


PREREQUISITES:

Here is a list of prerequisites you specified and versions we
managed to load:

	  Module Name                        Have     Want
	  Data::Section                  0.200007    0.004
	  Dist::Zilla::File::InMemory       6.017        0
	  Dist::Zilla::Role::FileFinderUser    6.017        0
	  Dist::Zilla::Role::FileGatherer    6.017        0
	  Dist::Zilla::Role::FileMunger     6.017        0
	  Dist::Zilla::Role::PrereqSource    6.017        0
	  Dist::Zilla::Role::TextTemplate    6.017        0
	  File::Spec                         3.75        0
	  File::pushd                       1.016        0
	  FindBin                            1.51        0
	  Module::Metadata               1.000037        0
	  Moose                            2.2014        0
	  Moose::Util::TypeConstraints     2.2014        0
	  Path::Tiny                        0.116        0
	  Sub::Exporter::ForMethods      0.100052        0
	  Test::DZil                        6.017        0
	  Test::Deep                        1.130        0
	  Test::EOL                          2.02        0
	  Test::More                     1.302183     0.88
	  Test::Warnings                    0.030    0.009
	  if                               0.0602        0
	  namespace::autoclean               0.29        0
	  strict                             1.07        0
	  warnings                           1.18        0

Perl module toolchain versions installed:
	Module Name                        Have
	CPANPLUS                         0.9908
	CPANPLUS::Dist::Build              0.90
	Cwd                                3.75
	ExtUtils::CBuilder             0.280235
	ExtUtils::Command                  7.50
	ExtUtils::Install                  2.18
	ExtUtils::MakeMaker                7.50
	ExtUtils::Manifest                 1.72
	ExtUtils::ParseXS                  3.35
	File::Spec                         3.75
	Module::Build                    0.4231
	Pod::Parser                        1.60
	Pod::Simple                        3.28
	Test2                          1.302183
	Test::Harness                      3.42
	Test::More                     1.302183
	version                          0.9928

******************************** NOTE ********************************
The comments above are created mechanically, possibly without manual
checking by the sender.  As there are many people performing automatic
tests on each upload to CPAN, it is likely that you will receive
identical messages about the same problem.

If you believe that the message is mistaken, please reply to the first
one with correction and/or additional informations, and do not take
it personally.  We appreciate your patience. :)
**********************************************************************

Additional comments:


This report was machine-generated by CPANPLUS::Dist::YACSmoke 1.08.
Powered by minismokebox version 0.68

CPANPLUS is prefering Build.PL

------------------------------
ENVIRONMENT AND OTHER CONTEXT
------------------------------

Environment variables:

    AUTOMATED_TESTING = 1
    NONINTERACTIVE_TESTING = 1
    PATH = /sbin:/bin:/usr/sbin:/usr/bin:/usr/local/sbin:/usr/local/bin:/home/cpan/bin
    PERL5LIB = /usr/home/cpan/pit/jail/CIxiOu_BKS/lib/perl5:/usr/home/cpan/pit/64bit/conf/perl-5.18.1/.cpanplus/5.18.1/build/wwEUjqh6Lh/Dist-Zilla-Plugin-Test-EOL-0.19/blib/lib:/usr/home/cpan/pit/64bit/conf/perl-5.18.1/.cpanplus/5.18.1/build/wwEUjqh6Lh/Dist-Zilla-Plugin-Test-EOL-0.19/blib/arch
    PERL5_CPANPLUS_IS_RUNNING = 67332
    PERL5_CPANPLUS_IS_VERSION = 0.9908
    PERL5_MINISMOKEBOX = 0.68
    PERL5_YACSMOKE_BASE = /usr/home/cpan/pit/64bit/conf/perl-5.18.1
    PERL_EXTUTILS_AUTOINSTALL = --defaultdeps
    PERL_LOCAL_LIB_ROOT = /usr/home/cpan/pit/jail/CIxiOu_BKS
    PERL_MB_OPT = --install_base "/usr/home/cpan/pit/jail/CIxiOu_BKS"
    PERL_MM_OPT = INSTALL_BASE=/usr/home/cpan/pit/jail/CIxiOu_BKS
    PERL_MM_USE_DEFAULT = 1
    PERL_USE_UNSAFE_INC = 1
    SHELL = /usr/local/bin/bash
    TERM = screen

Perl special variables (and OS-specific diagnostics, for MSWin32):

    Perl: $^X = /usr/home/cpan/pit/64bit/perl-5.18.1/bin/perl5.18.1
    UID:  $<  = 1002
    EUID: $>  = 1002
    GID:  $(  = 1002 1002
    EGID: $)  = 1002 1002


-------------------------------


--

Summary of my perl5 (revision 5 version 18 subversion 1) configuration:
   
  Platform:
    osname=freebsd, osvers=12.2-release, archname=i386-freebsd-64int
    uname='freebsd ffyrc 12.2-release freebsd 12.2-release r366954 generic i386 '
    config_args='-des -Dprefix=/usr/home/cpan/pit/64bit/perl-5.18.1 -Duse64bitint'
    hint=recommended, useposix=true, d_sigaction=define
    useithreads=undef, usemultiplicity=undef
    useperlio=define, d_sfio=undef, uselargefiles=define, usesocks=undef
    use64bitint=define, use64bitall=undef, uselongdouble=undef
    usemymalloc=n, bincompat5005=undef
  Compiler:
    cc='cc', ccflags ='-DHAS_FPSETMASK -DHAS_FLOATINGPOINT_H -fno-strict-aliasing -pipe -fstack-protector -I/usr/local/include',
    optimize='-O2',
    cppflags='-DHAS_FPSETMASK -DHAS_FLOATINGPOINT_H -fno-strict-aliasing -pipe -fstack-protector -I/usr/local/include'
    ccversion='', gccversion='FreeBSD Clang 10.0.1 (git@github.com:llvm/llvm-project.git llvmorg-10.0.1-0-gef32c611aa2)', gccosandvers=''
    intsize=4, longsize=4, ptrsize=4, doublesize=8, byteorder=12345678
    d_longlong=define, longlongsize=8, d_longdbl=define, longdblsize=12
    ivtype='long long', ivsize=8, nvtype='double', nvsize=8, Off_t='off_t', lseeksize=8
    alignbytes=4, prototype=define
  Linker and Libraries:
    ld='cc', ldflags ='-Wl,-E  -fstack-protector -L/usr/local/lib'
    libpth=/usr/lib /usr/local/lib
    libs=-lgdbm -ldl -lm -lcrypt -lutil -lc
    perllibs=-ldl -lm -lcrypt -lutil -lc
    libc=, so=so, useshrplib=false, libperl=libperl.a
    gnulibc_version=''
  Dynamic Linking:
    dlsrc=dl_dlopen.xs, dlext=so, d_dlsymun=undef, ccdlflags=' '
    cccdlflags='-DPIC -fPIC', lddlflags='-shared  -L/usr/local/lib -fstack-protector'


Characteristics of this binary (from libperl): 
  Compile-time options: HAS_TIMES PERLIO_LAYERS PERL_DONT_CREATE_GVSV
                        PERL_HASH_FUNC_ONE_AT_A_TIME_HARD PERL_MALLOC_WRAP
                        PERL_PRESERVE_IVUV PERL_SAWAMPERSAND USE_64_BIT_INT
                        USE_LARGE_FILES USE_LOCALE USE_LOCALE_COLLATE
                        USE_LOCALE_CTYPE USE_LOCALE_NUMERIC USE_PERLIO
                        USE_PERL_ATOF
  Locally applied patches:
	Devel::PatchPerl 2.00
  Built under freebsd
  Compiled at Nov  3 2020 10:43:39
  %ENV:
    PERL5LIB="/usr/home/cpan/pit/jail/CIxiOu_BKS/lib/perl5:/usr/home/cpan/pit/64bit/conf/perl-5.18.1/.cpanplus/5.18.1/build/wwEUjqh6Lh/Dist-Zilla-Plugin-Test-EOL-0.19/blib/lib:/usr/home/cpan/pit/64bit/conf/perl-5.18.1/.cpanplus/5.18.1/build/wwEUjqh6Lh/Dist-Zilla-Plugin-Test-EOL-0.19/blib/arch"
    PERL5_CPANPLUS_IS_RUNNING="67332"
    PERL5_CPANPLUS_IS_VERSION="0.9908"
    PERL5_MINISMOKEBOX="0.68"
    PERL5_YACSMOKE_BASE="/usr/home/cpan/pit/64bit/conf/perl-5.18.1"
    PERL_EXTUTILS_AUTOINSTALL="--defaultdeps"
    PERL_LOCAL_LIB_ROOT="/usr/home/cpan/pit/jail/CIxiOu_BKS"
    PERL_MB_OPT="--install_base "/usr/home/cpan/pit/jail/CIxiOu_BKS""
    PERL_MM_OPT="INSTALL_BASE=/usr/home/cpan/pit/jail/CIxiOu_BKS"
    PERL_MM_USE_DEFAULT="1"
    PERL_USE_UNSAFE_INC="1"
  @INC:
    /usr/home/cpan/pit/jail/CIxiOu_BKS/lib/perl5/5.18.1/i386-freebsd-64int
    /usr/home/cpan/pit/jail/CIxiOu_BKS/lib/perl5/5.18.1
    /usr/home/cpan/pit/jail/CIxiOu_BKS/lib/perl5/i386-freebsd-64int
    /usr/home/cpan/pit/jail/CIxiOu_BKS/lib/perl5
    /usr/home/cpan/pit/64bit/conf/perl-5.18.1/.cpanplus/5.18.1/build/wwEUjqh6Lh/Dist-Zilla-Plugin-Test-EOL-0.19/blib/lib
    /usr/home/cpan/pit/64bit/conf/perl-5.18.1/.cpanplus/5.18.1/build/wwEUjqh6Lh/Dist-Zilla-Plugin-Test-EOL-0.19/blib/arch
    /usr/home/cpan/pit/64bit/perl-5.18.1/lib/site_perl/5.18.1/i386-freebsd-64int
    /usr/home/cpan/pit/64bit/perl-5.18.1/lib/site_perl/5.18.1
    /usr/home/cpan/pit/64bit/perl-5.18.1/lib/5.18.1/i386-freebsd-64int
    /usr/home/cpan/pit/64bit/perl-5.18.1/lib/5.18.1
    .