Web-Query v1.01 Perl 5 v5.41.11 i86pc-solaris-64

Status
Pass
From
Carlos Guevara
Dist
Web-Query v1.01
Platform
Perl 5 v5.41.11 i86pc-solaris-64
Date
2025-04-13 00:49:29
ID
282c9ae2-1801-11f0-92c0-b51a56dab108
This distribution has been tested as part of the CPAN Testers
project, supporting the Perl programming language.  See
http://wiki.cpantesters.org/ for more information or email
questions to cpan-testers-discuss@perl.org


--
Dear Yanick Champoux,

This is a computer-generated report for Web-Query-1.01
on perl 5.41.11, created by CPAN-Reporter-1.2020.

Thank you for uploading your work to CPAN.  Congratulations!
All tests were successful.

Sections of this report:

    * Tester comments
    * Program output
    * Prerequisites
    * Environment and other context

------------------------------
TESTER COMMENTS
------------------------------

Additional comments from tester:

this report is from an automated smoke testing program
and was not reviewed by a human for accuracy

------------------------------
PROGRAM OUTPUT
------------------------------

Output from '/usr/bin/make test':

PERL_DL_NONLAZY=1 "/export/home/cpan/bin/perl/bin/perl5.41.11" "-MExtUtils::Command::MM" "-MTest::Harness" "-e" "undef *Test::Harness::Switches; test_harness(0, 'blib/lib', 'blib/arch')" t/*.t
t/00-compile.t ...................... ok
# 
# Versions for all modules listed in MYMETA.json (including optional ones):
# 
# === Configure Requires ===
# 
#     Module              Want Have
#     ------------------- ---- ----
#     ExtUtils::MakeMaker  any 7.74
# 
# === Build Requires ===
# 
#     Module              Want Have
#     ------------------- ---- ----
#     ExtUtils::MakeMaker  any 7.74
# 
# === Test Requires ===
# 
#     Module                  Want     Have
#     ----------------------- ---- --------
#     Cwd                      any     3.94
#     ExtUtils::MakeMaker      any     7.74
#     File::Spec               any     3.94
#     FindBin                  any     1.54
#     IO::Handle               any     1.55
#     IPC::Open3               any     1.24
#     Test2::Tools::Exception  any 1.302210
#     Test2::V0                any 1.302210
#     Test::Exception          any     0.43
#     Test::More               any 1.302210
#     lib                      any     0.65
#     utf8                     any     1.27
# 
# === Test Recommends ===
# 
#     Module         Want     Have
#     ---------- -------- --------
#     CPAN::Meta 2.120900 2.150010
# 
# === Runtime Requires ===
# 
#     Module                        Want     Have
#     ------------------------- -------- --------
#     Exporter                       any     5.79
#     HTML::Entities                 any     3.83
#     HTML::Selector::XPath         0.20     0.28
#     HTML::TreeBuilder::LibXML      any     0.28
#     HTML::TreeBuilder::XPath       any     0.14
#     LWP::UserAgent                 any     6.78
#     List::Util                    1.44  1.68_01
#     Scalar::Util                   any  1.68_01
#     parent                         any    0.244
#     perl                      5.008005 5.041011
#     strict                         any     1.13
#     warnings                       any     1.74
# 
t/00-report-prereqs.t ............... ok
t/00_compile.t ...................... ok
# testing Web::Query
# testing Web::Query::LibXML
t/01_src.t .......................... ok
# testing Web::Query
# testing Web::Query::LibXML
t/02_op.t ........................... ok
# testing Web::Query
# testing Web::Query::LibXML
t/03_traverse.t ..................... ok
# testing Web::Query
# testing Web::Query::LibXML
t/04_element.t ...................... ok
# testing Web::Query
# testing Web::Query::LibXML
t/05_html5.t ........................ ok
t/06_new_from_url_error_handling.t .. ok
# testing Web::Query
# testing Web::Query::LibXML
t/07_remove.t ....................... ok
t/08_indent.t ....................... ok
# testing Web::Query
# testing Web::Query::LibXML
t/09_as_html.t ...................... ok
t/10_subclass.t ..................... ok
# testing Web::Query
# testing Web::Query::LibXML
t/11_get_eq.t ....................... ok
# testing Web::Query
# testing Web::Query::LibXML
t/add.t ............................. ok
# testing Web::Query
# testing Web::Query::LibXML
t/after.t ........................... ok
# testing Web::Query
# testing Web::Query::LibXML
t/append.t .......................... ok
# testing Web::Query
# testing Web::Query::LibXML
t/attr.t ............................ ok
t/bad-url-with-options.t ............ ok
# testing Web::Query
# testing Web::Query::LibXML
t/before.t .......................... ok
t/bug-text-contents.t ............... ok
t/class.t ........................... ok
# testing Web::Query
# testing Web::Query::LibXML
t/clone.t ........................... ok
# testing Web::Query
# testing Web::Query::LibXML
t/contents.t ........................ ok
t/destroy.t ......................... ok
# testing Web::Query
# testing Web::Query::LibXML
t/detach.t .......................... ok
t/filter.t .......................... ok
# testing Web::Query
# testing Web::Query::LibXML
t/find.t ............................ ok
# testing Web::Query
# testing Web::Query::LibXML
t/has_class.t ....................... ok
# testing Web::Query
# testing Web::Query::LibXML
t/insert_after.t .................... ok
# testing Web::Query
# testing Web::Query::LibXML
t/insert_before.t ................... ok
t/match_and_not.t ................... ok
t/new.t ............................. ok
# testing Web::Query
# testing Web::Query::LibXML
t/next.t ............................ ok
# testing Web::Query
# testing Web::Query::LibXML
t/next_until.t ...................... ok
t/no_space_compacting.t ............. ok
t/node-types.t ...................... ok
# testing Web::Query
# testing Web::Query::LibXML
t/prepend.t ......................... ok
# testing Web::Query
# testing Web::Query::LibXML
t/prev.t ............................ ok
t/processing-instructions.t ......... ok
t/remove.t .......................... ok
# testing Web::Query
# testing Web::Query::LibXML
t/remove_class.t .................... ok
t/replace_with.t .................... ok
t/special-attributes.t .............. ok
t/split.t ........................... ok
# testing Web::Query
# testing Web::Query::LibXML
t/store_comments.t .................. ok
t/tagname.t ......................... ok
t/xpath.t ........................... ok
All tests successful.
Files=48, Tests=207,  9 wallclock secs ( 0.18 usr  0.10 sys +  7.05 cusr  1.49 csys =  8.82 CPU)
Result: PASS

------------------------------
PREREQUISITES
------------------------------

Prerequisite modules loaded:

requires:

    Module                    Need     Have    
    ------------------------- -------- --------
    Exporter                  0        5.79    
    HTML::Entities            0        3.83    
    HTML::Selector::XPath     0.20     0.28    
    HTML::TreeBuilder::LibXML 0        0.28    
    HTML::TreeBuilder::XPath  0        0.14    
    List::Util                1.44     1.68_01 
    LWP::UserAgent            0        6.78    
    parent                    0        0.244   
    perl                      5.008005 5.041011
    Scalar::Util              0        1.68_01 
    strict                    0        1.13    
    warnings                  0        1.74    

build_requires:

    Module                    Need     Have    
    ------------------------- -------- --------
    Cwd                       0        3.94    
    ExtUtils::MakeMaker       0        7.74    
    File::Spec                0        3.94    
    FindBin                   0        1.54    
    IO::Handle                0        1.55    
    IPC::Open3                0        1.24    
    lib                       0        0.65    
    Test2::Tools::Exception   0        1.302210
    Test2::V0                 0        1.302210
    Test::Exception           0        0.43    
    Test::More                0        1.302210
    utf8                      0        1.27    

configure_requires:

    Module                    Need     Have    
    ------------------------- -------- --------
    ExtUtils::MakeMaker       0        7.74    


------------------------------
ENVIRONMENT AND OTHER CONTEXT
------------------------------

Environment variables:

    AUTOMATED_TESTING = 1
    DATE_MANIP_TEST_DM5 = 1
    LANG = en_US.UTF-8
    LC_ALL = C
    NONINTERACTIVE_TESTING = 1
    NO_NETWORK_TESTING = 1
    PATH = /export/home/cpan/bin/perl/bin:/usr/bin:/usr/sbin:/sbin:/opt/ooce/bin:/usr/gnu/bin
    PERL5LIB = 
    PERL5OPT = 
    PERL5_CPANPLUS_IS_RUNNING = 6976
    PERL5_CPAN_IS_RUNNING = 6976
    PERL_MM_USE_DEFAULT = 1
    PERL_USE_UNSAFE_INC = 1
    SHELL = /bin/bash
    TERM = screen

Perl special variables (and OS-specific diagnostics, for MSWin32):

    $^X = /export/home/cpan/bin/perl/bin/perl5.41.11
    $UID/$EUID = 101 / 101
    $GID = 1 1
    $EGID = 1 1

Perl module toolchain versions installed:

    Module              Have    
    ------------------- --------
    CPAN                2.38    
    CPAN::Meta          2.150010
    Cwd                 3.94    
    ExtUtils::CBuilder  0.280240
    ExtUtils::Command   7.74    
    ExtUtils::Install   2.22    
    ExtUtils::MakeMaker 7.74    
    ExtUtils::Manifest  1.75    
    ExtUtils::ParseXS   3.57    
    File::Spec          3.94    
    JSON                4.10    
    JSON::PP            4.16    
    Module::Build       0.4234  
    Module::Signature   0.89    
    Parse::CPAN::Meta   2.150010
    Test2               1.302210
    Test::Harness       3.50    
    Test::More          1.302210
    YAML                1.31    
    YAML::Syck          1.34    
    version             0.9933  


--

Summary of my perl5 (revision 5 version 41 subversion 11) configuration:
  Commit id: 2adc4025ac962d6debca427c98bde824bc4dc4d7
  Platform:
    osname=solaris
    osvers=2.11
    archname=i86pc-solaris-64
    uname='sunos cjg-omniosce 5.11 omnios-r151050-edfc22bf32 i86pc i386 i86pc '
    config_args='-des -Dprefix=/export/home/cpan/bin/perl -Dscriptdir=/export/home/cpan/bin/perl/bin -Dusedevel -Duse64bitall -Dcc=gcc'
    hint=recommended
    useposix=true
    d_sigaction=define
    useithreads=undef
    usemultiplicity=undef
    use64bitint=define
    use64bitall=define
    uselongdouble=undef
    usemymalloc=n
    default_inc_excludes_dot=define
  Compiler:
    cc='gcc'
    ccflags ='-m64 -fwrapv -fno-strict-aliasing -pipe -fstack-protector-strong -D_LARGEFILE_SOURCE -D_FILE_OFFSET_BITS=64 -D_FORTIFY_SOURCE=2'
    optimize='-O'
    cppflags='-m64 -fwrapv -fno-strict-aliasing -pipe -fstack-protector-strong'
    ccversion=''
    gccversion='13.2.0'
    gccosandvers=''
    intsize=4
    longsize=8
    ptrsize=8
    doublesize=8
    byteorder=12345678
    doublekind=3
    d_longlong=define
    longlongsize=8
    d_longdbl=define
    longdblsize=16
    longdblkind=3
    ivtype='long'
    ivsize=8
    nvtype='double'
    nvsize=8
    Off_t='off_t'
    lseeksize=8
    alignbytes=8
    prototype=define
  Linker and Libraries:
    ld='gcc'
    ldflags =' -m64 -fstack-protector-strong -L/usr/gnu/lib '
    libpth=/opt/gcc-13/lib /usr/lib /usr/gnu/lib /usr/ccs/lib
    libs=-lpthread -lsocket -lnsl -ldl -lm -lc
    perllibs=-lpthread -lsocket -lnsl -ldl -lm -lc
    libc=/lib/libc.so
    so=so
    useshrplib=true
    libperl=libperl.so
    gnulibc_version=''
  Dynamic Linking:
    dlsrc=dl_dlopen.xs
    dlext=so
    d_dlsymun=undef
    ccdlflags='  -R /export/home/cpan/bin/perl/lib/5.41.11/i86pc-solaris-64/CORE'
    cccdlflags='-fPIC'
    lddlflags=' -shared -m64 -L/usr/gnu/lib -fstack-protector-strong'


Characteristics of this binary (from libperl): 
  Compile-time options:
    HAS_LONG_DOUBLE
    HAS_STRTOLD
    HAS_TIMES
    PERLIO_LAYERS
    PERL_COPY_ON_WRITE
    PERL_DONT_CREATE_GVSV
    PERL_HASH_FUNC_SIPHASH13
    PERL_HASH_USE_SBOX32
    PERL_MALLOC_WRAP
    PERL_OP_PARENT
    PERL_PRESERVE_IVUV
    PERL_USE_DEVEL
    PERL_USE_SAFE_PUTENV
    USE_64_BIT_ALL
    USE_64_BIT_INT
    USE_LARGE_FILES
    USE_LOCALE
    USE_LOCALE_COLLATE
    USE_LOCALE_CTYPE
    USE_LOCALE_NUMERIC
    USE_LOCALE_TIME
    USE_PERLIO
    USE_PERL_ATOF
  Built under solaris
  Compiled at Apr 12 2025 13:06:13
  %ENV:
    PERL5LIB=""
    PERL5OPT=""
    PERL5_CPANPLUS_IS_RUNNING="6976"
    PERL5_CPAN_IS_RUNNING="6976"
    PERL_MM_USE_DEFAULT="1"
    PERL_USE_UNSAFE_INC="1"
  @INC:
    /export/home/cpan/bin/perl/lib/site_perl/5.41.11/i86pc-solaris-64
    /export/home/cpan/bin/perl/lib/site_perl/5.41.11
    /export/home/cpan/bin/perl/lib/5.41.11/i86pc-solaris-64
    /export/home/cpan/bin/perl/lib/5.41.11
    .