Report for HTML-Scrubber-0.15

Back
From: metabase:user:320bfe00-2aae-11df-837a-5e0a49663a4f
Subject: PASS HTML-Scrubber-0.15 v5.22.0 GNU/Linux
Date: 2016-12-22T08:32:22Z

This distribution has been tested as part of the CPAN Testers
project, supporting the Perl programming language.  See
http://wiki.cpantesters.org/ for more information or email
questions to cpan-testers-discuss@perl.org


--
Dear Nigel Metheringham,

This is a computer-generated report for HTML-Scrubber-0.15
on perl 5.22.0, created by CPAN-Reporter-1.2018.

Thank you for uploading your work to CPAN.  Congratulations!
All tests were successful.

Sections of this report:

    * Tester comments
    * Program output
    * Prerequisites
    * Environment and other context

------------------------------
TESTER COMMENTS
------------------------------

Additional comments from tester:

this report is from an automated smoke testing program
and was not reviewed by a human for accuracy

------------------------------
PROGRAM OUTPUT
------------------------------

Output from './Build test':

t/00-compile.t ............... ok
# Testing with Perl 5.022000, /home/sand/src/perl/repoperls/installed-perls/host/k93msid/v5.22.0/d2d1/bin/perl
#     Carp version is 1.38
#     File::Spec version is 3.62
#     File::Temp version is 0.2304
#     HTML::Entities version is 3.69
#     HTML::Parser version is 3.72
#     IO::Handle version is 1.35
#     IPC::Open3 version is 1.18
#     Module::Build version is 0.422
#     Scalar::Util version is 1.46
#     Test version is 1.26
#     Test::CPAN::Meta version is 0.25
#     Test::EOL version is 1.6
#     Test::Memory::Cycle version is 1.06
#     Test::More version is 1.302073
#     Test::NoTabs version is 1.4
#     blib version is 1.06
#     strict version is 1.09
#     utf8 version is 1.17
#     warnings version is 1.32
t/000-report-versions.t ...... ok
# Testing HTML::Scrubber 0.15, Perl 5.022000, /home/sand/src/perl/repoperls/installed-perls/host/k93msid/v5.22.0/d2d1/bin/perl
t/01_use.t ................... ok
t/02_basic.t ................. ok
t/03_more.t .................. ok
t/04_style_script.t .......... ok
t/05_pi_comment.t ............ ok
t/06_scrub_file.t ............ ok
t/07_booleans.t .............. ok
t/08_cb_attrs.t .............. ok
t/09_memory_cycle.t .......... ok
t/09_no_scrub_warnings.t ..... ok
t/author-critic.t ............ skipped: these tests are for testing by the author
t/author-eol.t ............... skipped: these tests are for testing by the author
t/author-no-tabs.t ........... skipped: these tests are for testing by the author
t/author-pod-spell.t ......... skipped: these tests are for testing by the author
t/jvn53973084.t .............. ok
t/release-dist-manifest.t .... skipped: these tests are for release candidate testing
t/release-distmeta.t ......... skipped: these tests are for release candidate testing
t/release-has-version.t ...... skipped: these tests are for release candidate testing
t/release-minimum-version.t .. skipped: these tests are for release candidate testing
t/release-pod-syntax.t ....... skipped: these tests are for release candidate testing
t/release-portability.t ...... skipped: these tests are for release candidate testing
t/release-synopsis.t ......... skipped: these tests are for release candidate testing
t/release-unused-vars.t ...... skipped: these tests are for release candidate testing
t/rt19063_xhtml.t ............ ok
t/rt25477_self_closing.t ..... ok
t/rt72659_utf8.t ............. ok
t/rt79044_multiple.t ......... ok
All tests successful.
Files=29, Tests=177,  5 wallclock secs ( 0.08 usr  0.24 sys +  1.51 cusr  0.36 csys =  2.19 CPU)
Result: PASS

------------------------------
PREREQUISITES
------------------------------

Prerequisite modules loaded:

requires:

    Module              Need  Have    
    ------------------- ----- --------
    HTML::Entities      0     3.69    
    HTML::Parser        3.47  3.72    
    perl                5.008 5.022000
    Scalar::Util        0     1.46    
    strict              0     1.09    
    warnings            0     1.32    

build_requires:

    Module              Need  Have    
    ------------------- ----- --------
    blib                1.01  1.06    
    Carp                0     1.38    
    File::Spec          0     3.62    
    File::Temp          0     0.2304  
    IO::Handle          0     1.35    
    IPC::Open3          0     1.18    
    Module::Build       0.28  0.4220  
    Test                0     1.26    
    Test::CPAN::Meta    0     0.25    
    Test::EOL           0     1.6     
    Test::Memory::Cycle 0     1.06    
    Test::More          0.94  1.302073
    Test::NoTabs        0     1.4     
    utf8                0     1.17    

configure_requires:

    Module              Need  Have    
    ------------------- ----- --------
    Module::Build       0.28  0.4220  


------------------------------
ENVIRONMENT AND OTHER CONTEXT
------------------------------

Environment variables:

    AUTOMATED_TESTING = 1
    LANG = C
    PATH = /home/sand/bin:/usr/local/bin:/usr/bin:/bin:/usr/games:/usr/local/perl/bin:/usr/X11/bin:/sbin:/usr/sbin
    PERL5LIB = 
    PERL5OPT = 
    PERL5_CPANPLUS_IS_RUNNING = 820
    PERL5_CPAN_IS_RUNNING = 820
    PERL_CANARY_STABILITY_NOPROMPT = 1
    PERL_MM_USE_DEFAULT = 1
    SHELL = /usr/bin/zsh
    TERM = screen

Perl special variables (and OS-specific diagnostics, for MSWin32):

    $^X = /home/sand/src/perl/repoperls/installed-perls/host/k93msid/v5.22.0/d2d1/bin/perl
    $UID/$EUID = 1005 / 1005
    $GID = 1005 1005
    $EGID = 1005 1005

Perl module toolchain versions installed:

    Module              Have    
    ------------------- --------
    CPAN                2.15    
    CPAN::Meta          2.150010
    Cwd                 3.62    
    ExtUtils::CBuilder  0.280224
    ExtUtils::Command   7.24    
    ExtUtils::Install   2.04    
    ExtUtils::MakeMaker 7.24    
    ExtUtils::Manifest  1.70    
    ExtUtils::ParseXS   3.28    
    File::Spec          3.62    
    JSON                2.90    
    JSON::PP            2.27300 
    Module::Build       0.4220  
    Module::Signature   0.81    
    Parse::CPAN::Meta   2.150010
    Test::Harness       3.36    
    Test::More          1.302073
    YAML                1.20    
    YAML::Syck          1.29    
    version             0.9909  


--

Summary of my perl5 (revision 5 version 22 subversion 0) configuration:
  Commit id: 70f63a4c7dba89e8e48b44de7978faae4319e693
  Platform:
    osname=linux, osvers=4.8.0-2-amd64, archname=x86_64-linux
    uname='linux k93msid 4.8.0-2-amd64 #1 smp debian 4.8.11-1 (2016-12-02) x86_64 gnulinux '
    config_args='-Dprefix=/home/sand/src/perl/repoperls/installed-perls/host/k93msid/v5.22.0/d2d1 -Dmyhostname=k93msid -Dinstallusrbinperl=n -Uversiononly -Dusedevel -des -Ui_db -Dlibswanted=cl pthread socket inet nsl gdbm dbm malloc dl ld sun m crypt sec util c cposix posix ucb BSD gdbm_compat -Uuseithreads -Uuselongdouble -DDEBUGGING=both'
    hint=recommended, useposix=true, d_sigaction=define
    useithreads=undef, usemultiplicity=undef
    use64bitint=define, use64bitall=define, uselongdouble=undef
    usemymalloc=n, bincompat5005=undef
  Compiler:
    cc='cc', ccflags ='-fwrapv -DDEBUGGING -fno-strict-aliasing -pipe -fstack-protector-strong -I/usr/local/include -D_LARGEFILE_SOURCE -D_FILE_OFFSET_BITS=64',
    optimize='-O2 -g',
    cppflags='-fwrapv -DDEBUGGING -fno-strict-aliasing -pipe -fstack-protector-strong -I/usr/local/include'
    ccversion='', gccversion='6.2.1 20161124', gccosandvers=''
    intsize=4, longsize=8, ptrsize=8, doublesize=8, byteorder=12345678, doublekind=3
    d_longlong=define, longlongsize=8, d_longdbl=define, longdblsize=16, longdblkind=3
    ivtype='long', ivsize=8, nvtype='double', nvsize=8, Off_t='off_t', lseeksize=8
    alignbytes=8, prototype=define
  Linker and Libraries:
    ld='cc', ldflags =' -fstack-protector-strong -L/usr/local/lib'
    libpth=/usr/local/lib /usr/lib/gcc/x86_64-linux-gnu/6/include-fixed /usr/include/x86_64-linux-gnu /usr/lib /lib/x86_64-linux-gnu /lib/../lib /usr/lib/x86_64-linux-gnu /usr/lib/../lib /lib
    libs=-lpthread -lnsl -ldl -lm -lcrypt -lutil -lc
    perllibs=-lpthread -lnsl -ldl -lm -lcrypt -lutil -lc
    libc=libc-2.24.so, so=so, useshrplib=false, libperl=libperl.a
    gnulibc_version='2.24'
  Dynamic Linking:
    dlsrc=dl_dlopen.xs, dlext=so, d_dlsymun=undef, ccdlflags='-Wl,-E'
    cccdlflags='-fPIC', lddlflags='-shared -O2 -g -L/usr/local/lib -fstack-protector-strong'


Characteristics of this binary (from libperl): 
  Compile-time options: DEBUGGING HAS_TIMES PERLIO_LAYERS
                        PERL_DONT_CREATE_GVSV
                        PERL_HASH_FUNC_ONE_AT_A_TIME_HARD PERL_MALLOC_WRAP
                        PERL_NEW_COPY_ON_WRITE PERL_PRESERVE_IVUV
                        PERL_USE_DEVEL USE_64_BIT_ALL USE_64_BIT_INT
                        USE_LARGE_FILES USE_LOCALE USE_LOCALE_COLLATE
                        USE_LOCALE_CTYPE USE_LOCALE_NUMERIC USE_LOCALE_TIME
                        USE_PERLIO USE_PERL_ATOF
  Built under linux
  Compiled at Dec 14 2016 18:25:29
  %ENV:
    PERL5LIB=""
    PERL5OPT=""
    PERL5_CPANPLUS_IS_RUNNING="820"
    PERL5_CPAN_IS_RUNNING="820"
    PERL_CANARY_STABILITY_NOPROMPT="1"
    PERL_MM_USE_DEFAULT="1"
  @INC:
    /home/sand/src/perl/repoperls/installed-perls/host/k93msid/v5.22.0/d2d1/lib/site_perl/5.22.0/x86_64-linux
    /home/sand/src/perl/repoperls/installed-perls/host/k93msid/v5.22.0/d2d1/lib/site_perl/5.22.0
    /home/sand/src/perl/repoperls/installed-perls/host/k93msid/v5.22.0/d2d1/lib/5.22.0/x86_64-linux
    /home/sand/src/perl/repoperls/installed-perls/host/k93msid/v5.22.0/d2d1/lib/5.22.0
    .