Report for MooseX-Role-BuildInstanceOf-0.08

Back
From: metabase:user:314402c4-2aae-11df-837a-5e0a49663a4f
Subject: PASS MooseX-Role-BuildInstanceOf-0.08 v5.18.2 FreeBSD
Date: 2014-08-25T16:37:52Z

This distribution has been tested as part of the CPAN Testers
project, supporting the Perl programming language.  See
http://wiki.cpantesters.org/ for more information or email
questions to cpan-testers-discuss@perl.org


--
Dear John Napiorkowski,

This is a computer-generated report for MooseX-Role-BuildInstanceOf-0.08
on perl 5.18.2, created by CPAN-Reporter-1.2011.

Thank you for uploading your work to CPAN.  Congratulations!
All tests were successful.

Sections of this report:

    * Tester comments
    * Program output
    * Prerequisites
    * Environment and other context

------------------------------
TESTER COMMENTS
------------------------------

Additional comments from tester:

none provided

------------------------------
PROGRAM OUTPUT
------------------------------

Output from '/usr/bin/make test':

PERL_DL_NONLAZY=1 /usr/perl5.18.2/bin/perl "-MExtUtils::Command::MM" "-MTest::Harness" "-e" "undef *Test::Harness::Switches; test_harness(0, 'blib/lib', 'blib/arch')" t/*.t
t/01-load.t ............... ok
Class::MOP::load_class is deprecated at /usr/perl5.18.2/lib/site_perl/5.18.2/amd64-freebsd/Class/MOP.pm line 71.
	Class::MOP::load_class("Album::Storage::File") called at /usr/home/eserte/.cpan/build/MooseX-Role-BuildInstanceOf-0.08-NVOBw7/blib/lib/MooseX/Role/BuildInstanceOf.pm line 15
	MooseX::Role::BuildInstanceOf::__ANON__("Album::Storage::File") called at /usr/perl5.18.2/lib/site_perl/5.18.2/amd64-freebsd/Moose/Meta/TypeCoercion.pm line 67
	Moose::Meta::TypeCoercion::__ANON__("Album::Storage::File") called at /usr/perl5.18.2/lib/site_perl/5.18.2/amd64-freebsd/Moose/Meta/TypeCoercion.pm line 102
	Moose::Meta::TypeCoercion::coerce(Moose::Meta::TypeCoercion=HASH(0x441e0090), "Album::Storage::File") called at /usr/perl5.18.2/lib/site_perl/5.18.2/amd64-freebsd/Moose/Meta/TypeConstraint.pm line 148
	Moose::Meta::TypeConstraint::coerce(Moose::Meta::TypeConstraint=HASH(0x44203de0), "Album::Storage::File") called at /usr/perl5.18.2/lib/site_perl/5.18.2/amd64-freebsd/Moose/Meta/Attribute.pm line 1252
	Moose::Meta::Attribute::_coerce_and_verify(Moose::Meta::Attribute=HASH(0x44220c30), "Album::Storage::File", Album=HASH(0x41747c30)) called at /usr/perl5.18.2/lib/site_perl/5.18.2/amd64-freebsd/Moose/Meta/Attribute.pm line 514
	Moose::Meta::Attribute::initialize_instance_slot(Moose::Meta::Attribute=HASH(0x44220c30), Moose::Meta::Instance=HASH(0x44218558), Album=HASH(0x41747c30), HASH(0x41413600)) called at /usr/perl5.18.2/lib/site_perl/5.18.2/amd64-freebsd/Class/MOP/Class.pm line 527
	Class::MOP::Class::_construct_instance(Moose::Meta::Class=HASH(0x43fd0fa8), HASH(0x41413600)) called at /usr/perl5.18.2/lib/site_perl/5.18.2/amd64-freebsd/Class/MOP/Class.pm line 497
	Class::MOP::Class::new_object(Moose::Meta::Class=HASH(0x43fd0fa8), HASH(0x41413600)) called at /usr/perl5.18.2/lib/site_perl/5.18.2/amd64-freebsd/Moose/Meta/Class.pm line 277
	Moose::Meta::Class::new_object(Moose::Meta::Class=HASH(0x43fd0fa8), HASH(0x41413600)) called at /usr/perl5.18.2/lib/site_perl/5.18.2/amd64-freebsd/Moose/Object.pm line 26
	Moose::Object::new("Album", "storage_args", ARRAY(0x4140a2b8), "storage_class", "Album::Storage::File") called at t/02-basic.t line 9
Class::MOP::load_class is deprecated at /usr/perl5.18.2/lib/site_perl/5.18.2/amd64-freebsd/Class/MOP.pm line 71.
	Class::MOP::load_class("Album::Image") called at t/lib/Album/ResourceTypes.pm line 18
	Album::ResourceTypes::__ANON__(ARRAY(0x41747e28)) called at /usr/perl5.18.2/lib/site_perl/5.18.2/amd64-freebsd/Moose/Meta/TypeCoercion.pm line 67
	Moose::Meta::TypeCoercion::__ANON__(ARRAY(0x41747e28)) called at /usr/perl5.18.2/lib/site_perl/5.18.2/amd64-freebsd/Moose/Meta/TypeCoercion.pm line 102
	Moose::Meta::TypeCoercion::coerce(Moose::Meta::TypeCoercion=HASH(0x45940ab0), ARRAY(0x41747e28)) called at /usr/perl5.18.2/lib/site_perl/5.18.2/amd64-freebsd/Moose/Meta/TypeConstraint.pm line 148
	Moose::Meta::TypeConstraint::coerce(Moose::Meta::TypeConstraint::Parameterizable=HASH(0x45945450), ARRAY(0x41747e28)) called at /usr/perl5.18.2/lib/site_perl/5.18.2/amd64-freebsd/Moose/Meta/Attribute.pm line 1252
	Moose::Meta::Attribute::_coerce_and_verify(Moose::Meta::Attribute=HASH(0x4594a4e0), ARRAY(0x41747e28), Album::ResourceTypes=HASH(0x41d95738)) called at /usr/perl5.18.2/lib/site_perl/5.18.2/amd64-freebsd/Moose/Meta/Attribute.pm line 514
	Moose::Meta::Attribute::initialize_instance_slot(Moose::Meta::Attribute=HASH(0x4594a4e0), Moose::Meta::Instance=HASH(0x4594ab70), Album::ResourceTypes=HASH(0x41d95738), HASH(0x458b61e0)) called at /usr/perl5.18.2/lib/site_perl/5.18.2/amd64-freebsd/Class/MOP/Class.pm line 527
	Class::MOP::Class::_construct_instance(Moose::Meta::Class=HASH(0x4593e0d8), HASH(0x458b61e0)) called at /usr/perl5.18.2/lib/site_perl/5.18.2/amd64-freebsd/Class/MOP/Class.pm line 497
	Class::MOP::Class::new_object(Moose::Meta::Class=HASH(0x4593e0d8), HASH(0x458b61e0)) called at /usr/perl5.18.2/lib/site_perl/5.18.2/amd64-freebsd/Moose/Meta/Class.pm line 277
	Moose::Meta::Class::new_object(Moose::Meta::Class=HASH(0x4593e0d8), HASH(0x458b61e0)) called at /usr/perl5.18.2/lib/site_perl/5.18.2/amd64-freebsd/Moose/Object.pm line 26
	Moose::Object::new("Album::ResourceTypes", "resources", ARRAY(0x41747e28)) called at /usr/perl5.18.2/lib/site_perl/5.18.2/amd64-freebsd/Moose/Meta/Method/Delegation.pm line 112
	Album::create_resource_types(Album=HASH(0x41747c30), "resources", ARRAY(0x41747e28)) called at /usr/home/eserte/.cpan/build/MooseX-Role-BuildInstanceOf-0.08-NVOBw7/blib/lib/MooseX/Role/BuildInstanceOf.pm line 196
	Moose::Meta::Role::__ANON__::SERIAL::5::_build_resource_types(Album=HASH(0x41747c30)) called at reader Album::resource_types (defined at /usr/home/eserte/.cpan/build/MooseX-Role-BuildInstanceOf-0.08-NVOBw7/blib/lib/MooseX/Role/BuildInstanceOf.pm line 176) line 7
	Album::resource_types(Album=HASH(0x41747c30)) called at t/02-basic.t line 17
t/02-basic.t .............. ok
Class::MOP::load_class is deprecated at /usr/perl5.18.2/lib/site_perl/5.18.2/amd64-freebsd/Class/MOP.pm line 71.
	Class::MOP::load_class("Foo::Bar") called at /usr/home/eserte/.cpan/build/MooseX-Role-BuildInstanceOf-0.08-NVOBw7/blib/lib/MooseX/Role/BuildInstanceOf.pm line 15
	MooseX::Role::BuildInstanceOf::__ANON__("Foo::Bar") called at /usr/perl5.18.2/lib/site_perl/5.18.2/amd64-freebsd/Moose/Meta/TypeCoercion.pm line 67
	Moose::Meta::TypeCoercion::__ANON__("Foo::Bar") called at reader Foo::bar_class (defined at /usr/home/eserte/.cpan/build/MooseX-Role-BuildInstanceOf-0.08-NVOBw7/blib/lib/MooseX/Role/BuildInstanceOf.pm line 93) line 14
	Foo::bar_class(Foo=HASH(0x414135e8)) called at /usr/perl5.18.2/lib/site_perl/5.18.2/amd64-freebsd/Moose/Meta/Method/Delegation.pm line 95
	Foo::create_bar(Foo=HASH(0x414135e8), "thingy", "toaster", "parent", Foo=HASH(0x414135e8), "that", "stuff") called at /usr/home/eserte/.cpan/build/MooseX-Role-BuildInstanceOf-0.08-NVOBw7/blib/lib/MooseX/Role/BuildInstanceOf.pm line 196
	Moose::Meta::Role::__ANON__::SERIAL::3::_build_bar(Foo=HASH(0x414135e8)) called at reader Foo::bar (defined at /usr/home/eserte/.cpan/build/MooseX-Role-BuildInstanceOf-0.08-NVOBw7/blib/lib/MooseX/Role/BuildInstanceOf.pm line 176) line 7
	Foo::bar(Foo=HASH(0x414135e8)) called at t/inherit-arguments.t line 15
t/inherit-arguments.t ..... ok
t/release-eol.t ........... skipped: these tests are for release candidate testing
t/release-no-tabs.t ....... skipped: these tests are for release candidate testing
t/release-pod-coverage.t .. skipped: these tests are for release candidate testing
t/release-pod-syntax.t .... skipped: these tests are for release candidate testing
All tests successful.
Files=7, Tests=13,  3 wallclock secs ( 0.04 usr  0.04 sys +  2.18 cusr  0.24 csys =  2.50 CPU)
Result: PASS

------------------------------
PREREQUISITES
------------------------------

Prerequisite modules loaded:

requires:

    Module                       Need Have    
    ---------------------------- ---- --------
    Moose::Util::TypeConstraints 0    2.1211  
    MooseX::Role::Parameterized  0.13 1.08    

build_requires:

    Module                       Need Have    
    ---------------------------- ---- --------
    Class::MOP                   0    2.1211  
    List::MoreUtils              0    0.33    
    List::Util                   0    1.39    
    Moose                        0    2.1211  
    Moose::Role                  0    2.1211  
    MooseX::Iterator             0    0.11    
    MooseX::Types::Path::Class   0    0.06    
    Perl6::Junction              0    1.60000 
    Scalar::Util                 0    1.39    
    strict                       0    1.07    
    Test::More                   0    1.001003
    warnings                     0    1.18    

configure_requires:

    Module                       Need Have    
    ---------------------------- ---- --------
    ExtUtils::MakeMaker          6.30 6.98    


------------------------------
ENVIRONMENT AND OTHER CONTEXT
------------------------------

Environment variables:

    DBIC_NO_WARN_BAD_PERL = 1
    LC_ALL = de_DE.ISO8859-1
    PATH = /usr/local/bin:/usr/bin:/bin:/usr/local/sbin:/usr/sbin:/sbin:/home/cpansand/bin/freebsd9.1:/home/cpansand/bin/sh:/home/cpansand/bin:/usr/games:/home/cpansand/devel:/usr/home/eserte/src/srezic-misc/scripts
    PERL5LIB = /home/eserte/.cpan/build/MooseX-Iterator-0.11-esltZ_/blib/arch:/home/eserte/.cpan/build/MooseX-Iterator-0.11-esltZ_/blib/lib
    PERL5OPT = 
    PERL5_CPANPLUS_IS_RUNNING = 57892
    PERL5_CPAN_IS_RUNNING = 57892
    PERL5_CPAN_IS_RUNNING_IN_RECURSION = 57873,57892
    PERLDOC = -MPod::Perldoc::ToTextOverstrike
    PERL_BATCH = yes
    PERL_CPAN_REPORTER_CONFIG = /var/tmp/cpansmoker-1023/AI6eBDCB_G_config.ini
    PERL_EXTUTILS_AUTOINSTALL = --defaultdeps
    PERL_HTML_DISPLAY_CLASS = HTML::Display::Mozilla
    SHELL = /usr/local/bin/zsh
    TERM = screen
    TMPDIR = /var/tmp/cpansmoker-1023

Perl special variables (and OS-specific diagnostics, for MSWin32):

    $^X = /usr/perl5.18.2/bin/perl
    $UID/$EUID = 1023 / 1023
    $GID = 1023 1023
    $EGID = 1023 1023

Perl module toolchain versions installed:

    Module              Have    
    ------------------- --------
    CPAN                2.00    
    CPAN::Meta          2.142060
    Cwd                 3.47    
    ExtUtils::CBuilder  0.280217
    ExtUtils::Command   1.17    
    ExtUtils::Install   1.68    
    ExtUtils::MakeMaker 6.98    
    ExtUtils::Manifest  1.65    
    ExtUtils::ParseXS   3.24    
    File::Spec          3.47    
    JSON                2.90    
    JSON::PP            2.27203 
    Module::Build       0.4208  
    Module::Signature   0.73    
    Parse::CPAN::Meta   1.4414  
    Test::Harness       3.33    
    Test::More          1.001003
    YAML                1.09    
    YAML::Syck          1.27    
    version             0.9909  


--

Summary of my perl5 (revision 5 version 18 subversion 2) configuration:
   
  Platform:
    osname=freebsd, osvers=9.2-release-p4, archname=amd64-freebsd
    uname='freebsd cvrsnica-freebsd-92 9.2-release-p4 freebsd 9.2-release-p4 #0: tue apr 8 18:08:22 utc 2014 root@amd64-builder.daemonology.net:usrobjusrsrcsysgeneric amd64 '
    config_args='-ds -e -Dprefix=/usr/perl5.18.2'
    hint=recommended, useposix=true, d_sigaction=define
    useithreads=undef, usemultiplicity=undef
    useperlio=define, d_sfio=undef, uselargefiles=define, usesocks=undef
    use64bitint=define, use64bitall=define, uselongdouble=undef
    usemymalloc=n, bincompat5005=undef
  Compiler:
    cc='cc', ccflags ='-DHAS_FPSETMASK -DHAS_FLOATINGPOINT_H -fno-strict-aliasing -pipe -fstack-protector -I/usr/local/include',
    optimize='-O',
    cppflags='-DHAS_FPSETMASK -DHAS_FLOATINGPOINT_H -fno-strict-aliasing -pipe -fstack-protector -I/usr/local/include'
    ccversion='', gccversion='4.2.1 20070831 patched [FreeBSD]', gccosandvers=''
    intsize=4, longsize=8, ptrsize=8, doublesize=8, byteorder=12345678
    d_longlong=define, longlongsize=8, d_longdbl=define, longdblsize=16
    ivtype='long', ivsize=8, nvtype='double', nvsize=8, Off_t='off_t', lseeksize=8
    alignbytes=8, prototype=define
  Linker and Libraries:
    ld='cc', ldflags ='-Wl,-E  -fstack-protector -L/usr/local/lib'
    libpth=/usr/lib /usr/local/lib
    libs=-lgdbm -lm -lcrypt -lutil -lc
    perllibs=-lm -lcrypt -lutil -lc
    libc=, so=so, useshrplib=false, libperl=libperl.a
    gnulibc_version=''
  Dynamic Linking:
    dlsrc=dl_dlopen.xs, dlext=so, d_dlsymun=undef, ccdlflags=' '
    cccdlflags='-DPIC -fPIC', lddlflags='-shared  -L/usr/local/lib -fstack-protector'


Characteristics of this binary (from libperl): 
  Compile-time options: HAS_TIMES PERLIO_LAYERS PERL_DONT_CREATE_GVSV
                        PERL_HASH_FUNC_ONE_AT_A_TIME_HARD PERL_MALLOC_WRAP
                        PERL_PRESERVE_IVUV PERL_SAWAMPERSAND USE_64_BIT_ALL
                        USE_64_BIT_INT USE_LARGE_FILES USE_LOCALE
                        USE_LOCALE_COLLATE USE_LOCALE_CTYPE
                        USE_LOCALE_NUMERIC USE_PERLIO USE_PERL_ATOF
  Built under freebsd
  Compiled at May 16 2014 01:27:28
  %ENV:
    PERL5LIB="/home/eserte/.cpan/build/MooseX-Iterator-0.11-esltZ_/blib/arch:/home/eserte/.cpan/build/MooseX-Iterator-0.11-esltZ_/blib/lib"
    PERL5OPT=""
    PERL5_CPANPLUS_IS_RUNNING="57892"
    PERL5_CPAN_IS_RUNNING="57892"
    PERL5_CPAN_IS_RUNNING_IN_RECURSION="57873,57892"
    PERLDOC="-MPod::Perldoc::ToTextOverstrike"
    PERL_BATCH="yes"
    PERL_CPAN_REPORTER_CONFIG="/var/tmp/cpansmoker-1023/AI6eBDCB_G_config.ini"
    PERL_EXTUTILS_AUTOINSTALL="--defaultdeps"
    PERL_HTML_DISPLAY_CLASS="HTML::Display::Mozilla"
  @INC:
    /home/eserte/.cpan/build/MooseX-Iterator-0.11-esltZ_/blib/arch
    /home/eserte/.cpan/build/MooseX-Iterator-0.11-esltZ_/blib/lib
    /usr/perl5.18.2/lib/site_perl/5.18.2/amd64-freebsd
    /usr/perl5.18.2/lib/site_perl/5.18.2
    /usr/perl5.18.2/lib/5.18.2/amd64-freebsd
    /usr/perl5.18.2/lib/5.18.2
    .