Report for SNA-Network-0.21

Back
From: metabase:user:3c0d75b6-029c-11e5-90b1-5b610b895903
Subject: PASS SNA-Network-0.21 v5.22.1 GNU/Linux
Date: 2016-01-29T20:44:57Z

This distribution has been tested as part of the CPAN Testers
project, supporting the Perl programming language.  See
http://wiki.cpantesters.org/ for more information or email
questions to cpan-testers-discuss@perl.org


--
Dear Darko Obradovic,

This is a computer-generated report for SNA-Network-0.21
on perl 5.22.1, created by CPAN-Reporter-1.2015.

Thank you for uploading your work to CPAN.  Congratulations!
All tests were successful.

Sections of this report:

    * Tester comments
    * Program output
    * Prerequisites
    * Environment and other context

------------------------------
TESTER COMMENTS
------------------------------

Additional comments from tester:

this report is from an automated smoke testing program
and was not reviewed by a human for accuracy

------------------------------
PROGRAM OUTPUT
------------------------------

Output from './Build test':

# Testing SNA::Network 0.21, Perl 5.022001, /home/fperrad/perl5/perlbrew/perls/perl-5.22.1/bin/perl
t/00-load.t ........................... ok
t/01-network-basics.t ................. ok
t/02-filter-pajek.t ................... ok
t/03-filter-guess.t ................... ok
t/04-algorithm-hits.t ................. ok
t/05-plugins.t ........................ ok
t/06-algorithm-connectivity.t ......... ok
t/07-generator-by-density.t ........... ok
t/08-generator-configuration-model.t .. ok
t/09-algorithm-pagerank.t ............. ok
t/10-algorithm-betweenness.t .......... ok
t/11-algorithm-cores.t ................ ok
t/12-algorithm-louvain.t .............. ok
t/13-generator-mcmc.t ................. ok
t/boilerplate.t ....................... ok
t/pod-coverage.t ...................... skipped: Test::Pod::Coverage 1.08 required for testing POD coverage
t/pod.t ............................... skipped: Test::Pod 1.22 required for testing POD
All tests successful.

Test Summary Report
-------------------
t/boilerplate.t                     (Wstat: 0 Tests: 5 Failed: 0)
  TODO passed:   2, 4
Files=17, Tests=146, 15 wallclock secs ( 0.59 usr  0.11 sys + 13.06 cusr  1.36 csys = 15.12 CPU)
Result: PASS

------------------------------
PREREQUISITES
------------------------------

Prerequisite modules loaded:

build_requires:

    Module                  Need Have    
    ----------------------- ---- --------
    Carp                    0    1.36    
    List::MoreUtils         0    0.413   
    List::Util              0    1.41    
    Module::List::Pluggable 0    0.08    
    Object::Tiny::XS        0    1.01    
    Test::Memory::Cycle     0    1.06    
    Test::More              0    1.001014

configure_requires:

    Module                  Need Have    
    ----------------------- ---- --------
    Module::Build           0.42 0.4214  


------------------------------
ENVIRONMENT AND OTHER CONTEXT
------------------------------

Environment variables:

    AUTOMATED_TESTING = 1
    LANG = C.UTF-8
    LANGUAGE = en_US.UTF-8
    LC_ADDRESS = fr_FR.UTF-8
    LC_IDENTIFICATION = fr_FR.UTF-8
    LC_MEASUREMENT = fr_FR.UTF-8
    LC_MESSAGES = POSIX
    LC_MONETARY = fr_FR.UTF-8
    LC_NAME = fr_FR.UTF-8
    LC_NUMERIC = fr_FR.UTF-8
    LC_PAPER = fr_FR.UTF-8
    LC_TELEPHONE = fr_FR.UTF-8
    LC_TIME = fr_FR.UTF-8
    PATH = /home/fperrad/perl5/perlbrew/bin:/home/fperrad/perl5/perlbrew/perls/perl-5.22.1/bin:/usr/local/bin:/usr/bin:/bin:/usr/local/games:/usr/games
    PERL5LIB = /home/fperrad/.local/share/.cpan/build/Test-Memory-Cycle-1.06-HA3zwo/blib/arch:/home/fperrad/.local/share/.cpan/build/Test-Memory-Cycle-1.06-HA3zwo/blib/lib:/home/fperrad/.local/share/.cpan/build/PadWalker-2.2-A087Wf/blib/arch:/home/fperrad/.local/share/.cpan/build/PadWalker-2.2-A087Wf/blib/lib:/home/fperrad/.local/share/.cpan/build/Devel-Cycle-1.12-IsrOqW/blib/arch:/home/fperrad/.local/share/.cpan/build/Devel-Cycle-1.12-IsrOqW/blib/lib:/home/fperrad/.local/share/.cpan/build/Module-List-Pluggable-0.08-ZB8YDL/blib/arch:/home/fperrad/.local/share/.cpan/build/Module-List-Pluggable-0.08-ZB8YDL/blib/lib:/home/fperrad/.local/share/.cpan/build/Class-Base-0.06-GEL63b/blib/arch:/home/fperrad/.local/share/.cpan/build/Class-Base-0.06-GEL63b/blib/lib:/home/fperrad/.local/share/.cpan/build/Module-List-0.003-zO9W61/blib/arch:/home/fperrad/.local/share/.cpan/build/Module-List-0.003-zO9W61/blib/lib:/home/fperrad/.local/share/.cpan/build/Object-Tiny-XS-1.01-7YV6Is/blib/arch:/home/fperrad/.local/share/.cpan/build/Object-Tiny-XS-1.01-7YV6Is/blib/lib:/home/fperrad/.local/share/.cpan/build/Class-XSAccessor-1.19-NBLezm/blib/arch:/home/fperrad/.local/share/.cpan/build/Class-XSAccessor-1.19-NBLezm/blib/lib
    PERL5OPT = 
    PERL5_CPANPLUS_IS_RUNNING = 7805
    PERL5_CPAN_IS_RUNNING = 7805
    PERL5_CPAN_IS_RUNNING_IN_RECURSION = 27217,7805
    PERLBREW_BASHRC_VERSION = 0.74
    PERLBREW_HOME = /home/fperrad/.perlbrew
    PERLBREW_MANPATH = /home/fperrad/perl5/perlbrew/perls/perl-5.22.1/man
    PERLBREW_PATH = /home/fperrad/perl5/perlbrew/bin:/home/fperrad/perl5/perlbrew/perls/perl-5.22.1/bin
    PERLBREW_PERL = perl-5.22.1
    PERLBREW_ROOT = /home/fperrad/perl5/perlbrew
    PERLBREW_VERSION = 0.74
    PERL_CR_SMOKER_CURRENT = SNA-Network-0.21
    PERL_EXTUTILS_AUTOINSTALL = --defaultdeps
    PERL_MM_USE_DEFAULT = 1
    SHELL = /bin/bash
    TERM = linux

Perl special variables (and OS-specific diagnostics, for MSWin32):

    $^X = /home/fperrad/perl5/perlbrew/perls/perl-5.22.1/bin/perl
    $UID/$EUID = 1000 / 1000
    $GID = 1000 1000
    $EGID = 1000 1000

Perl module toolchain versions installed:

    Module              Have    
    ------------------- --------
    CPAN                2.11    
    CPAN::Meta          2.150001
    Cwd                 3.56    
    ExtUtils::CBuilder  0.280221
    ExtUtils::Command   1.20    
    ExtUtils::Install   2.04    
    ExtUtils::MakeMaker 7.04_01 
    ExtUtils::Manifest  1.70    
    ExtUtils::ParseXS   3.28    
    File::Spec          3.56    
    JSON                2.90    
    JSON::PP            2.27300 
    Module::Build       0.4214  
    Module::Signature   n/a     
    Parse::CPAN::Meta   1.4414  
    Test::Harness       3.35    
    Test::More          1.001014
    YAML                n/a     
    YAML::Syck          n/a     
    version             0.9912  


--

Summary of my perl5 (revision 5 version 22 subversion 1) configuration:
   
  Platform:
    osname=linux, osvers=3.4.107-lime, archname=armv7l-linux
    uname='linux lime 3.4.107-lime #15 smp preempt fri may 22 11:36:49 cest 2015 armv7l gnulinux '
    config_args='-de -Dprefix=/home/fperrad/perl5/perlbrew/perls/perl-5.22.1 -Aeval:scriptdir=/home/fperrad/perl5/perlbrew/perls/perl-5.22.1/bin'
    hint=recommended, useposix=true, d_sigaction=define
    useithreads=undef, usemultiplicity=undef
    use64bitint=undef, use64bitall=undef, uselongdouble=undef
    usemymalloc=n, bincompat5005=undef
  Compiler:
    cc='cc', ccflags ='-fwrapv -fno-strict-aliasing -pipe -fstack-protector-strong -I/usr/local/include -D_LARGEFILE_SOURCE -D_FILE_OFFSET_BITS=64 -D_FORTIFY_SOURCE=2',
    optimize='-O2',
    cppflags='-fwrapv -fno-strict-aliasing -pipe -fstack-protector-strong -I/usr/local/include'
    ccversion='', gccversion='4.9.2', gccosandvers=''
    intsize=4, longsize=4, ptrsize=4, doublesize=8, byteorder=1234, doublekind=3
    d_longlong=define, longlongsize=8, d_longdbl=define, longdblsize=8, longdblkind=0
    ivtype='long', ivsize=4, nvtype='double', nvsize=8, Off_t='off_t', lseeksize=8
    alignbytes=8, prototype=define
  Linker and Libraries:
    ld='cc', ldflags =' -fstack-protector-strong -L/usr/local/lib'
    libpth=/usr/local/lib /usr/lib/gcc/arm-linux-gnueabihf/4.9/include-fixed /usr/include/arm-linux-gnueabihf /usr/lib /lib/arm-linux-gnueabihf /lib /usr/lib/arm-linux-gnueabihf
    libs=-lpthread -lnsl -ldl -lm -lcrypt -lutil -lc
    perllibs=-lpthread -lnsl -ldl -lm -lcrypt -lutil -lc
    libc=libc-2.19.so, so=so, useshrplib=false, libperl=libperl.a
    gnulibc_version='2.19'
  Dynamic Linking:
    dlsrc=dl_dlopen.xs, dlext=so, d_dlsymun=undef, ccdlflags='-Wl,-E'
    cccdlflags='-fPIC', lddlflags='-shared -O2 -L/usr/local/lib -fstack-protector-strong'


Characteristics of this binary (from libperl): 
  Compile-time options: HAS_TIMES PERLIO_LAYERS PERL_DONT_CREATE_GVSV
                        PERL_HASH_FUNC_ONE_AT_A_TIME_HARD PERL_MALLOC_WRAP
                        PERL_NEW_COPY_ON_WRITE PERL_PRESERVE_IVUV
                        USE_LARGE_FILES USE_LOCALE USE_LOCALE_COLLATE
                        USE_LOCALE_CTYPE USE_LOCALE_NUMERIC USE_LOCALE_TIME
                        USE_PERLIO USE_PERL_ATOF
  Locally applied patches:
	Devel::PatchPerl 1.38
  Built under linux
  Compiled at Dec 24 2015 16:00:54
  %ENV:
    PERL5LIB="/home/fperrad/.local/share/.cpan/build/Test-Memory-Cycle-1.06-HA3zwo/blib/arch:/home/fperrad/.local/share/.cpan/build/Test-Memory-Cycle-1.06-HA3zwo/blib/lib:/home/fperrad/.local/share/.cpan/build/PadWalker-2.2-A087Wf/blib/arch:/home/fperrad/.local/share/.cpan/build/PadWalker-2.2-A087Wf/blib/lib:/home/fperrad/.local/share/.cpan/build/Devel-Cycle-1.12-IsrOqW/blib/arch:/home/fperrad/.local/share/.cpan/build/Devel-Cycle-1.12-IsrOqW/blib/lib:/home/fperrad/.local/share/.cpan/build/Module-List-Pluggable-0.08-ZB8YDL/blib/arch:/home/fperrad/.local/share/.cpan/build/Module-List-Pluggable-0.08-ZB8YDL/blib/lib:/home/fperrad/.local/share/.cpan/build/Class-Base-0.06-GEL63b/blib/arch:/home/fperrad/.local/share/.cpan/build/Class-Base-0.06-GEL63b/blib/lib:/home/fperrad/.local/share/.cpan/build/Module-List-0.003-zO9W61/blib/arch:/home/fperrad/.local/share/.cpan/build/Module-List-0.003-zO9W61/blib/lib:/home/fperrad/.local/share/.cpan/build/Object-Tiny-XS-1.01-7YV6Is/blib/arch:/home/fperrad/.local/share/.cpan/build/Object-Tiny-XS-1.01-7YV6Is/blib/lib:/home/fperrad/.local/share/.cpan/build/Class-XSAccessor-1.19-NBLezm/blib/arch:/home/fperrad/.local/share/.cpan/build/Class-XSAccessor-1.19-NBLezm/blib/lib"
    PERL5OPT=""
    PERL5_CPANPLUS_IS_RUNNING="7805"
    PERL5_CPAN_IS_RUNNING="7805"
    PERL5_CPAN_IS_RUNNING_IN_RECURSION="27217,7805"
    PERLBREW_BASHRC_VERSION="0.74"
    PERLBREW_HOME="/home/fperrad/.perlbrew"
    PERLBREW_MANPATH="/home/fperrad/perl5/perlbrew/perls/perl-5.22.1/man"
    PERLBREW_PATH="/home/fperrad/perl5/perlbrew/bin:/home/fperrad/perl5/perlbrew/perls/perl-5.22.1/bin"
    PERLBREW_PERL="perl-5.22.1"
    PERLBREW_ROOT="/home/fperrad/perl5/perlbrew"
    PERLBREW_VERSION="0.74"
    PERL_CR_SMOKER_CURRENT="SNA-Network-0.21"
    PERL_EXTUTILS_AUTOINSTALL="--defaultdeps"
    PERL_MM_USE_DEFAULT="1"
  @INC:
    /home/fperrad/.local/share/.cpan/build/Test-Memory-Cycle-1.06-HA3zwo/blib/arch
    /home/fperrad/.local/share/.cpan/build/Test-Memory-Cycle-1.06-HA3zwo/blib/lib
    /home/fperrad/.local/share/.cpan/build/PadWalker-2.2-A087Wf/blib/arch
    /home/fperrad/.local/share/.cpan/build/PadWalker-2.2-A087Wf/blib/lib
    /home/fperrad/.local/share/.cpan/build/Devel-Cycle-1.12-IsrOqW/blib/arch
    /home/fperrad/.local/share/.cpan/build/Devel-Cycle-1.12-IsrOqW/blib/lib
    /home/fperrad/.local/share/.cpan/build/Module-List-Pluggable-0.08-ZB8YDL/blib/arch
    /home/fperrad/.local/share/.cpan/build/Module-List-Pluggable-0.08-ZB8YDL/blib/lib
    /home/fperrad/.local/share/.cpan/build/Class-Base-0.06-GEL63b/blib/arch
    /home/fperrad/.local/share/.cpan/build/Class-Base-0.06-GEL63b/blib/lib
    /home/fperrad/.local/share/.cpan/build/Module-List-0.003-zO9W61/blib/arch
    /home/fperrad/.local/share/.cpan/build/Module-List-0.003-zO9W61/blib/lib
    /home/fperrad/.local/share/.cpan/build/Object-Tiny-XS-1.01-7YV6Is/blib/arch
    /home/fperrad/.local/share/.cpan/build/Object-Tiny-XS-1.01-7YV6Is/blib/lib
    /home/fperrad/.local/share/.cpan/build/Class-XSAccessor-1.19-NBLezm/blib/arch
    /home/fperrad/.local/share/.cpan/build/Class-XSAccessor-1.19-NBLezm/blib/lib
    /home/fperrad/perl5/perlbrew/perls/perl-5.22.1/lib/site_perl/5.22.1/armv7l-linux
    /home/fperrad/perl5/perlbrew/perls/perl-5.22.1/lib/site_perl/5.22.1
    /home/fperrad/perl5/perlbrew/perls/perl-5.22.1/lib/5.22.1/armv7l-linux
    /home/fperrad/perl5/perlbrew/perls/perl-5.22.1/lib/5.22.1
    .