Back
From: metabase:user:a0e144f2-373b-11e6-8edd-c6848980b093
Subject: PASS Test-TCP-2.17 v5.25.5 GNU/Linux
Date: 2016-10-18T03:08:36Z
This distribution has been tested as part of the CPAN Testers
project, supporting the Perl programming language. See
http://wiki.cpantesters.org/ for more information or email
questions to cpan-testers-discuss@perl.org
--
Dear Syohei Yoshida,
This is a computer-generated report for Test-TCP-2.17
on perl 5.25.5, created by CPAN-Reporter-1.2018.
Thank you for uploading your work to CPAN. Congratulations!
All tests were successful.
Sections of this report:
* Tester comments
* Program output
* Prerequisites
* Environment and other context
------------------------------
TESTER COMMENTS
------------------------------
Additional comments from tester:
this report is from an automated smoke testing program
and was not reviewed by a human for accuracy
------------------------------
PROGRAM OUTPUT
------------------------------
Output from '/usr/bin/make test':
PERL_DL_NONLAZY=1 "/home/cpan1/install/bin/perl" "-MExtUtils::Command::MM" "-MTest::Harness" "-e" "undef *Test::Harness::Switches; test_harness(0, 'blib/lib', 'blib/arch')" t/*.t
# Test::More: 1.302056
t/00_compile.t ................. ok
t/03_return_when_sigterm.t ..... ok
# your server received SIGABRT
t/02_abrt.t .................... ok
t/01_simple.t .................. ok
t/07_optional.t ................ ok
t/06_nest.t .................... ok
t/08_exit.t .................... ok
# found an empty IPv6 port
t/11_net_empty_port.t .......... ok
t/09_fork.t .................... ok
t/10_oo.t ...................... ok
t/12_pass_wait_port_options.t .. ok
t/14_listen.t .................. ok
t/13_undef_port.t .............. ok
# $Config{sig_name}: ZERO HUP INT QUIT ILL TRAP ABRT BUS FPE KILL USR1 SEGV USR2 PIPE ALRM TERM STKFLT CHLD CONT STOP TSTP TTIN TTOU URG XCPU XFSZ VTALRM PROF WINCH IO PWR SYS NUM32 NUM33 RTMIN NUM35 NUM36 NUM37 NUM38 NUM39 NUM40 NUM41 NUM42 NUM43 NUM44 NUM45 NUM46 NUM47 NUM48 NUM49 NUM50 NUM51 NUM52 NUM53 NUM54 NUM55 NUM56 NUM57 NUM58 NUM59 NUM60 NUM61 NUM62 NUM63 RTMAX IOT CLD POLL UNUSED
# CHILD_ERROR_NATIVE: 2
# $?: 2
t/04_die.t ..................... ok
t/05_sigint.t .................. ok
All tests successful.
Files=15, Tests=126, 6 wallclock secs ( 0.09 usr 0.02 sys + 2.73 cusr 0.24 csys = 3.08 CPU)
Result: PASS
------------------------------
PREREQUISITES
------------------------------
Prerequisite modules loaded:
requires:
Module Need Have
------------------- -------- --------
IO::Socket::INET 0 1.35
IO::Socket::IP 0 0.38
perl 5.008001 5.025005
Test::More 0 1.302056
Test::SharedFork 0.29 0.35
Time::HiRes 0 1.9739
build_requires:
Module Need Have
------------------- -------- --------
File::Temp 0 0.2304
Socket 0 2.020_03
Test::More 0.98 1.302056
configure_requires:
Module Need Have
------------------- -------- --------
ExtUtils::MakeMaker 6.64 7.24
------------------------------
ENVIRONMENT AND OTHER CONTEXT
------------------------------
Environment variables:
AUTOMATED_TESTING = 1
HARNESS_OPTIONS = j5
LANG = en_US.UTF-8
PATH = /usr/local/bin:/usr/bin:/bin:/usr/local/games:/usr/games
PERL5LIB =
PERL5OPT =
PERL5_CPANPLUS_IS_RUNNING = 27931
PERL5_CPAN_IS_RUNNING = 27931
PERL5_CPAN_IS_RUNNING_IN_RECURSION = 4452,27931
PERLBREW_BASHRC_VERSION = 0.76
PERLBREW_HOME = /home/dcollins/.perlbrew
PERLBREW_ROOT = /home/dcollins/toolchain/perl5
PERL_CR_SMOKER_CURRENT = Dancer2-Plugin-Auth-Extensible-0.612
PERL_CR_SMOKER_RUNONCE = 1
PERL_EXTUTILS_AUTOINSTALL = --defaultdeps
PERL_MM_USE_DEFAULT = 1
SHELL = /bin/bash
TERM = putty
Perl special variables (and OS-specific diagnostics, for MSWin32):
$^X = /home/cpan1/install/bin/perl
$UID/$EUID = 1002 / 1002
$GID = 1002 1002
$EGID = 1002 1002
Perl module toolchain versions installed:
Module Have
------------------- ----------
CPAN 2.14_01
CPAN::Meta 2.150010
Cwd 3.65
ExtUtils::CBuilder 0.280225
ExtUtils::Command 7.24
ExtUtils::Install 2.04
ExtUtils::MakeMaker 7.24
ExtUtils::Manifest 1.70
ExtUtils::ParseXS 3.33
File::Spec 3.65
JSON 2.90
JSON::PP 2.27400_01
Module::Build 0.4220
Module::Signature n/a
Parse::CPAN::Meta 2.150010
Test::Harness 3.36_01
Test::More 1.302056
YAML 1.18
YAML::Syck 1.29
version 0.9917
--
Summary of my perl5 (revision 5 version 25 subversion 5) configuration:
Commit id: b912808c57c4dd8f57efd441416886c2674ab4cd
Platform:
osname=linux
osvers=3.16.0-4-amd64
archname=x86_64-linux-thread-multi
uname='linux digitalis 3.16.0-4-amd64 #1 smp debian 3.16.36-1+deb8u1 (2016-09-03) x86_64 gnulinux '
config_args='-Dusedevel -DDEBUGGING -Dusethreads -Dprefix=/home/cpan1/install -Uversiononly -des'
hint=recommended
useposix=true
d_sigaction=define
useithreads=define
usemultiplicity=define
use64bitint=define
use64bitall=define
uselongdouble=undef
usemymalloc=n
bincompat5005=undef
Compiler:
cc='cc'
ccflags ='-D_REENTRANT -D_GNU_SOURCE -fwrapv -DDEBUGGING -fno-strict-aliasing -pipe -fstack-protector-strong -I/usr/local/include -D_LARGEFILE_SOURCE -D_FILE_OFFSET_BITS=64 -D_FORTIFY_SOURCE=2'
optimize='-O2 -g'
cppflags='-D_REENTRANT -D_GNU_SOURCE -fwrapv -DDEBUGGING -fno-strict-aliasing -pipe -fstack-protector-strong -I/usr/local/include'
ccversion=''
gccversion='4.9.2'
gccosandvers=''
intsize=4
longsize=8
ptrsize=8
doublesize=8
byteorder=12345678
doublekind=3
d_longlong=define
longlongsize=8
d_longdbl=define
longdblsize=16
longdblkind=3
ivtype='long'
ivsize=8
nvtype='double'
nvsize=8
Off_t='off_t'
lseeksize=8
alignbytes=8
prototype=define
Linker and Libraries:
ld='cc'
ldflags =' -fstack-protector-strong -L/usr/local/lib'
libpth=/usr/local/lib /usr/lib/gcc/x86_64-linux-gnu/4.9/include-fixed /usr/include/x86_64-linux-gnu /usr/lib /lib/x86_64-linux-gnu /lib/../lib /usr/lib/x86_64-linux-gnu /usr/lib/../lib /lib
libs=-lpthread -lnsl -ldl -lm -lcrypt -lutil -lc
perllibs=-lpthread -lnsl -ldl -lm -lcrypt -lutil -lc
libc=libc-2.19.so
so=so
useshrplib=false
libperl=libperl.a
gnulibc_version='2.19'
Dynamic Linking:
dlsrc=dl_dlopen.xs
dlext=so
d_dlsymun=undef
ccdlflags='-Wl,-E'
cccdlflags='-fPIC'
lddlflags='-shared -O2 -g -L/usr/local/lib -fstack-protector-strong'
Characteristics of this binary (from libperl):
Compile-time options:
DEBUGGING
HAS_TIMES
MULTIPLICITY
PERLIO_LAYERS
PERL_COPY_ON_WRITE
PERL_DONT_CREATE_GVSV
PERL_HASH_FUNC_ONE_AT_A_TIME_HARD
PERL_IMPLICIT_CONTEXT
PERL_MALLOC_WRAP
PERL_OP_PARENT
PERL_PRESERVE_IVUV
PERL_TRACK_MEMPOOL
PERL_USE_DEVEL
USE_64_BIT_ALL
USE_64_BIT_INT
USE_ITHREADS
USE_LARGE_FILES
USE_LOCALE
USE_LOCALE_COLLATE
USE_LOCALE_CTYPE
USE_LOCALE_NUMERIC
USE_LOCALE_TIME
USE_PERLIO
USE_PERL_ATOF
USE_REENTRANT_API
Built under linux
Compiled at Oct 11 2016 16:20:24
%ENV:
PERL5LIB=""
PERL5OPT=""
PERL5_CPANPLUS_IS_RUNNING="27931"
PERL5_CPAN_IS_RUNNING="27931"
PERL5_CPAN_IS_RUNNING_IN_RECURSION="4452,27931"
PERLBREW_BASHRC_VERSION="0.76"
PERLBREW_HOME="/home/dcollins/.perlbrew"
PERLBREW_ROOT="/home/dcollins/toolchain/perl5"
PERL_CR_SMOKER_CURRENT="Dancer2-Plugin-Auth-Extensible-0.612"
PERL_CR_SMOKER_RUNONCE="1"
PERL_EXTUTILS_AUTOINSTALL="--defaultdeps"
PERL_MM_USE_DEFAULT="1"
@INC:
/home/cpan1/install/lib/perl5/site_perl/5.25.5/x86_64-linux-thread-multi
/home/cpan1/install/lib/perl5/site_perl/5.25.5
/home/cpan1/install/lib/perl5/5.25.5/x86_64-linux-thread-multi
/home/cpan1/install/lib/perl5/5.25.5
.