Dist-Zilla-App-Command-aliendeps v0.03 Perl 5 v5.26.1 i86pc-solaris-thread-multi

Status
Pass
From
Serguei Trouchelle (STRO)
Dist
Dist-Zilla-App-Command-aliendeps v0.03
Platform
Perl 5 v5.26.1 i86pc-solaris-thread-multi
Date
2017-12-05 16:20:08
ID
28e0921e-d9d8-11e7-bfe2-86cfc6f420ef
This distribution has been tested as part of the CPAN Testers
project, supporting the Perl programming language.  See
http://wiki.cpantesters.org/ for more information or email
questions to cpan-testers-discuss@perl.org


--
Dear Graham Ollis,

This is a computer-generated report for Dist-Zilla-App-Command-aliendeps-0.03
on perl 5.26.1, created by CPAN-Reporter-1.2018.

Thank you for uploading your work to CPAN.  Congratulations!
All tests were successful.

Sections of this report:

    * Tester comments
    * Program output
    * Prerequisites
    * Environment and other context

------------------------------
TESTER COMMENTS
------------------------------

Additional comments from tester:

this report is from an automated smoke testing program
and was not reviewed by a human for accuracy

------------------------------
PROGRAM OUTPUT
------------------------------

Output from '/usr/bin/make test':

PERL_DL_NONLAZY=1 "/home/stro/perl/5.26.1t/bin/perl" "-MExtUtils::Command::MM" "-MTest::Harness" "-e" "undef *Test::Harness::Switches; test_harness(0, 'blib/lib', 'blib/arch')" t/*.t
# 
# 
# 
# HARNESS_ACTIVE=1
# HARNESS_VERSION=3.38
# LANG=en_US.UTF-8
# PERL5LIB=/home/stro/cpan/build/5.26.1t/build/Dist-Zilla-App-Command-aliendeps-0.03-0/blib/lib:/home/stro/cpan/build/5.26.1t/build/Dist-Zilla-App-Command-aliendeps-0.03-0/blib/arch:
# PERL5OPT=
# PERL5_CPANPLUS_IS_RUNNING=22617
# PERL5_CPAN_IS_RUNNING=22617
# PERL5_CPAN_IS_RUNNING_IN_RECURSION=21385,22617
# PERL_CR_SMOKER_CURRENT=Dist-Zilla-PluginBundle-Author-Plicease-2.25
# PERL_DL_NONLAZY=1
# PERL_EXTUTILS_AUTOINSTALL=--defaultdeps
# PERL_MM_USE_DEFAULT=1
# PERL_USE_UNSAFE_INC=1
# SHELL=/bin/bash
# 
# 
# 
# PERL5LIB path
# /home/stro/cpan/build/5.26.1t/build/Dist-Zilla-App-Command-aliendeps-0.03-0/blib/lib
# /home/stro/cpan/build/5.26.1t/build/Dist-Zilla-App-Command-aliendeps-0.03-0/blib/arch
# 
# 
# 
# perl                     5.026001
# Dist::Zilla::App         6.010
# Dist::Zilla::App::Tester 6.010
# ExtUtils::MakeMaker      7.24
# Ref::Util                0.203
# Test::More               1.302118
# 
# 
# 
t/00_diag.t .. ok
t/01_use.t ... ok
t/basic.t .... skipped: Test requires Dist::Zilla::PluginBundle::Alien
All tests successful.
Files=3, Tests=2,  2 wallclock secs ( 0.03 usr  0.02 sys +  0.45 cusr  0.09 csys =  0.59 CPU)
Result: PASS

------------------------------
PREREQUISITES
------------------------------

Prerequisite modules loaded:

requires:

    Module                   Need  Have    
    ------------------------ ----- --------
    Dist::Zilla::App         0     6.010   
    perl                     5.006 5.026001
    Ref::Util                0     0.203   

build_requires:

    Module                   Need  Have    
    ------------------------ ----- --------
    Dist::Zilla::App::Tester 0     6.010   
    ExtUtils::MakeMaker      0     7.24    
    Test::More               0.94  1.302118

configure_requires:

    Module                   Need  Have    
    ------------------------ ----- --------
    ExtUtils::MakeMaker      0     7.24    
    perl                     5.006 5.026001


------------------------------
ENVIRONMENT AND OTHER CONTEXT
------------------------------

Environment variables:

    AUTOMATED_TESTING = 1
    LANG = en_US.UTF-8
    PATH = /usr/gnu/bin:/usr/bin:/usr/sbin:/sbin:/usr/sfw/bin:
    PERL5LIB = 
    PERL5OPT = 
    PERL5_CPANPLUS_IS_RUNNING = 22617
    PERL5_CPAN_IS_RUNNING = 22617
    PERL5_CPAN_IS_RUNNING_IN_RECURSION = 21385,22617
    PERL_CR_SMOKER_CURRENT = Dist-Zilla-PluginBundle-Author-Plicease-2.25
    PERL_EXTUTILS_AUTOINSTALL = --defaultdeps
    PERL_MM_USE_DEFAULT = 1
    PERL_USE_UNSAFE_INC = 1
    SHELL = /bin/bash
    TERM = xterm-256color

Perl special variables (and OS-specific diagnostics, for MSWin32):

    $^X = /home/stro/perl/5.26.1t/bin/perl
    $UID/$EUID = 101 / 101
    $GID = 10 10
    $EGID = 10 10

Perl module toolchain versions installed:

    Module              Have    
    ------------------- --------
    CPAN                2.18    
    CPAN::Meta          2.150010
    Cwd                 3.67    
    ExtUtils::CBuilder  0.280226
    ExtUtils::Command   7.24    
    ExtUtils::Install   2.04    
    ExtUtils::MakeMaker 7.24    
    ExtUtils::Manifest  1.70    
    ExtUtils::ParseXS   3.34    
    File::Spec          3.67    
    JSON                2.94    
    JSON::PP            2.94    
    Module::Build       0.4224  
    Module::Signature   n/a     
    Parse::CPAN::Meta   2.150010
    Test::Harness       3.38    
    Test::More          1.302118
    YAML                1.24    
    YAML::Syck          1.30    
    version             0.9917  


--

Summary of my perl5 (revision 5 version 26 subversion 1) configuration:
   
  Platform:
    osname=solaris
    osvers=2.11
    archname=i86pc-solaris-thread-multi
    uname='sunos vm-openindiana-001 5.11 illumos-ed992b0aac i86pc i386 i86pc solaris '
    config_args=''
    hint=recommended
    useposix=true
    d_sigaction=define
    useithreads=define
    usemultiplicity=define
    use64bitint=undef
    use64bitall=undef
    uselongdouble=undef
    usemymalloc=n
    default_inc_excludes_dot=define
    bincompat5005=undef
  Compiler:
    cc='/opt/SUNWspro/bin/cc'
    ccflags ='-D_REENTRANT -I/usr/gnu/include -D_LARGEFILE_SOURCE -D_FILE_OFFSET_BITS=64 -DPERL_USE_SAFE_PUTENV'
    optimize='-O'
    cppflags='-D_REENTRANT -I/usr/gnu/include'
    ccversion='Sun C 5.10 SunOS_i386 2009/06/03'
    gccversion=''
    gccosandvers=''
    intsize=4
    longsize=4
    ptrsize=4
    doublesize=8
    byteorder=1234
    doublekind=3
    d_longlong=define
    longlongsize=8
    d_longdbl=define
    longdblsize=12
    longdblkind=3
    ivtype='long'
    ivsize=4
    nvtype='double'
    nvsize=8
    Off_t='off_t'
    lseeksize=8
    alignbytes=4
    prototype=define
  Linker and Libraries:
    ld='/opt/SUNWspro/bin/cc'
    ldflags =' -L/usr/lib -L/usr/ccs/lib -L/opt/sunstudio12.1/prod/lib -L/lib -L/usr/gnu/lib '
    libpth=/usr/lib /usr/ccs/lib /opt/sunstudio12.1/prod/lib /lib /usr/gnu/lib
    libs=-lpthread -lsocket -lnsl -lgdbm -ldb -ldl -lm -lc
    perllibs=-lpthread -lsocket -lnsl -ldl -lm -lc
    libc=/lib/libc.so
    so=so
    useshrplib=true
    libperl=libperl.so
    gnulibc_version=''
  Dynamic Linking:
    dlsrc=dl_dlopen.xs
    dlext=so
    d_dlsymun=undef
    ccdlflags='  -R /home/stro/perl/5.26.1t/lib/5.26.1/i86pc-solaris-thread-multi/CORE'
    cccdlflags='-KPIC'
    lddlflags='-G -L/usr/lib -L/usr/ccs/lib -L/opt/sunstudio12.1/prod/lib -L/lib -L/usr/gnu/lib'


Characteristics of this binary (from libperl): 
  Compile-time options:
    HAS_TIMES
    MULTIPLICITY
    PERLIO_LAYERS
    PERL_COPY_ON_WRITE
    PERL_DONT_CREATE_GVSV
    PERL_HASH_FUNC_ONE_AT_A_TIME_HARD
    PERL_IMPLICIT_CONTEXT
    PERL_MALLOC_WRAP
    PERL_OP_PARENT
    PERL_PRESERVE_IVUV
    PERL_USE_SAFE_PUTENV
    USE_ITHREADS
    USE_LARGE_FILES
    USE_LOCALE
    USE_LOCALE_COLLATE
    USE_LOCALE_CTYPE
    USE_LOCALE_NUMERIC
    USE_LOCALE_TIME
    USE_PERLIO
    USE_PERL_ATOF
    USE_REENTRANT_API
  Built under solaris
  Compiled at Sep 23 2017 14:13:07
  %ENV:
    PERL5LIB=""
    PERL5OPT=""
    PERL5_CPANPLUS_IS_RUNNING="22617"
    PERL5_CPAN_IS_RUNNING="22617"
    PERL5_CPAN_IS_RUNNING_IN_RECURSION="21385,22617"
    PERL_CR_SMOKER_CURRENT="Dist-Zilla-PluginBundle-Author-Plicease-2.25"
    PERL_EXTUTILS_AUTOINSTALL="--defaultdeps"
    PERL_MM_USE_DEFAULT="1"
    PERL_USE_UNSAFE_INC="1"
  @INC:
    /home/stro/perl/5.26.1t/lib/site_perl/5.26.1/i86pc-solaris-thread-multi
    /home/stro/perl/5.26.1t/lib/site_perl/5.26.1
    /home/stro/perl/5.26.1t/lib/5.26.1/i86pc-solaris-thread-multi
    /home/stro/perl/5.26.1t/lib/5.26.1
    .