Back
From: metabase:user:320bfe00-2aae-11df-837a-5e0a49663a4f
Subject: PASS Module-Metadata-1.000033 v5.22.2 GNU/Linux
Date: 2017-04-01T07:09:34Z
This distribution has been tested as part of the CPAN Testers
project, supporting the Perl programming language. See
http://wiki.cpantesters.org/ for more information or email
questions to cpan-testers-discuss@perl.org
--
Dear Karen Etheridge,
This is a computer-generated report for Module-Metadata-1.000033
on perl 5.22.2, created by CPAN-Reporter-1.2018.
Thank you for uploading your work to CPAN. Congratulations!
All tests were successful.
Sections of this report:
* Tester comments
* Program output
* Prerequisites
* Environment and other context
------------------------------
TESTER COMMENTS
------------------------------
Additional comments from tester:
this report is from an automated smoke testing program
and was not reviewed by a human for accuracy
------------------------------
PROGRAM OUTPUT
------------------------------
Output from '/usr/bin/make test':
PERL_DL_NONLAZY=1 "/home/sand/src/perl/repoperls/installed-perls/host/k93msid/v5.22.2/d2d1/bin/perl" "-MExtUtils::Command::MM" "-MTest::Harness" "-e" "undef *Test::Harness::Switches; test_harness(0, 'blib/lib', 'blib/arch')" t/*.t
#
# Versions for all modules listed in MYMETA.json (including optional ones):
#
# === Configure Requires ===
#
# Module Want Have
# ------------------- ---- ----
# ExtUtils::MakeMaker any 7.24
#
# === Build Requires ===
#
# Module Want Have
# ------------------- ---- ----
# ExtUtils::MakeMaker any 7.24
#
# === Test Requires ===
#
# Module Want Have
# ------------------- ---- --------
# Cwd any 3.62
# Exporter any 5.72
# ExtUtils::MakeMaker any 7.24
# File::Basename any 2.85
# File::Path any 2.09
# File::Spec any 3.62
# File::Temp any 0.2304
# IO::File any 1.16
# Test::More 0.82 1.302078
# base any 2.22
# lib any 0.63
#
# === Test Recommends ===
#
# Module Want Have
# ---------- -------- --------
# CPAN::Meta 2.120900 2.150010
#
# === Runtime Requires ===
#
# Module Want Have
# ---------- ---- ------
# Carp any 1.38
# Fcntl any 1.13
# File::Find any 1.29
# File::Spec any 3.62
# strict any 1.09
# version 0.87 0.9909
# warnings any 1.34
#
# === Other Modules ===
#
# Module Have
# ------------- ----
# Pod::Coverage 0.23
#
t/00-report-prereqs.t .. ok
t/contains_pod.t ....... ok
t/encoding.t ........... ok
t/endpod.t ............. ok
# Got: '_private'
# Module contents:
# package _private;
# $::VERSION = 0.01;
# $VERSION = '999';
# Got: '_private'
# Module contents:
# package _private;
# $VERSION = '999';
# $::VERSION = 0.01;
t/extract-package.t .... ok
# parsed module: bless( {
# 'collect_pod' => undef,
# 'filename' => '/tmp/MMD-sAObJJ1d/Simple51/Simple.pm',
# 'inc' => undef,
# 'module' => 'Simple',
# 'packages' => [
# 'Simple'
# ],
# 'pod' => {},
# 'pod_headings' => [],
# 'version' => bless( {
# 'original' => '0',
# 'version' => [
# 0
# ]
# }, 'version' ),
# 'versions' => {
# 'Simple' => $VAR1->{'version'}
# }
# }, 'Module::Metadata' )
# parsed module: bless( {
# 'collect_pod' => undef,
# 'filename' => '/tmp/MMD-sAObJJ1d/Simple52/Simple.pm',
# 'inc' => undef,
# 'module' => 'Simple',
# 'packages' => [
# 'main',
# 'Simple'
# ],
# 'pod' => {},
# 'pod_headings' => [],
# 'version' => bless( {
# 'original' => '0',
# 'version' => [
# 0
# ]
# }, 'version' ),
# 'versions' => {
# 'Simple' => $VAR1->{'version'},
# 'main' => ''
# }
# }, 'Module::Metadata' )
# parsed module: bless( {
# 'collect_pod' => undef,
# 'filename' => '/tmp/MMD-sAObJJ1d/Simple54/Simple.pm',
# 'inc' => undef,
# 'module' => undef,
# 'packages' => [
# 'main'
# ],
# 'pod' => {},
# 'pod_headings' => [],
# 'version' => undef,
# 'versions' => {
# 'main' => bless( {
# 'original' => '1.23',
# 'version' => [
# 1,
# 230
# ]
# }, 'version' )
# }
# }, 'Module::Metadata' )
# parsed module: bless( {
# 'collect_pod' => undef,
# 'filename' => '/tmp/MMD-sAObJJ1d/Simple55/Simple.pm',
# 'inc' => undef,
# 'module' => undef,
# 'packages' => [
# 'main'
# ],
# 'pod' => {},
# 'pod_headings' => [],
# 'version' => undef,
# 'versions' => {
# 'main' => bless( {
# 'original' => '1.23',
# 'version' => [
# 1,
# 230
# ]
# }, 'version' )
# }
# }, 'Module::Metadata' )
t/extract-version.t .... ok
t/metadata.t ........... ok
t/taint.t .............. ok
t/version.t ............ ok
All tests successful.
Files=9, Tests=348, 3 wallclock secs ( 0.07 usr 0.07 sys + 1.08 cusr 0.21 csys = 1.43 CPU)
Result: PASS
------------------------------
PREREQUISITES
------------------------------
Prerequisite modules loaded:
requires:
Module Need Have
------------------- ----- --------
Carp 0 1.38
Fcntl 0 1.13
File::Find 0 1.29
File::Spec 0 3.62
perl 5.006 5.022002
strict 0 1.09
version 0.87 0.9909
warnings 0 1.34
build_requires:
Module Need Have
------------------- ----- --------
base 0 2.22
Cwd 0 3.62
Exporter 0 5.72
ExtUtils::MakeMaker 0 7.24
File::Basename 0 2.85
File::Path 0 2.09
File::Spec 0 3.62
File::Temp 0 0.2304
IO::File 0 1.16
lib 0 0.63
Test::More 0.82 1.302078
configure_requires:
Module Need Have
------------------- ----- --------
ExtUtils::MakeMaker 0 7.24
perl 5.006 5.022002
------------------------------
ENVIRONMENT AND OTHER CONTEXT
------------------------------
Environment variables:
AUTOMATED_TESTING = 1
LANG = en_US.UTF-8
PATH = /home/sand/bin:/usr/local/bin:/usr/bin:/bin:/usr/games:/usr/local/perl/bin:/usr/X11/bin:/sbin:/usr/sbin
PERL5LIB =
PERL5OPT =
PERL5_CPANPLUS_IS_RUNNING = 26556
PERL5_CPAN_IS_RUNNING = 26556
PERL_CANARY_STABILITY_NOPROMPT = 1
PERL_MM_USE_DEFAULT = 1
PERL_USE_UNSAFE_INC = 1
SHELL = /usr/bin/zsh
TERM = screen
Perl special variables (and OS-specific diagnostics, for MSWin32):
$^X = /home/sand/src/perl/repoperls/installed-perls/host/k93msid/v5.22.2/d2d1/bin/perl
$UID/$EUID = 1005 / 1005
$GID = 1005 1005
$EGID = 1005 1005
Perl module toolchain versions installed:
Module Have
------------------- --------
CPAN 2.17
CPAN::Meta 2.150010
Cwd 3.62
ExtUtils::CBuilder 0.280224
ExtUtils::Command 7.24
ExtUtils::Install 2.04
ExtUtils::MakeMaker 7.24
ExtUtils::Manifest 1.70
ExtUtils::ParseXS 3.28
File::Spec 3.62
JSON 2.90
JSON::PP 2.27300
Module::Build 0.4220
Module::Signature 0.81
Parse::CPAN::Meta 2.150010
Test::Harness 3.38
Test::More 1.302078
YAML 1.23
YAML::Syck 1.29
version 0.9909
--
Summary of my perl5 (revision 5 version 22 subversion 2) configuration:
Derived from: 9cbffb38735712e3a34e6f537892b6ef06fb815f
Platform:
osname=linux, osvers=4.9.0-2-amd64, archname=x86_64-linux
uname='linux k93msid 4.9.0-2-amd64 #1 smp debian 4.9.13-1 (2017-02-27) x86_64 gnulinux '
config_args='-Dprefix=/home/sand/src/perl/repoperls/installed-perls/host/k93msid/v5.22.2/d2d1 -Dmyhostname=k93msid -Dinstallusrbinperl=n -Uversiononly -Dusedevel -des -Ui_db -Dlibswanted=cl pthread socket inet nsl gdbm dbm malloc dl ld sun m crypt sec util c cposix posix ucb BSD gdbm_compat -Uuseithreads -Uuselongdouble -DDEBUGGING=both'
hint=recommended, useposix=true, d_sigaction=define
useithreads=undef, usemultiplicity=undef
use64bitint=define, use64bitall=define, uselongdouble=undef
usemymalloc=n, bincompat5005=undef
Compiler:
cc='cc', ccflags ='-fwrapv -DDEBUGGING -fno-strict-aliasing -pipe -fstack-protector-strong -I/usr/local/include -D_LARGEFILE_SOURCE -D_FILE_OFFSET_BITS=64',
optimize='-O2 -g',
cppflags='-fwrapv -DDEBUGGING -fno-strict-aliasing -pipe -fstack-protector-strong -I/usr/local/include'
ccversion='', gccversion='6.3.0 20170316', gccosandvers=''
intsize=4, longsize=8, ptrsize=8, doublesize=8, byteorder=12345678, doublekind=3
d_longlong=define, longlongsize=8, d_longdbl=define, longdblsize=16, longdblkind=3
ivtype='long', ivsize=8, nvtype='double', nvsize=8, Off_t='off_t', lseeksize=8
alignbytes=8, prototype=define
Linker and Libraries:
ld='cc', ldflags =' -fstack-protector-strong -L/usr/local/lib'
libpth=/usr/local/lib /usr/lib/gcc/x86_64-linux-gnu/6/include-fixed /usr/include/x86_64-linux-gnu /usr/lib /lib/x86_64-linux-gnu /lib/../lib /usr/lib/x86_64-linux-gnu /usr/lib/../lib /lib
libs=-lpthread -lnsl -ldl -lm -lcrypt -lutil -lc
perllibs=-lpthread -lnsl -ldl -lm -lcrypt -lutil -lc
libc=libc-2.24.so, so=so, useshrplib=false, libperl=libperl.a
gnulibc_version='2.24'
Dynamic Linking:
dlsrc=dl_dlopen.xs, dlext=so, d_dlsymun=undef, ccdlflags='-Wl,-E'
cccdlflags='-fPIC', lddlflags='-shared -O2 -g -L/usr/local/lib -fstack-protector-strong'
Characteristics of this binary (from libperl):
Compile-time options: DEBUGGING HAS_TIMES PERLIO_LAYERS
PERL_DONT_CREATE_GVSV
PERL_HASH_FUNC_ONE_AT_A_TIME_HARD PERL_MALLOC_WRAP
PERL_NEW_COPY_ON_WRITE PERL_PRESERVE_IVUV
PERL_USE_DEVEL USE_64_BIT_ALL USE_64_BIT_INT
USE_LARGE_FILES USE_LOCALE USE_LOCALE_COLLATE
USE_LOCALE_CTYPE USE_LOCALE_NUMERIC USE_LOCALE_TIME
USE_PERLIO USE_PERL_ATOF
Locally applied patches:
uncommitted-changes
Built under linux
Compiled at Mar 19 2017 09:54:56
%ENV:
PERL5LIB=""
PERL5OPT=""
PERL5_CPANPLUS_IS_RUNNING="26556"
PERL5_CPAN_IS_RUNNING="26556"
PERL_CANARY_STABILITY_NOPROMPT="1"
PERL_MM_USE_DEFAULT="1"
PERL_USE_UNSAFE_INC="1"
@INC:
/home/sand/src/perl/repoperls/installed-perls/host/k93msid/v5.22.2/d2d1/lib/site_perl/5.22.2/x86_64-linux
/home/sand/src/perl/repoperls/installed-perls/host/k93msid/v5.22.2/d2d1/lib/site_perl/5.22.2
/home/sand/src/perl/repoperls/installed-perls/host/k93msid/v5.22.2/d2d1/lib/5.22.2/x86_64-linux
/home/sand/src/perl/repoperls/installed-perls/host/k93msid/v5.22.2/d2d1/lib/5.22.2
.