Report for Soar-Production-0.03

Back
From: metabase:user:00e8548a-0e72-11e3-8ee3-df0a9c418065
Subject: PASS Soar-Production-0.03 v5.16.3 GNU/Linux
Date: 2013-08-30T12:24:48Z

This distribution has been tested as part of the CPAN Testers
project, supporting the Perl programming language.  See
http://wiki.cpantesters.org/ for more information or email
questions to cpan-testers-discuss@perl.org


--
Dear Nathan Gary Glenn,

This is a computer-generated report for Soar-Production-0.03
on perl 5.16.3, created by CPAN-Reporter-1.2010.

Thank you for uploading your work to CPAN.  Congratulations!
All tests were successful.

Sections of this report:

    * Tester comments
    * Program output
    * Prerequisites
    * Environment and other context

------------------------------
TESTER COMMENTS
------------------------------

Additional comments from tester:

this report is from an automated smoke testing program
and was not reviewed by a human for accuracy

------------------------------
PROGRAM OUTPUT
------------------------------

Output from './Build test':

t/0-use.t ........................ ok
t/00-compile.t ................... ok
# 
# 
# Generated by Dist::Zilla::Plugin::ReportVersions::Tiny v1.08
# perl: 5.016003 (wanted 5.010) on linux from /root/perl5/perlbrew/perls/perl-5.16.3/bin/perl
# 
# Carp                                          => 1.26       (want any version)
# Data::Diver                                   => 1.0101     (want any version)
# Data::Dumper                                  => 2.145      (want any version)
# Exporter::Easy                                => 0.16       (want any version)
# File::Find                                    => 1.20       (want any version)
# File::Spec                                    => 3.40       (want any version)
# File::Spec::Functions                         => 3.40       (want any version)
# File::Temp                                    => 0.2301     (want any version)
# FindBin                                       => 1.51       (want any version)
# Module::Build                                 => 0.4007     (want 0.3601) 
# Parse::RecDescent                             => 1.967009   (want any version)
# Path::Tiny                                    => 0.031      (want any version)
# Pod::Coverage::TrustPod                       => module not found. (want any version)
# Test::Base                                    => 0.60       (want any version)
# Test::Base::Filter                            => <undef>    (want any version)
# Test::CPAN::Meta                              => module not found. (want any version)
# Test::Deep                                    => 0.11       (want any version)
# Test::Exception                               => 0.32       (want any version)
# Test::LongString                              => 0.15       (want any version)
# Test::More                                    => 0.98       (want 0.88)   
# Test::Pod                                     => 1.48       (want 1.41)   
# Test::Pod::Coverage                           => module not found. (want 1.08)   
# Test::Warn                                    => 0.24       (want any version)
# strict                                        => 1.07       (want any version)
# utf8                                          => 1.09       (want any version)
# version                                       => 0.99       (want 0.9901) 
# warnings                                      => 1.13       (want any version)
# 
# Thanks for using my code.  I hope it works for you.
# If not, please try and include this output in the bug report.
# That will help me reproduce the issue and solve your problem.
# 
t/000-report-versions-tiny.t ..... ok
t/1-basic.t ...................... ok
t/parser/00-use.t ................ ok
t/parser/01-bad_input.t .......... ok
t/parser/01_5-comments.t ......... ok
t/parser/02-split-productions.t .. ok
Subroutine main::is redefined at t/parser/03-production-names.t line 4.
t/parser/03-production-names.t ... ok
Subroutine main::is redefined at t/parser/04-documentation.t line 5.
t/parser/04-documentation.t ...... ok
Subroutine main::is redefined at t/parser/05-Flags.t line 5.
t/parser/05-Flags.t .............. ok
Subroutine main::is redefined at t/parser/06-State.t line 6.
t/parser/06-State.t .............. ok
Subroutine main::is redefined at t/parser/07-variables.t line 6.
t/parser/07-variables.t .......... ok
Subroutine main::is redefined at t/parser/08-attributes.t line 6.
t/parser/08-attributes.t ......... ok
Subroutine main::is redefined at t/parser/09-int.t line 6.
t/parser/09-int.t ................ ok
Subroutine main::is redefined at t/parser/10-float.t line 6.
t/parser/10-float.t .............. ok
Subroutine main::is redefined at t/parser/11-string.t line 5.
t/parser/11-string.t ............. ok
Subroutine main::is redefined at t/parser/12-quoted.t line 5.
t/parser/12-quoted.t ............. ok
Subroutine main::is redefined at t/parser/13-disjunct.t line 5.
t/parser/13-disjunct.t ........... ok
Subroutine main::is redefined at t/parser/14-conjunct.t line 5.
t/parser/14-conjunct.t ........... ok
Subroutine main::is redefined at t/parser/15-predicate.t line 5.
t/parser/15-predicate.t .......... ok
Subroutine main::is redefined at t/parser/16-preference.t line 6.
t/parser/16-preference.t ......... ok
Subroutine main::is redefined at t/parser/17-function.t line 5.
t/parser/17-function.t ........... ok
Subroutine main::is redefined at t/parser/18-negative.t line 5.
t/parser/18-negative.t ........... ok
Subroutine main::is redefined at t/parser/19-conjunctiveCond.t line 5.
t/parser/19-conjunctiveCond.t .... ok
t/parser/20-test_data.t .......... ok
t/printer/0-use.t ................ ok
t/printer/1-test_data.t .......... ok
All tests successful.
Files=28, Tests=1816, 110 wallclock secs ( 0.10 usr  0.12 sys + 40.83 cusr  4.01 csys = 45.06 CPU)
Result: PASS

------------------------------
PREREQUISITES
------------------------------

Prerequisite modules loaded:

requires:

    Module                Need   Have    
    --------------------- ------ --------
    Carp                  0      1.26    
    Data::Dumper          0      2.145   
    Exporter::Easy        0      0.16    
    Parse::RecDescent     0      1.967009
    perl                  5.010  5.016003
    strict                0      1.07    
    warnings              0      1.13    

build_requires:

    Module                Need   Have    
    --------------------- ------ --------
    Data::Diver           0      1.0101  
    File::Find            0      1.20    
    File::Spec            0      3.40    
    File::Spec::Functions 0      3.40    
    File::Temp            0      0.2301  
    FindBin               0      1.51    
    Module::Build         0.3601 0.4007  
    Path::Tiny            0      0.031   
    Test::Base            0      0.60    
    Test::Base::Filter    0      0       
    Test::Deep            0      0.110   
    Test::Exception       0      0.32    
    Test::LongString      0      0.15    
    Test::More            0.88   0.98    
    Test::Warn            0      0.24    
    utf8                  0      1.09    

configure_requires:

    Module                Need   Have    
    --------------------- ------ --------
    Module::Build         0.3601 0.4007  


------------------------------
ENVIRONMENT AND OTHER CONTEXT
------------------------------

Environment variables:

    AUTOMATED_TESTING = 1
    LANG = en_US.UTF-8
    PATH = /root/perl5/perlbrew/bin:/root/perl5/perlbrew/perls/perl-5.16.3/bin:/usr/kerberos/sbin:/usr/kerberos/bin:/usr/local/sbin:/usr/local/bin:/sbin:/bin:/usr/sbin:/usr/bin:/usr/X11R6/bin:/root/bin
    PERL5LIB = /root/.cpan/build/Exporter-Easy-0.16-LfxZwE/blib/arch:/root/.cpan/build/Exporter-Easy-0.16-LfxZwE/blib/lib:/root/.cpan/build/Test-Base-0.60-eNCYaR/blib/arch:/root/.cpan/build/Test-Base-0.60-eNCYaR/blib/lib:/root/.cpan/build/Spiffy-0.31-Pe3bKF/blib/arch:/root/.cpan/build/Spiffy-0.31-Pe3bKF/blib/lib
    PERL5OPT = 
    PERL5_CPANPLUS_IS_RUNNING = 8860
    PERL5_CPAN_IS_RUNNING = 8860
    PERL5_CPAN_IS_RUNNING_IN_RECURSION = 5259,8860
    PERLBREW_BASHRC_VERSION = 0.66
    PERLBREW_HOME = /root/.perlbrew
    PERLBREW_MANPATH = /root/perl5/perlbrew/perls/perl-5.16.3/man
    PERLBREW_PATH = /root/perl5/perlbrew/bin:/root/perl5/perlbrew/perls/perl-5.16.3/bin
    PERLBREW_PERL = perl-5.16.3
    PERLBREW_ROOT = /root/perl5/perlbrew
    PERLBREW_VERSION = 0.66
    PERL_CR_SMOKER_CURRENT = Soar-Production-0.03
    PERL_EXTUTILS_AUTOINSTALL = --defaultdeps
    PERL_MM_USE_DEFAULT = 1
    SHELL = /bin/bash
    TERM = xterm

Perl special variables (and OS-specific diagnostics, for MSWin32):

    $^X = /root/perl5/perlbrew/perls/perl-5.16.3/bin/perl
    $UID/$EUID = 0 / 0
    $GID = 0 0 1 2 3 4 6 10
    $EGID = 0 0 1 2 3 4 6 10

Perl module toolchain versions installed:

    Module              Have    
    ------------------- --------
    CPAN                2.00    
    CPAN::Meta          2.132140
    Cwd                 3.40    
    ExtUtils::CBuilder  0.280206
    ExtUtils::Command   1.17    
    ExtUtils::Install   1.58    
    ExtUtils::MakeMaker 6.74    
    ExtUtils::Manifest  1.61    
    ExtUtils::ParseXS   3.21    
    File::Spec          3.40    
    JSON                2.59    
    JSON::PP            2.27202 
    Module::Build       0.4007  
    Module::Signature   n/a     
    Parse::CPAN::Meta   1.4405  
    Test::Harness       3.28    
    Test::More          0.98    
    YAML                0.84    
    YAML::Syck          1.27    
    version             0.99    


--

Summary of my perl5 (revision 5 version 16 subversion 3) configuration:
   
  Platform:
    osname=linux, osvers=2.6.18-348.16.1.el5, archname=x86_64-linux
    uname='linux localhost.localdomain 2.6.18-348.16.1.el5 #1 smp wed aug 21 04:00:25 edt 2013 x86_64 x86_64 x86_64 gnulinux '
    config_args='-de -Dprefix=/root/perl5/perlbrew/perls/perl-5.16.3 -Aeval:scriptdir=/root/perl5/perlbrew/perls/perl-5.16.3/bin'
    hint=recommended, useposix=true, d_sigaction=define
    useithreads=undef, usemultiplicity=undef
    useperlio=define, d_sfio=undef, uselargefiles=define, usesocks=undef
    use64bitint=define, use64bitall=define, uselongdouble=undef
    usemymalloc=n, bincompat5005=undef
  Compiler:
    cc='cc', ccflags ='-fno-strict-aliasing -pipe -fstack-protector -I/usr/local/include -D_LARGEFILE_SOURCE -D_FILE_OFFSET_BITS=64',
    optimize='-O2',
    cppflags='-fno-strict-aliasing -pipe -fstack-protector -I/usr/local/include'
    ccversion='', gccversion='4.1.2 20080704 (Red Hat 4.1.2-54)', gccosandvers=''
    intsize=4, longsize=8, ptrsize=8, doublesize=8, byteorder=12345678
    d_longlong=define, longlongsize=8, d_longdbl=define, longdblsize=16
    ivtype='long', ivsize=8, nvtype='double', nvsize=8, Off_t='off_t', lseeksize=8
    alignbytes=8, prototype=define
  Linker and Libraries:
    ld='cc', ldflags =' -fstack-protector -L/usr/local/lib'
    libpth=/usr/local/lib /lib /usr/lib /lib64 /usr/lib64 /usr/local/lib64
    libs=-lnsl -ldl -lm -lcrypt -lutil -lc
    perllibs=-lnsl -ldl -lm -lcrypt -lutil -lc
    libc=/lib/libc-2.5.so, so=so, useshrplib=false, libperl=libperl.a
    gnulibc_version='2.5'
  Dynamic Linking:
    dlsrc=dl_dlopen.xs, dlext=so, d_dlsymun=undef, ccdlflags='-Wl,-E'
    cccdlflags='-fPIC', lddlflags='-shared -O2 -L/usr/local/lib -fstack-protector'


Characteristics of this binary (from libperl): 
  Compile-time options: HAS_TIMES PERLIO_LAYERS PERL_DONT_CREATE_GVSV
                        PERL_MALLOC_WRAP PERL_PRESERVE_IVUV USE_64_BIT_ALL
                        USE_64_BIT_INT USE_LARGE_FILES USE_LOCALE
                        USE_LOCALE_COLLATE USE_LOCALE_CTYPE
                        USE_LOCALE_NUMERIC USE_PERLIO USE_PERL_ATOF
  Built under linux
  Compiled at Aug 26 2013 11:51:42
  %ENV:
    PERL5LIB="/root/.cpan/build/Exporter-Easy-0.16-LfxZwE/blib/arch:/root/.cpan/build/Exporter-Easy-0.16-LfxZwE/blib/lib:/root/.cpan/build/Test-Base-0.60-eNCYaR/blib/arch:/root/.cpan/build/Test-Base-0.60-eNCYaR/blib/lib:/root/.cpan/build/Spiffy-0.31-Pe3bKF/blib/arch:/root/.cpan/build/Spiffy-0.31-Pe3bKF/blib/lib"
    PERL5OPT=""
    PERL5_CPANPLUS_IS_RUNNING="8860"
    PERL5_CPAN_IS_RUNNING="8860"
    PERL5_CPAN_IS_RUNNING_IN_RECURSION="5259,8860"
    PERLBREW_BASHRC_VERSION="0.66"
    PERLBREW_HOME="/root/.perlbrew"
    PERLBREW_MANPATH="/root/perl5/perlbrew/perls/perl-5.16.3/man"
    PERLBREW_PATH="/root/perl5/perlbrew/bin:/root/perl5/perlbrew/perls/perl-5.16.3/bin"
    PERLBREW_PERL="perl-5.16.3"
    PERLBREW_ROOT="/root/perl5/perlbrew"
    PERLBREW_VERSION="0.66"
    PERL_CR_SMOKER_CURRENT="Soar-Production-0.03"
    PERL_EXTUTILS_AUTOINSTALL="--defaultdeps"
    PERL_MM_USE_DEFAULT="1"
  @INC:
    /root/.cpan/build/Exporter-Easy-0.16-LfxZwE/blib/arch
    /root/.cpan/build/Exporter-Easy-0.16-LfxZwE/blib/lib
    /root/.cpan/build/Test-Base-0.60-eNCYaR/blib/arch
    /root/.cpan/build/Test-Base-0.60-eNCYaR/blib/lib
    /root/.cpan/build/Spiffy-0.31-Pe3bKF/blib/arch
    /root/.cpan/build/Spiffy-0.31-Pe3bKF/blib/lib
    /root/perl5/perlbrew/perls/perl-5.16.3/lib/site_perl/5.16.3/x86_64-linux
    /root/perl5/perlbrew/perls/perl-5.16.3/lib/site_perl/5.16.3
    /root/perl5/perlbrew/perls/perl-5.16.3/lib/5.16.3/x86_64-linux
    /root/perl5/perlbrew/perls/perl-5.16.3/lib/5.16.3
    .