MaxMind-DB-Writer v0.300000 Perl 5 v5.24.3 x86_64-linux

Status
Pass
From
Slaven Rezić (SREZIC)
Dist
MaxMind-DB-Writer v0.300000
Platform
Perl 5 v5.24.3 x86_64-linux
Date
2017-11-10 23:09:10
ID
291dd0a4-c66c-11e7-9e99-eccd56f210af
This distribution has been tested as part of the CPAN Testers
project, supporting the Perl programming language.  See
http://wiki.cpantesters.org/ for more information or email
questions to cpan-testers-discuss@perl.org


--
Dear MaxMind, Inc.,

This is a computer-generated report for MaxMind-DB-Writer-0.300000
on perl 5.24.3, created by CPAN-Reporter-1.2018.

Thank you for uploading your work to CPAN.  Congratulations!
All tests were successful.

Sections of this report:

    * Tester comments
    * Program output
    * Prerequisites
    * Environment and other context

------------------------------
TESTER COMMENTS
------------------------------

Additional comments from tester:

none provided

------------------------------
PROGRAM OUTPUT
------------------------------

Output from './Build test':

# 
# Versions for all modules listed in MYMETA.json (including optional ones):
# 
# === Configure Requires ===
# 
#     Module        Want   Have
#     ------------- ---- ------
#     Module::Build 0.28 0.4224
# 
# === Build Requires ===
# 
#     Module             Want     Have
#     ------------------ ---- --------
#     ExtUtils::CBuilder  any 0.280226
#     Module::Build      0.28   0.4224
# 
# === Test Requires ===
# 
#     Module                          Want     Have
#     ------------------------------- ---- --------
#     Data::Printer                    any     0.40
#     Devel::Refcount                  any     0.10
#     ExtUtils::MakeMaker              any     7.30
#     File::Spec                       any  3.63_01
#     File::Temp                       any   0.2304
#     JSON                             any     2.94
#     List::AllUtils                   any     0.14
#     List::Util                       any     1.49
#     MaxMind::DB::Reader              any 1.000013
#     Net::Works::Address              any     0.22
#     Scalar::Util                     any     1.49
#     Test::Bits                       any     0.02
#     Test::Builder                    any 1.302106
#     Test::Fatal                      any    0.014
#     Test::HexDifferences             any    1.001
#     Test::MaxMind::DB::Common::Data  any 0.040001
#     Test::More                      0.96 1.302106
#     Test::Requires                   any     0.10
#     Test::Warnings                   any    0.026
#     lib                              any     0.63
#     utf8                             any     1.19
# 
# === Test Recommends ===
# 
#     Module         Want     Have
#     ---------- -------- --------
#     CPAN::Meta 2.120900 2.150010
# 
# === Runtime Requires ===
# 
#     Module                           Want     Have
#     ---------------------------- -------- --------
#     Carp                              any     1.40
#     Data::Dumper::Concise             any    2.023
#     Data::IEEE754                     any     0.02
#     Digest::MD5                       any     2.54
#     Digest::SHA1                      any     2.13
#     Encode                            any     2.93
#     Exporter                          any     5.72
#     IO::Handle                        any     1.36
#     Math::Int128                     0.21     0.22
#     Math::Int64                      0.51     0.54
#     MaxMind::DB::Common          0.031003 0.040001
#     MaxMind::DB::Metadata             any 0.040001
#     MaxMind::DB::Reader::Decoder      any 1.000013
#     MaxMind::DB::Role::Debugs         any 0.040001
#     Moose                             any   2.2006
#     Moose::Util::TypeConstraints      any   2.2006
#     MooseX::Params::Validate          any     0.21
#     MooseX::StrictConstructor         any     0.21
#     Net::Works::Network               any     0.22
#     Sereal::Decoder                   any    3.015
#     Sereal::Encoder                 3.002    3.015
#     Test::Deep::NoTest                any    undef
#     XSLoader                          any     0.22
#     autodie                           any     2.29
#     bytes                             any     1.05
#     constant                          any     1.33
#     namespace::autoclean              any     0.28
#     strict                            any     1.11
#     warnings                          any     1.36
# 
t/00-report-prereqs.t ...................................... ok
t/MaxMind/DB/Writer/Serializer-deduplication.t ............. ok
t/MaxMind/DB/Writer/Serializer-large-pointer.t ............. ok
t/MaxMind/DB/Writer/Serializer-types/array.t ............... ok
t/MaxMind/DB/Writer/Serializer-types/boolean.t ............. ok
t/MaxMind/DB/Writer/Serializer-types/bytes.t ............... ok
t/MaxMind/DB/Writer/Serializer-types/double.t .............. ok
t/MaxMind/DB/Writer/Serializer-types/end_marker.t .......... ok
t/MaxMind/DB/Writer/Serializer-types/float.t ............... ok
t/MaxMind/DB/Writer/Serializer-types/int32.t ............... ok
t/MaxMind/DB/Writer/Serializer-types/map.t ................. ok
t/MaxMind/DB/Writer/Serializer-types/pointer.t ............. ok
t/MaxMind/DB/Writer/Serializer-types/uint128.t ............. ok
t/MaxMind/DB/Writer/Serializer-types/uint16.t .............. ok
t/MaxMind/DB/Writer/Serializer-types/uint32.t .............. ok
t/MaxMind/DB/Writer/Serializer-types/uint64.t .............. ok
t/MaxMind/DB/Writer/Serializer-types/utf8_string.t ......... ok
t/MaxMind/DB/Writer/Serializer-utf8-as-bytes.t ............. ok
t/MaxMind/DB/Writer/Serializer-utf8-round-trip.t ........... ok
t/MaxMind/DB/Writer/Serializer.t ........................... ok
t/MaxMind/DB/Writer/Tree-bigint.t .......................... ok
t/MaxMind/DB/Writer/Tree-data-references.t ................. ok
t/MaxMind/DB/Writer/Tree-freeze-thaw.t ..................... ok
t/MaxMind/DB/Writer/Tree-insert-range.t .................... ok
t/MaxMind/DB/Writer/Tree-ipv4-and-6.t ...................... ok
t/MaxMind/DB/Writer/Tree-ipv6-aliases.t .................... ok
t/MaxMind/DB/Writer/Tree-iterator-large-dataset.t .......... ok
t/MaxMind/DB/Writer/Tree-iterator.t ........................ ok
t/MaxMind/DB/Writer/Tree-output/0-0-0-0.t .................. ok
t/MaxMind/DB/Writer/Tree-output/basic.t .................... ok
t/MaxMind/DB/Writer/Tree-output/freeze-thaw-record-size.t .. ok
t/MaxMind/DB/Writer/Tree-output/freeze-then-write-bug.t .... ok
t/MaxMind/DB/Writer/Tree-output/ipv6-aliases.t ............. ok
t/MaxMind/DB/Writer/Tree-output/record-deduplication.t ..... ok
t/MaxMind/DB/Writer/Tree-output/utf8-data.t ................ ok
t/MaxMind/DB/Writer/Tree-record-collisions.t ............... ok
t/MaxMind/DB/Writer/Tree-thaw-merge.t ...................... ok
t/MaxMind/DB/Writer/Tree.t ................................. ok
t/MaxMind/DB/Writer/Util.t ................................. ok
All tests successful.
Files=39, Tests=458, 17 wallclock secs ( 0.17 usr  0.42 sys + 14.60 cusr  1.80 csys = 16.99 CPU)
Result: PASS

------------------------------
PREREQUISITES
------------------------------

Prerequisite modules loaded:

requires:

    Module                          Need     Have    
    ------------------------------- -------- --------
    autodie                         0        2.29    
    bytes                           0        1.05    
    Carp                            0        1.40    
    constant                        0        1.33    
    Data::Dumper::Concise           0        2.023   
    Data::IEEE754                   0        0.02    
    Digest::MD5                     0        2.54    
    Digest::SHA1                    0        2.13    
    Encode                          0        2.93    
    Exporter                        0        5.72    
    IO::Handle                      0        1.36    
    Math::Int128                    0.21     0.22    
    Math::Int64                     0.51     0.54    
    MaxMind::DB::Common             0.031003 0.040001
    MaxMind::DB::Metadata           0        0.040001
    MaxMind::DB::Reader::Decoder    0        1.000013
    MaxMind::DB::Role::Debugs       0        0.040001
    Moose                           0        2.2006  
    Moose::Util::TypeConstraints    0        2.2006  
    MooseX::Params::Validate        0        0.21    
    MooseX::StrictConstructor       0        0.21    
    namespace::autoclean            0        0.28    
    Net::Works::Network             0        0.22    
    perl                            5.013002 5.024003
    Sereal::Decoder                 0        3.015   
    Sereal::Encoder                 3.002    3.015   
    strict                          0        1.11    
    Test::Deep::NoTest              0        0       
    warnings                        0        1.36    
    XSLoader                        0        0.22    

build_requires:

    Module                          Need     Have    
    ------------------------------- -------- --------
    Data::Printer                   0        0.40    
    Devel::Refcount                 0        0.10    
    ExtUtils::CBuilder              0        0.280226
    ExtUtils::MakeMaker             0        7.30    
    File::Spec                      0        3.63_01 
    File::Temp                      0        0.2304  
    JSON                            0        2.94    
    lib                             0        0.63    
    List::AllUtils                  0        0.14    
    List::Util                      0        1.49    
    MaxMind::DB::Reader             0        1.000013
    Module::Build                   0.28     0.4224  
    Net::Works::Address             0        0.22    
    Scalar::Util                    0        1.49    
    Test::Bits                      0        0.02    
    Test::Builder                   0        1.302106
    Test::Fatal                     0        0.014   
    Test::HexDifferences            0        1.001   
    Test::MaxMind::DB::Common::Data 0        0.040001
    Test::More                      0.96     1.302106
    Test::Requires                  0        0.10    
    Test::Warnings                  0        0.026   
    utf8                            0        1.19    

configure_requires:

    Module                          Need     Have    
    ------------------------------- -------- --------
    Module::Build                   0.28     0.4224  


------------------------------
ENVIRONMENT AND OTHER CONTEXT
------------------------------

Environment variables:

    LANG = C
    PATH = /usr/local/bin:/usr/bin:/bin:/usr/local/sbin:/usr/sbin:/sbin:/home/cpansand/bin/linux-gnu:/home/cpansand/bin/sh:/home/cpansand/bin:/usr/games:/home/cpansand/devel:/home/eserte/src/srezic-misc/scripts
    PERL5LIB = 
    PERL5OPT = 
    PERL5_CPANPLUS_IS_RUNNING = 29511
    PERL5_CPAN_IS_RUNNING = 29511
    PERL5_CPAN_IS_RUNNING_IN_RECURSION = 29415,29511
    PERLDOC = -MPod::Perldoc::ToTextOverstrike
    PERL_BATCH = yes
    PERL_CANARY_STABILITY_NOPROMPT = 1
    PERL_CPAN_REPORTER_CONFIG = /var/tmp/cpansmoker-1023/2017111021/cpanreporter_000_config.ini
    PERL_EXTUTILS_AUTOINSTALL = --defaultdeps
    PERL_USE_UNSAFE_INC = 1
    SHELL = /usr/bin/zsh
    TERM = screen
    TMPDIR = /var/tmp/cpansmoker-1023/2017111021

Perl special variables (and OS-specific diagnostics, for MSWin32):

    $^X = /opt/perl-5.24.3/bin/perl5.24.3
    $UID/$EUID = 1023 / 1023
    $GID = 1023 1023
    $EGID = 1023 1023

Perl module toolchain versions installed:

    Module              Have    
    ------------------- --------
    CPAN                2.16    
    CPAN::Meta          2.150010
    Cwd                 3.63_01 
    ExtUtils::CBuilder  0.280226
    ExtUtils::Command   7.30    
    ExtUtils::Install   2.06    
    ExtUtils::MakeMaker 7.30    
    ExtUtils::Manifest  1.70    
    ExtUtils::ParseXS   3.31    
    File::Spec          3.63_01 
    JSON                2.94    
    JSON::PP            2.94    
    Module::Build       0.4224  
    Module::Signature   0.81    
    Parse::CPAN::Meta   2.150010
    Test::Harness       3.39    
    Test::More          1.302106
    YAML                1.24    
    YAML::Syck          1.30    
    version             0.9916  


--

Summary of my perl5 (revision 5 version 24 subversion 3) configuration:
   
  Platform:
    osname=linux, osvers=4.9.0-3-amd64, archname=x86_64-linux
    uname='linux debian9 4.9.0-3-amd64 #1 smp debian 4.9.30-2+deb9u5 (2017-09-19) x86_64 gnulinux '
    config_args='-ds -e -Dprefix=/opt/perl-5.24.3 -Dcf_email=srezic@cpan.org'
    hint=recommended, useposix=true, d_sigaction=define
    useithreads=undef, usemultiplicity=undef
    use64bitint=define, use64bitall=define, uselongdouble=undef
    usemymalloc=n, bincompat5005=undef
  Compiler:
    cc='cc', ccflags ='-fwrapv -fno-strict-aliasing -pipe -fstack-protector-strong -I/usr/local/include -D_LARGEFILE_SOURCE -D_FILE_OFFSET_BITS=64 -D_FORTIFY_SOURCE=2',
    optimize='-O2',
    cppflags='-fwrapv -fno-strict-aliasing -pipe -fstack-protector-strong -I/usr/local/include'
    ccversion='', gccversion='6.3.0 20170516', gccosandvers=''
    intsize=4, longsize=8, ptrsize=8, doublesize=8, byteorder=12345678, doublekind=3
    d_longlong=define, longlongsize=8, d_longdbl=define, longdblsize=16, longdblkind=3
    ivtype='long', ivsize=8, nvtype='double', nvsize=8, Off_t='off_t', lseeksize=8
    alignbytes=8, prototype=define
  Linker and Libraries:
    ld='cc', ldflags =' -fstack-protector-strong -L/usr/local/lib'
    libpth=/usr/local/lib /usr/lib/gcc/x86_64-linux-gnu/6/include-fixed /usr/include/x86_64-linux-gnu /usr/lib /lib/x86_64-linux-gnu /lib/../lib /usr/lib/x86_64-linux-gnu /usr/lib/../lib /lib
    libs=-lpthread -lnsl -lgdbm -ldb -ldl -lm -lcrypt -lutil -lc -lgdbm_compat
    perllibs=-lpthread -lnsl -ldl -lm -lcrypt -lutil -lc
    libc=libc-2.24.so, so=so, useshrplib=false, libperl=libperl.a
    gnulibc_version='2.24'
  Dynamic Linking:
    dlsrc=dl_dlopen.xs, dlext=so, d_dlsymun=undef, ccdlflags='-Wl,-E'
    cccdlflags='-fPIC', lddlflags='-shared -O2 -L/usr/local/lib -fstack-protector-strong'


Characteristics of this binary (from libperl): 
  Compile-time options: HAS_TIMES PERLIO_LAYERS PERL_COPY_ON_WRITE
                        PERL_DONT_CREATE_GVSV
                        PERL_HASH_FUNC_ONE_AT_A_TIME_HARD PERL_MALLOC_WRAP
                        PERL_PRESERVE_IVUV USE_64_BIT_ALL USE_64_BIT_INT
                        USE_LARGE_FILES USE_LOCALE USE_LOCALE_COLLATE
                        USE_LOCALE_CTYPE USE_LOCALE_NUMERIC USE_LOCALE_TIME
                        USE_PERLIO USE_PERL_ATOF
  Built under linux
  Compiled at Nov  4 2017 07:45:02
  %ENV:
    PERL5LIB=""
    PERL5OPT=""
    PERL5_CPANPLUS_IS_RUNNING="29511"
    PERL5_CPAN_IS_RUNNING="29511"
    PERL5_CPAN_IS_RUNNING_IN_RECURSION="29415,29511"
    PERLDOC="-MPod::Perldoc::ToTextOverstrike"
    PERL_BATCH="yes"
    PERL_CANARY_STABILITY_NOPROMPT="1"
    PERL_CPAN_REPORTER_CONFIG="/var/tmp/cpansmoker-1023/2017111021/cpanreporter_000_config.ini"
    PERL_EXTUTILS_AUTOINSTALL="--defaultdeps"
    PERL_USE_UNSAFE_INC="1"
  @INC:
    /opt/perl-5.24.3/lib/site_perl/5.24.3/x86_64-linux
    /opt/perl-5.24.3/lib/site_perl/5.24.3
    /opt/perl-5.24.3/lib/5.24.3/x86_64-linux
    /opt/perl-5.24.3/lib/5.24.3
    .