Perl-Critic v1.148 Perl 5 v5.37.9 x86_64-dragonfly-thread-multi

Status
Pass
From
Carlos Guevara
Dist
Perl-Critic v1.148
Platform
Perl 5 v5.37.9 x86_64-dragonfly-thread-multi
Date
2023-02-02 13:11:52
ID
291de1b8-a2fb-11ed-a04b-c2a2b0f121e2
This distribution has been tested as part of the CPAN Testers
project, supporting the Perl programming language.  See
http://wiki.cpantesters.org/ for more information or email
questions to cpan-testers-discuss@perl.org


--
Dear Andy Lester,

This is a computer-generated report for Perl-Critic-1.148
on perl 5.37.9, created by CPAN-Reporter-1.2018.

Thank you for uploading your work to CPAN.  Congratulations!
All tests were successful.

Sections of this report:

    * Tester comments
    * Program output
    * Prerequisites
    * Environment and other context

------------------------------
TESTER COMMENTS
------------------------------

Additional comments from tester:

this report is from an automated smoke testing program
and was not reviewed by a human for accuracy

------------------------------
PROGRAM OUTPUT
------------------------------

Output from './Build test':

# Testing Perl::Critic 1.148 with PPI 1.276 under Perl 5.037009, /home/cpan/bin/perl-blead/bin/perl5.37.9
t/00_modules.t ................................ ok
t/00_versions.t ............................... ok
t/01_config.t ................................. ok
t/01_config_bad_perlcriticrc.t ................ ok
t/01_policy_config.t .......................... ok
t/02_policy.t ................................. ok
t/03_annotations.t ............................ ok
t/03_pragmas.t ................................ ok
t/04_options_processor.t ...................... ok
t/05_utils.t .................................. ok
t/05_utils_perl.t ............................. ok
t/05_utils_pod.t .............................. ok
t/05_utils_ppi.t .............................. ok
t/06_violation.t .............................. ok
t/07_command.t ................................ ok
t/07_perlcritic.t ............................. ok
t/08_document.t ............................... ok
t/09_theme.t .................................. ok
t/10_user_profile.t ........................... ok
t/11_policy_factory.t ......................... ok
t/12_policy_listing.t ......................... ok
t/12_theme_listing.t .......................... ok
t/13_bundled_policies.t ....................... ok
t/14_policy_parameter_behavior_boolean.t ...... ok
t/14_policy_parameter_behavior_enumeration.t .. ok
t/14_policy_parameter_behavior_integer.t ...... ok
t/14_policy_parameter_behavior_list_string.t .. ok
t/14_policy_parameter_behavior_string.t ....... ok
t/14_policy_parameters.t ...................... ok
t/15_statistics.t ............................. ok
t/16_roundtrip_defaults.t ..................... ok
t/20_policies.t ............................... ok
t/20_policy_pod_spelling.t .................... ok
t/20_policy_prohibit_evil_modules.t ........... ok
t/20_policy_prohibit_hard_tabs.t .............. ok
t/20_policy_prohibit_trailing_whitespace.t .... ok
t/20_policy_require_consistent_newlines.t ..... ok
t/20_policy_require_tidy_code.t ............... ok
Unhandled type: REGEXP at /home/cpan/bin/perl-blead/lib/site_perl/5.37.9/Devel/Cycle.pm line 107.
t/92_memory_leaks.t ........................... ok
t/gh-734.t .................................... ok
All tests successful.
Files=40, Tests=8187, 82 wallclock secs ( 1.09 usr  0.35 sys + 68.63 cusr  9.49 csys = 79.56 CPU)
Result: PASS

------------------------------
PREREQUISITES
------------------------------

Prerequisite modules loaded:

requires:

    Module                     Need     Have    
    -------------------------- -------- --------
    B::Keywords                1.23     1.24    
    Carp                       0        1.54    
    charnames                  0        1.50    
    Config::Tiny               2        2.28    
    English                    0        1.11    
    Exception::Class           1.23     1.45    
    Exporter                   5.63     5.77    
    File::Basename             0        2.86    
    File::Find                 0        1.42    
    File::Path                 0        2.18    
    File::Spec                 0        3.88    
    File::Spec::Unix           0        3.88    
    File::Temp                 0        0.2311  
    File::Which                0        1.27    
    Getopt::Long               0        2.54    
    List::SomeUtils            0.55     0.59    
    List::Util                 0        1.63    
    Module::Pluggable          3.1      5.2     
    overload                   0        1.36    
    parent                     0        0.239   
    perl                       5.010001 5.037009
    Perl::Tidy                 0        20221112
    Pod::PlainText             0        2.07    
    Pod::Select                0        1.65    
    Pod::Spell                 1        1.25    
    Pod::Usage                 0        2.03    
    PPI                        1.271    1.276   
    PPI::Document              1.271    1.276   
    PPI::Document::File        1.271    1.276   
    PPI::Node                  1.271    1.276   
    PPI::Token::Quote::Single  1.271    1.276   
    PPI::Token::Whitespace     1.271    1.276   
    PPIx::QuoteLike            0        0.023   
    PPIx::Regexp               0.027    0.087   
    PPIx::Regexp::Util         0.068    0.087   
    PPIx::Utilities::Node      1.001    1.001000
    PPIx::Utilities::Statement 1.001    1.001000
    Readonly                   2        2.05    
    Scalar::Util               0        1.63    
    strict                     0        1.12    
    String::Format             1.18     1.18    
    Term::ANSIColor            2.02     5.01    
    Test::Builder              0.92     1.302191
    Text::ParseWords           3        3.31    
    version                    0.77     0.9929  
    warnings                   0        1.61    

build_requires:

    Module                     Need     Have    
    -------------------------- -------- --------
    lib                        0        0.65    
    Test::More                 0        1.302191

configure_requires:

    Module                     Need     Have    
    -------------------------- -------- --------
    base                       0        2.27    
    Carp                       0        1.54    
    English                    0        1.11    
    Exporter                   5.63     5.77    
    lib                        0        0.65    
    Module::Build              0.4204   0.4232  


------------------------------
ENVIRONMENT AND OTHER CONTEXT
------------------------------

Environment variables:

    AUTOMATED_TESTING = 1
    DATE_MANIP_TEST_DM5 = 1
    LC_ALL = C
    NONINTERACTIVE_TESTING = 1
    NO_NETWORK_TESTING = 1
    PATH = /home/cpan/bin/perl-blead/bin:/home/cpan/bin:/sbin:/bin:/usr/sbin:/usr/bin:/usr/games:/usr/local/sbin:/usr/local/bin:/usr/pkg/sbin:/usr/pkg/bin:/home/cpan/bin
    PERL5LIB = 
    PERL5OPT = 
    PERL5_CPANPLUS_IS_RUNNING = 452070
    PERL5_CPAN_IS_RUNNING = 452070
    PERL_MM_USE_DEFAULT = 1
    PERL_USE_UNSAFE_INC = 1
    PERL_VERSION = blead
    SHELL = /usr/local/bin/bash
    TERM = screen
    TMPDIR = /home/cpan/tmp

Perl special variables (and OS-specific diagnostics, for MSWin32):

    $^X = /home/cpan/bin/perl-blead/bin/perl5.37.9
    $UID/$EUID = 1002 / 1002
    $GID = 1002 1002
    $EGID = 1002 1002

Perl module toolchain versions installed:

    Module              Have    
    ------------------- --------
    CPAN                2.34    
    CPAN::Meta          2.150010
    Cwd                 3.88    
    ExtUtils::CBuilder  0.280238
    ExtUtils::Command   7.66    
    ExtUtils::Install   2.22    
    ExtUtils::MakeMaker 7.66    
    ExtUtils::Manifest  1.73    
    ExtUtils::ParseXS   3.49    
    File::Spec          3.88    
    JSON                4.10    
    JSON::PP            4.16    
    Module::Build       0.4232  
    Module::Signature   n/a     
    Parse::CPAN::Meta   2.150010
    Test::Harness       3.44    
    Test::More          1.302191
    YAML                1.30    
    YAML::Syck          1.34    
    version             0.9929  


--

Summary of my perl5 (revision 5 version 37 subversion 9) configuration:
  Commit id: 5dd33ebbb550440bb773b780efe02646f3c6b10a
  Platform:
    osname=dragonfly
    osvers=6.2-release
    archname=x86_64-dragonfly-thread-multi
    uname='dragonfly cjg-dragonfly6 6.2-release dragonfly v6.2.2-release #2: thu jun 9 22:53:25 edt 2022 root@www.shiningsilence.com:usrobjhomejustinrelease6_2sysx86_64_generic x86_64 '
    config_args='-des -Dprefix=~/bin/perl-blead -Dscriptdir=~/bin/perl-blead/bin -Dusedevel -Duse64bitall -Duseithreads'
    hint=recommended
    useposix=true
    d_sigaction=define
    useithreads=define
    usemultiplicity=define
    use64bitint=define
    use64bitall=define
    uselongdouble=undef
    usemymalloc=n
    default_inc_excludes_dot=define
  Compiler:
    cc='cc'
    ccflags ='-DHAS_FPSETMASK -DHAS_FLOATINGPOINT_H -fwrapv -fno-strict-aliasing -pipe -fstack-protector-strong -I/usr/local/include -D_FORTIFY_SOURCE=2'
    optimize='-O2'
    cppflags='-DHAS_FPSETMASK -DHAS_FLOATINGPOINT_H -fwrapv -fno-strict-aliasing -pipe -fstack-protector-strong -I/usr/local/include'
    ccversion=''
    gccversion='8.3 [DragonFly] Release/2019-02-22'
    gccosandvers=''
    intsize=4
    longsize=8
    ptrsize=8
    doublesize=8
    byteorder=12345678
    doublekind=3
    d_longlong=define
    longlongsize=8
    d_longdbl=define
    longdblsize=16
    longdblkind=3
    ivtype='long'
    ivsize=8
    nvtype='double'
    nvsize=8
    Off_t='off_t'
    lseeksize=8
    alignbytes=8
    prototype=define
  Linker and Libraries:
    ld='cc'
    ldflags ='-pthread -Wl,-E  -fstack-protector-strong -L/usr/local/lib'
    libpth=/usr/lib /usr/local/lib
    libs=-lpthread -ldl -lm -lcrypt -lutil -lc
    perllibs=-lpthread -ldl -lm -lcrypt -lutil -lc
    libc=
    so=so
    useshrplib=false
    libperl=libperl.a
    gnulibc_version=''
  Dynamic Linking:
    dlsrc=dl_dlopen.xs
    dlext=so
    d_dlsymun=undef
    ccdlflags=' '
    cccdlflags='-DPIC -fPIC'
    lddlflags='-shared  -L/usr/local/lib -fstack-protector-strong'


Characteristics of this binary (from libperl): 
  Compile-time options:
    HAS_TIMES
    MULTIPLICITY
    PERLIO_LAYERS
    PERL_COPY_ON_WRITE
    PERL_DONT_CREATE_GVSV
    PERL_HASH_FUNC_SIPHASH13
    PERL_HASH_USE_SBOX32
    PERL_MALLOC_WRAP
    PERL_OP_PARENT
    PERL_PRESERVE_IVUV
    PERL_USE_DEVEL
    PERL_USE_SAFE_PUTENV
    USE_64_BIT_ALL
    USE_64_BIT_INT
    USE_ITHREADS
    USE_LARGE_FILES
    USE_LOCALE
    USE_LOCALE_COLLATE
    USE_LOCALE_CTYPE
    USE_LOCALE_NUMERIC
    USE_LOCALE_TIME
    USE_PERLIO
    USE_PERL_ATOF
    USE_REENTRANT_API
    USE_THREAD_SAFE_LOCALE
  Built under dragonfly
  Compiled at Feb  1 2023 21:47:27
  %ENV:
    PERL5LIB=""
    PERL5OPT=""
    PERL5_CPANPLUS_IS_RUNNING="452070"
    PERL5_CPAN_IS_RUNNING="452070"
    PERL_MM_USE_DEFAULT="1"
    PERL_USE_UNSAFE_INC="1"
    PERL_VERSION="blead"
  @INC:
    /home/cpan/bin/perl-blead/lib/site_perl/5.37.9/x86_64-dragonfly-thread-multi
    /home/cpan/bin/perl-blead/lib/site_perl/5.37.9
    /home/cpan/bin/perl-blead/lib/5.37.9/x86_64-dragonfly-thread-multi
    /home/cpan/bin/perl-blead/lib/5.37.9
    .