Alien-Build-Plugin-Decode-SourceForge v0.02 Perl 5 v5.28.1 x86_64-linux-thread-multi
- Status
- Pass
- From
- Nigel Horne
- Dist
-
Alien-Build-Plugin-Decode-SourceForge v0.02
- Platform
- Perl 5 v5.28.1 x86_64-linux-thread-multi
- Date
- 2020-05-03 23:52:34
- ID
- 293630a8-8d99-11ea-a74e-a57e74c0a34b
This distribution has been tested as part of the CPAN Testers
project, supporting the Perl programming language. See
http://wiki.cpantesters.org/ for more information or email
questions to cpan-testers-discuss@perl.org
--
Dear Graham Ollis,
This is a computer-generated report for Alien-Build-Plugin-Decode-SourceForge-0.02
on perl 5.28.1, created by CPAN-Reporter-1.2018.
Thank you for uploading your work to CPAN. Congratulations!
All tests were successful.
Sections of this report:
* Tester comments
* Program output
* Prerequisites
* Environment and other context
------------------------------
TESTER COMMENTS
------------------------------
Additional comments from tester:
this report is from an automated smoke testing program
and was not reviewed by a human for accuracy
------------------------------
PROGRAM OUTPUT
------------------------------
Output from '/usr/bin/make test':
PERL_DL_NONLAZY=1 "/home/njh/perl5/perlbrew/perls/perl-5.28.1-thread/bin/perl5.28.1" "-MExtUtils::Command::MM" "-MTest::Harness" "-e" "undef *Test::Harness::Switches; test_harness(0, 'blib/lib', 'blib/arch')" t/*.t
t/01_use.t ................................. ok
#
#
#
# HARNESS_ACTIVE=1
# HARNESS_OPTIONS=
# HARNESS_VERSION=3.42
# LANG=en_US.UTF-8
# PERL5LIB=/tmp/build/Alien-Build-Plugin-Decode-SourceForge-0.02-0/blib/lib:/tmp/build/Alien-Build-Plugin-Decode-SourceForge-0.02-0/blib/arch:/tmp/build/Mojo-DOM58-2.000-0/blib/arch:/tmp/build/Mojo-DOM58-2.000-0/blib/lib:/tmp/build/Alien-Build-Plugin-Cleanse-BuildDir-0.05-0/blib/arch:/tmp/build/Alien-Build-Plugin-Cleanse-BuildDir-0.05-0/blib/lib:/tmp/build/Alien-Build-2.21-0/blib/arch:/tmp/build/Alien-Build-2.21-0/blib/lib:/tmp/build/FFI-C-0.03-0/blib/arch:/tmp/build/FFI-C-0.03-0/blib/lib:/tmp/build/FFI-Platypus-1.24-0/blib/arch:/tmp/build/FFI-Platypus-1.24-0/blib/lib:/tmp/build/FFI-CheckLib-0.26-0/blib/arch:/tmp/build/FFI-CheckLib-0.26-0/blib/lib:/tmp/build/Mojo-DOM58-2.000-0/blib/arch:/tmp/build/Mojo-DOM58-2.000-0/blib/lib:/tmp/build/Alien-Build-Plugin-Cleanse-BuildDir-0.05-0/blib/arch:/tmp/build/Alien-Build-Plugin-Cleanse-BuildDir-0.05-0/blib/lib:/tmp/build/Alien-Build-2.21-0/blib/arch:/tmp/build/Alien-Build-2.21-0/blib/lib:/tmp/build/FFI-C-0.03-0/blib/arch:/tmp/build/FFI-C-0.03-0/blib/lib:/tmp/build/FFI-Platypus-1.24-0/blib/arch:/tmp/build/FFI-Platypus-1.24-0/blib/lib:/tmp/build/FFI-CheckLib-0.26-0/blib/arch:/tmp/build/FFI-CheckLib-0.26-0/blib/lib
# PERL5OPT=
# PERL5_CPANPLUS_IS_RUNNING=1983013
# PERL5_CPAN_IS_RUNNING=1983013
# PERL5_CPAN_IS_RUNNING_IN_RECURSION=1982996,1983013
# PERLBREW_HOME=/home/njh/.perlbrew
# PERLBREW_MANPATH=/home/njh/perl5/perlbrew/perls/perl-5.28.1-thread/man
# PERLBREW_PATH=/home/njh/perl5/perlbrew/bin:/home/njh/perl5/perlbrew/perls/perl-5.28.1-thread/bin
# PERLBREW_PERL=perl-5.28.1-thread
# PERLBREW_ROOT=/home/njh/perl5/perlbrew
# PERLBREW_SHELLRC_VERSION=0.86
# PERLBREW_VERSION=0.86
# PERL_DL_NONLAZY=1
# PERL_USE_UNSAFE_INC=1
# SHELL=/bin/sh
#
#
#
# PERL5LIB path
# /tmp/build/Alien-Build-Plugin-Decode-SourceForge-0.02-0/blib/lib
# /tmp/build/Alien-Build-Plugin-Decode-SourceForge-0.02-0/blib/arch
# /tmp/build/Mojo-DOM58-2.000-0/blib/arch
# /tmp/build/Mojo-DOM58-2.000-0/blib/lib
# /tmp/build/Alien-Build-Plugin-Cleanse-BuildDir-0.05-0/blib/arch
# /tmp/build/Alien-Build-Plugin-Cleanse-BuildDir-0.05-0/blib/lib
# /tmp/build/Alien-Build-2.21-0/blib/arch
# /tmp/build/Alien-Build-2.21-0/blib/lib
# /tmp/build/FFI-C-0.03-0/blib/arch
# /tmp/build/FFI-C-0.03-0/blib/lib
# /tmp/build/FFI-Platypus-1.24-0/blib/arch
# /tmp/build/FFI-Platypus-1.24-0/blib/lib
# /tmp/build/FFI-CheckLib-0.26-0/blib/arch
# /tmp/build/FFI-CheckLib-0.26-0/blib/lib
# /tmp/build/Mojo-DOM58-2.000-0/blib/arch
# /tmp/build/Mojo-DOM58-2.000-0/blib/lib
# /tmp/build/Alien-Build-Plugin-Cleanse-BuildDir-0.05-0/blib/arch
# /tmp/build/Alien-Build-Plugin-Cleanse-BuildDir-0.05-0/blib/lib
# /tmp/build/Alien-Build-2.21-0/blib/arch
# /tmp/build/Alien-Build-2.21-0/blib/lib
# /tmp/build/FFI-C-0.03-0/blib/arch
# /tmp/build/FFI-C-0.03-0/blib/lib
# /tmp/build/FFI-Platypus-1.24-0/blib/arch
# /tmp/build/FFI-Platypus-1.24-0/blib/lib
# /tmp/build/FFI-CheckLib-0.26-0/blib/arch
# /tmp/build/FFI-CheckLib-0.26-0/blib/lib
#
#
#
# perl 5.028001
# Alien::Build 2.21
# Alien::Build::Plugin 2.21
# Alien::Build::Plugin::Decode::Mojo 2.21
# ExtUtils::MakeMaker 7.42
# Mojo::DOM58 2.000
# Test2::V0 0.000118
# Test::Alien::Build 2.21
# URI 1.76
# URI::Escape 3.31
#
#
#
t/alien_build_plugin_decode_sourceforge.t .. ok
t/00_diag.t ................................ ok
All tests successful.
Files=3, Tests=5, 1 wallclock secs ( 0.03 usr 0.01 sys + 0.76 cusr 0.10 csys = 0.90 CPU)
Result: PASS
------------------------------
PREREQUISITES
------------------------------
Prerequisite modules loaded:
requires:
Module Need Have
---------------------------------- -------- --------
Alien::Build 1.74 2.21
Alien::Build::Plugin 0 2.21
Alien::Build::Plugin::Decode::Mojo 1.74 2.21
perl 5.008001 5.028001
URI 0 1.76
build_requires:
Module Need Have
---------------------------------- -------- --------
ExtUtils::MakeMaker 0 7.42
Mojo::DOM58 0 2.000
Test2::V0 0.000060 0.000118
Test::Alien::Build 0 2.21
URI::Escape 0 3.31
configure_requires:
Module Need Have
---------------------------------- -------- --------
ExtUtils::MakeMaker 0 7.42
perl 5.008001 5.028001
------------------------------
ENVIRONMENT AND OTHER CONTEXT
------------------------------
Environment variables:
AUTOMATED_TESTING = 1
HARNESS_OPTIONS = j2
LANG = en_US.UTF-8
PATH = /home/njh/perl5/perlbrew/bin:/home/njh/perl5/perlbrew/perls/perl-5.28.1-thread/bin:/home/njh/src/njh/smoker/bin:/usr/bin:/bin
PERL5LIB = /tmp/build/Mojo-DOM58-2.000-0/blib/arch:/tmp/build/Mojo-DOM58-2.000-0/blib/lib:/tmp/build/Alien-Build-Plugin-Cleanse-BuildDir-0.05-0/blib/arch:/tmp/build/Alien-Build-Plugin-Cleanse-BuildDir-0.05-0/blib/lib:/tmp/build/Alien-Build-2.21-0/blib/arch:/tmp/build/Alien-Build-2.21-0/blib/lib:/tmp/build/FFI-C-0.03-0/blib/arch:/tmp/build/FFI-C-0.03-0/blib/lib:/tmp/build/FFI-Platypus-1.24-0/blib/arch:/tmp/build/FFI-Platypus-1.24-0/blib/lib:/tmp/build/FFI-CheckLib-0.26-0/blib/arch:/tmp/build/FFI-CheckLib-0.26-0/blib/lib
PERL5OPT =
PERL5_CPANPLUS_IS_RUNNING = 1983013
PERL5_CPAN_IS_RUNNING = 1983013
PERL5_CPAN_IS_RUNNING_IN_RECURSION = 1982996,1983013
PERLBREW_HOME = /home/njh/.perlbrew
PERLBREW_MANPATH = /home/njh/perl5/perlbrew/perls/perl-5.28.1-thread/man
PERLBREW_PATH = /home/njh/perl5/perlbrew/bin:/home/njh/perl5/perlbrew/perls/perl-5.28.1-thread/bin
PERLBREW_PERL = perl-5.28.1-thread
PERLBREW_ROOT = /home/njh/perl5/perlbrew
PERLBREW_SHELLRC_VERSION = 0.86
PERLBREW_VERSION = 0.86
PERL_USE_UNSAFE_INC = 1
SHELL = /bin/sh
TEMP = /tmp/user/1000
TMPDIR = /tmp/user/1000/testwrapper.1982999
Perl special variables (and OS-specific diagnostics, for MSWin32):
$^X = /home/njh/perl5/perlbrew/perls/perl-5.28.1-thread/bin/perl5.28.1
$UID/$EUID = 1000 / 1000
$GID = 1000 4 24 25 29 30 44 46 103 108 115 123 996 1000
$EGID = 1000 4 24 25 29 30 44 46 103 108 115 123 996 1000
Perl module toolchain versions installed:
Module Have
------------------- --------
CPAN 2.27
CPAN::Meta 2.150010
Cwd 3.75
ExtUtils::CBuilder 0.280230
ExtUtils::Command 7.42
ExtUtils::Install 2.14
ExtUtils::MakeMaker 7.42
ExtUtils::Manifest 1.71
ExtUtils::ParseXS 3.39
File::Spec 3.75
JSON 4.02
JSON::PP 4.03
Module::Build 0.4224
Module::Signature n/a
Parse::CPAN::Meta 2.150010
Test::Harness 3.42
Test::More 1.302162
YAML 1.30
YAML::Syck 1.32
version 0.9924
--
Summary of my perl5 (revision 5 version 28 subversion 1) configuration:
Platform:
osname=linux
osvers=4.16.0-2-amd64
archname=x86_64-linux-thread-multi
uname='linux amelia 4.16.0-2-amd64 #1 smp debian 4.16.16-2 (2018-06-22) x86_64 gnulinux '
config_args='-de -Dprefix=/home/njh/perl5/perlbrew/perls/perl-5.28.1-thread -Dusedevel -Dusethreads -Accflags= -Aeval:scriptdir=/home/njh/perl5/perlbrew/perls/perl-5.28.1-thread/bin'
hint=recommended
useposix=true
d_sigaction=define
useithreads=define
usemultiplicity=define
use64bitint=define
use64bitall=define
uselongdouble=undef
usemymalloc=n
default_inc_excludes_dot=define
bincompat5005=undef
Compiler:
cc='cc'
ccflags ='-D_REENTRANT -D_GNU_SOURCE -fwrapv -fno-strict-aliasing -pipe -fstack-protector-strong -I/usr/local/include -D_LARGEFILE_SOURCE -D_FILE_OFFSET_BITS=64'
optimize='-O2'
cppflags='-D_REENTRANT -D_GNU_SOURCE -fwrapv -fno-strict-aliasing -pipe -fstack-protector-strong -I/usr/local/include'
ccversion=''
gccversion='8.2.0'
gccosandvers=''
intsize=4
longsize=8
ptrsize=8
doublesize=8
byteorder=12345678
doublekind=3
d_longlong=define
longlongsize=8
d_longdbl=define
longdblsize=16
longdblkind=3
ivtype='long'
ivsize=8
nvtype='double'
nvsize=8
Off_t='off_t'
lseeksize=8
alignbytes=8
prototype=define
Linker and Libraries:
ld='cc'
ldflags =' -fstack-protector-strong -L/usr/local/lib'
libpth=/usr/local/lib /usr/lib/gcc/x86_64-linux-gnu/8/include-fixed /usr/include/x86_64-linux-gnu /usr/lib /lib/x86_64-linux-gnu /lib/../lib /usr/lib/x86_64-linux-gnu /usr/lib/../lib /lib /lib64 /usr/lib64
libs=-lpthread -lnsl -lgdbm -ldb -ldl -lm -lcrypt -lutil -lc
perllibs=-lpthread -lnsl -ldl -lm -lcrypt -lutil -lc
libc=libc-2.27.so
so=so
useshrplib=false
libperl=libperl.a
gnulibc_version='2.27'
Dynamic Linking:
dlsrc=dl_dlopen.xs
dlext=so
d_dlsymun=undef
ccdlflags='-Wl,-E'
cccdlflags='-fPIC'
lddlflags='-shared -O2 -L/usr/local/lib -fstack-protector-strong'
Characteristics of this binary (from libperl):
Compile-time options:
HAS_TIMES
MULTIPLICITY
PERLIO_LAYERS
PERL_COPY_ON_WRITE
PERL_DONT_CREATE_GVSV
PERL_IMPLICIT_CONTEXT
PERL_MALLOC_WRAP
PERL_OP_PARENT
PERL_PRESERVE_IVUV
PERL_USE_DEVEL
USE_64_BIT_ALL
USE_64_BIT_INT
USE_ITHREADS
USE_LARGE_FILES
USE_LOCALE
USE_LOCALE_COLLATE
USE_LOCALE_CTYPE
USE_LOCALE_NUMERIC
USE_LOCALE_TIME
USE_PERLIO
USE_PERL_ATOF
USE_REENTRANT_API
Locally applied patches:
Devel::PatchPerl 1.48
Built under linux
Compiled at Dec 5 2018 00:40:34
%ENV:
PERL5LIB="/tmp/build/Mojo-DOM58-2.000-0/blib/arch:/tmp/build/Mojo-DOM58-2.000-0/blib/lib:/tmp/build/Alien-Build-Plugin-Cleanse-BuildDir-0.05-0/blib/arch:/tmp/build/Alien-Build-Plugin-Cleanse-BuildDir-0.05-0/blib/lib:/tmp/build/Alien-Build-2.21-0/blib/arch:/tmp/build/Alien-Build-2.21-0/blib/lib:/tmp/build/FFI-C-0.03-0/blib/arch:/tmp/build/FFI-C-0.03-0/blib/lib:/tmp/build/FFI-Platypus-1.24-0/blib/arch:/tmp/build/FFI-Platypus-1.24-0/blib/lib:/tmp/build/FFI-CheckLib-0.26-0/blib/arch:/tmp/build/FFI-CheckLib-0.26-0/blib/lib"
PERL5OPT=""
PERL5_CPANPLUS_IS_RUNNING="1983013"
PERL5_CPAN_IS_RUNNING="1983013"
PERL5_CPAN_IS_RUNNING_IN_RECURSION="1982996,1983013"
PERLBREW_HOME="/home/njh/.perlbrew"
PERLBREW_MANPATH="/home/njh/perl5/perlbrew/perls/perl-5.28.1-thread/man"
PERLBREW_PATH="/home/njh/perl5/perlbrew/bin:/home/njh/perl5/perlbrew/perls/perl-5.28.1-thread/bin"
PERLBREW_PERL="perl-5.28.1-thread"
PERLBREW_ROOT="/home/njh/perl5/perlbrew"
PERLBREW_SHELLRC_VERSION="0.86"
PERLBREW_VERSION="0.86"
PERL_USE_UNSAFE_INC="1"
@INC:
/tmp/build/Mojo-DOM58-2.000-0/blib/arch
/tmp/build/Mojo-DOM58-2.000-0/blib/lib
/tmp/build/Alien-Build-Plugin-Cleanse-BuildDir-0.05-0/blib/arch
/tmp/build/Alien-Build-Plugin-Cleanse-BuildDir-0.05-0/blib/lib
/tmp/build/Alien-Build-2.21-0/blib/arch
/tmp/build/Alien-Build-2.21-0/blib/lib
/tmp/build/FFI-C-0.03-0/blib/arch
/tmp/build/FFI-C-0.03-0/blib/lib
/tmp/build/FFI-Platypus-1.24-0/blib/arch
/tmp/build/FFI-Platypus-1.24-0/blib/lib
/tmp/build/FFI-CheckLib-0.26-0/blib/arch
/tmp/build/FFI-CheckLib-0.26-0/blib/lib
/home/njh/perl5/perlbrew/perls/perl-5.28.1-thread/lib/site_perl/5.28.1/x86_64-linux-thread-multi
/home/njh/perl5/perlbrew/perls/perl-5.28.1-thread/lib/site_perl/5.28.1
/home/njh/perl5/perlbrew/perls/perl-5.28.1-thread/lib/5.28.1/x86_64-linux-thread-multi
/home/njh/perl5/perlbrew/perls/perl-5.28.1-thread/lib/5.28.1
.