Net-Statsd-Server v0.20 Perl 5 v5.43.2 x86_64-linux

Status
Pass
From
Andreas J. König (ANDK)
Dist
Net-Statsd-Server v0.20
Platform
Perl 5 v5.43.2 x86_64-linux
Date
2025-09-06 10:56:37
ID
2979910c-8b10-11f0-a723-c244b2a571ac
This distribution has been tested as part of the CPAN Testers
project, supporting the Perl programming language.  See
http://wiki.cpantesters.org/ for more information or email
questions to cpan-testers-discuss@perl.org


--
Dear Cosimo Streppone,

This is a computer-generated report for Net-Statsd-Server-0.20
on perl 5.43.2, created by CPAN-Reporter-1.2020.

Thank you for uploading your work to CPAN.  Congratulations!
All tests were successful.

Sections of this report:

    * Tester comments
    * Program output
    * Prerequisites
    * Environment and other context

------------------------------
TESTER COMMENTS
------------------------------

Additional comments from tester:

this report is from an automated smoke testing program
and was not reviewed by a human for accuracy

------------------------------
PROGRAM OUTPUT
------------------------------

Output from '/usr/bin/make test':

PERL_DL_NONLAZY=1 "/tmp/basesmoker-reloperl-Cfju/bin/perl" "-MExtUtils::Command::MM" "-MTest::Harness" "-e" "undef *Test::Harness::Switches; test_harness(0, 'blib/lib', 'blib/arch')" t/*.t t/integration-tests/*.t
t/000-sanity.t ............................. ok
t/config.t ................................. ok
t/graphite.t ............................... ok
2025-09-06 10:52:38.000000 +0000 note  Net::Statsd::Server: Initializing Net::Statsd::Server::Backend::Console backend
2025-09-06 10:52:38.000000 +0000 note  Net::Statsd::Server: Initializing Net::Statsd::Server::Backend::Graphite backend
2025-09-06 10:52:38.000000 +0000 info  AnyEvent: Autoloaded model 'AnyEvent::Impl::Perl', using it.
2025-09-06 10:52:38.339692 +0000 note  Net::Statsd::Server: statsd server started on 0.0.0.0:40001 (v0.17)
2025-09-06 10:52:38.339783 +0000 note  Net::Statsd::Server: manager interface started on 0.0.0.0:40002
2025-09-06 10:52:38.339843 +0000 note  Net::Statsd::Server: metrics flush will happen every 1s
2025-09-06 10:52:38.767815 +0000 warn  Net::Statsd::Server: Bad line: 1 in msg "a_bad_test_value|z"
2025-09-06 10:52:39.342663 +0000 note  Net::Statsd::Server: flushing metrics
Flushing stats at Sat Sep  6 10:52:39 2025
{"timers":{},"counters":{"statsd.packets_received":1,"statsd.bad_lines_seen":1},"counter_rates":{"statsd.bad_lines_seen":1,"statsd.packets_received":1},"sets":null,"gauges":{},"timer_data":{},"pctThreshold":[90]}
t/integration-tests/bad-message.t .......... ok
2025-09-06 10:52:39.000000 +0000 note  Net::Statsd::Server: Initializing Net::Statsd::Server::Backend::Console backend
2025-09-06 10:52:39.000000 +0000 note  Net::Statsd::Server: Initializing Net::Statsd::Server::Backend::Graphite backend
2025-09-06 10:52:39.000000 +0000 info  AnyEvent: Autoloaded model 'AnyEvent::Impl::Perl', using it.
2025-09-06 10:52:39.595407 +0000 note  Net::Statsd::Server: statsd server started on 0.0.0.0:40001 (v0.17)
2025-09-06 10:52:39.595547 +0000 note  Net::Statsd::Server: manager interface started on 0.0.0.0:40002
2025-09-06 10:52:39.595655 +0000 note  Net::Statsd::Server: metrics flush will happen every 1s
2025-09-06 10:52:40.598012 +0000 note  Net::Statsd::Server: flushing metrics
Flushing stats at Sat Sep  6 10:52:40 2025
{"gauges":{},"timer_data":{},"counters":{"a_test_value":100,"statsd.bad_lines_seen":0,"statsd.packets_received":1},"sets":null,"timers":{},"pctThreshold":[90],"counter_rates":{"statsd.packets_received":1,"a_test_value":100,"statsd.bad_lines_seen":0}}
# stats.counters.a_test_value.rate 100.000000 1757155960
# stats.counters.a_test_value.count 100 1757155960
# stats.counters.statsd.bad_lines_seen.rate 0.000000 1757155960
# stats.counters.statsd.bad_lines_seen.count 0 1757155960
# stats.counters.statsd.packets_received.rate 1.000000 1757155960
# stats.counters.statsd.packets_received.count 1 1757155960
# stats.statsd.numStats 3 1757155960
# stats.statsd.graphiteStats.calculationtime 0.046000 1757155960
# stats.statsd.processing_time 0.016 1757155960
# stats.statsd.graphiteStats.last_exception 94579517185288 1757155960
# stats.statsd.graphiteStats.last_flush 94579517185288 1757155960
t/integration-tests/counts-are-valid.t ..... ok
2025-09-06 10:52:40.000000 +0000 note  Net::Statsd::Server: Initializing Net::Statsd::Server::Backend::Graphite backend
2025-09-06 10:52:40.000000 +0000 info  AnyEvent: Autoloaded model 'AnyEvent::Impl::Perl', using it.
2025-09-06 10:52:40.789690 +0000 note  Net::Statsd::Server: statsd server started on 0.0.0.0:40001 (v0.17)
2025-09-06 10:52:40.789777 +0000 note  Net::Statsd::Server: manager interface started on 0.0.0.0:40002
2025-09-06 10:52:40.789849 +0000 note  Net::Statsd::Server: metrics flush will happen every 1s
2025-09-06 10:52:41.792670 +0000 note  Net::Statsd::Server: flushing metrics
# First flush. Test gauge should be there.
2025-09-06 10:52:42.794827 +0000 note  Net::Statsd::Server: flushing metrics
# Second flush. deleteGauges=false should keep the test gauge.
t/integration-tests/delete-gauges-false.t .. ok
2025-09-06 10:52:42.000000 +0000 note  Net::Statsd::Server: Initializing Net::Statsd::Server::Backend::Graphite backend
2025-09-06 10:52:42.000000 +0000 info  AnyEvent: Autoloaded model 'AnyEvent::Impl::Perl', using it.
2025-09-06 10:52:42.980015 +0000 note  Net::Statsd::Server: statsd server started on 0.0.0.0:40001 (v0.17)
2025-09-06 10:52:42.980061 +0000 note  Net::Statsd::Server: manager interface started on 0.0.0.0:40002
2025-09-06 10:52:42.980093 +0000 note  Net::Statsd::Server: metrics flush will happen every 1s
2025-09-06 10:52:43.980573 +0000 note  Net::Statsd::Server: flushing metrics
# First flush. Test gauge should be there.
2025-09-06 10:52:44.983010 +0000 note  Net::Statsd::Server: flushing metrics
# Second flush. deleteIdleStats should have cleared the test gauge.
t/integration-tests/delete-idle-stats.t .... ok
2025-09-06 10:52:45.000000 +0000 note  Net::Statsd::Server: Initializing Net::Statsd::Server::Backend::Console backend
2025-09-06 10:52:45.000000 +0000 note  Net::Statsd::Server: Initializing Net::Statsd::Server::Backend::Graphite backend
2025-09-06 10:52:45.000000 +0000 info  AnyEvent: Autoloaded model 'AnyEvent::Impl::Perl', using it.
2025-09-06 10:52:45.167256 +0000 note  Net::Statsd::Server: statsd server started on 0.0.0.0:40001 (v0.17)
2025-09-06 10:52:45.167337 +0000 note  Net::Statsd::Server: manager interface started on 0.0.0.0:40002
2025-09-06 10:52:45.167372 +0000 note  Net::Statsd::Server: metrics flush will happen every 1s
2025-09-06 10:52:46.170161 +0000 note  Net::Statsd::Server: flushing metrics
Flushing stats at Sat Sep  6 10:52:46 2025
{"counters":{"statsd.packets_received":1,"a_test_value,category=web,severity=high":100,"statsd.bad_lines_seen":0},"timer_data":{},"gauges":{},"timers":{},"counter_rates":{"statsd.packets_received":1,"a_test_value,category=web,severity=high":100,"statsd.bad_lines_seen":0},"sets":null,"pctThreshold":[90]}
# stats.counters.statsd.packets_received.rate 1.000000 1757155966
# stats.counters.statsd.packets_received.count 1 1757155966
# stats.counters.a_test_value,category=web,severity=high.rate 100.000000 1757155966
# stats.counters.a_test_value,category=web,severity=high.count 100 1757155966
# stats.counters.statsd.bad_lines_seen.rate 0.000000 1757155966
# stats.counters.statsd.bad_lines_seen.count 0 1757155966
# stats.statsd.numStats 3 1757155966
# stats.statsd.graphiteStats.calculationtime 0.033000 1757155966
# stats.statsd.processing_time 0.016 1757155966
# stats.statsd.graphiteStats.last_exception 97832580902152 1757155966
# stats.statsd.graphiteStats.last_flush 97832580902152 1757155966
t/integration-tests/keys-with-tags.t ....... ok
2025-09-06 10:52:46.000000 +0000 note  Net::Statsd::Server: Initializing Net::Statsd::Server::Backend::Graphite backend
2025-09-06 10:52:46.000000 +0000 info  AnyEvent: Autoloaded model 'AnyEvent::Impl::Perl', using it.
2025-09-06 10:52:46.359927 +0000 note  Net::Statsd::Server: statsd server started on 0.0.0.0:40001 (v0.17)
2025-09-06 10:52:46.359977 +0000 note  Net::Statsd::Server: manager interface started on 0.0.0.0:40002
2025-09-06 10:52:46.360011 +0000 note  Net::Statsd::Server: metrics flush will happen every 1s
# Expected mean value is 2101.08
2025-09-06 10:52:47.362919 +0000 note  Net::Statsd::Server: flushing metrics
# stats.counters.statsd.packets_received.rate 100.000000 1757155967
# stats.counters.statsd.packets_received.count 100 1757155967
# stats.counters.statsd.bad_lines_seen.rate 0.000000 1757155967
# stats.counters.statsd.bad_lines_seen.count 0 1757155967
# stats.timers.read_latency.upper 2986.000000 1757155967
# stats.timers.read_latency.mean 2101.080000 1757155967
# stats.timers.read_latency.count_98 98.000000 1757155967
# stats.timers.read_latency.sum_squares 475826614.000000 1757155967
# stats.timers.read_latency.count_ps 100.000000 1757155967
# stats.timers.read_latency.sum_squares_99 466910418.000000 1757155967
# stats.timers.read_latency.median 2153.500000 1757155967
# stats.timers.read_latency.mean_95 2056.189474 1757155967
# stats.timers.read_latency.std 586.284038 1757155967
# stats.timers.read_latency.upper_99 2984.000000 1757155967
# stats.timers.read_latency.sum_95 195338.000000 1757155967
# stats.timers.read_latency.upper_95 2917.000000 1757155967
# stats.timers.read_latency.mean_98 2083.040816 1757155967
# stats.timers.read_latency.mean_99 2092.141414 1757155967
# stats.timers.read_latency.lower 1090.000000 1757155967
# stats.timers.read_latency.count_95 95.000000 1757155967
# stats.timers.read_latency.sum_squares_95 432192560.000000 1757155967
# stats.timers.read_latency.count_99 99.000000 1757155967
# stats.timers.read_latency.sum_squares_98 458006162.000000 1757155967
# stats.timers.read_latency.sum_99 207122.000000 1757155967
# stats.timers.read_latency.sum 210108.000000 1757155967
# stats.timers.read_latency.upper_98 2944.000000 1757155967
# stats.timers.read_latency.count 100.000000 1757155967
# stats.timers.read_latency.sum_98 204138.000000 1757155967
# stats.statsd.numStats 3 1757155967
# stats.statsd.graphiteStats.calculationtime 0.098000 1757155967
# stats.statsd.processing_time 0.226 1757155967
# stats.statsd.graphiteStats.last_exception 107831275224328 1757155967
# stats.statsd.graphiteStats.last_flush 107831275224328 1757155967
t/integration-tests/percent-threshold.t .... ok
2025-09-06 10:52:47.000000 +0000 note  Net::Statsd::Server: Initializing Net::Statsd::Server::Backend::Console backend
2025-09-06 10:52:47.000000 +0000 note  Net::Statsd::Server: Initializing Net::Statsd::Server::Backend::Graphite backend
2025-09-06 10:52:47.000000 +0000 info  AnyEvent: Autoloaded model 'AnyEvent::Impl::Perl', using it.
2025-09-06 10:52:47.565390 +0000 note  Net::Statsd::Server: statsd server started on 0.0.0.0:40001 (v0.17)
2025-09-06 10:52:47.565434 +0000 note  Net::Statsd::Server: manager interface started on 0.0.0.0:40002
2025-09-06 10:52:47.565468 +0000 note  Net::Statsd::Server: metrics flush will happen every 1s
2025-09-06 10:52:48.568432 +0000 note  Net::Statsd::Server: flushing metrics
Flushing stats at Sat Sep  6 10:52:48 2025
{"timer_data":{"a_test_value":{"sum":"100","lower":"100","std":0,"mean":100,"mean_90":"100","sum_90":"100","median":"100","sum_squares":10000,"count_ps":1,"count_90":1,"count":1,"sum_squares_90":10000,"upper_90":"100","upper":"100"}},"sets":null,"counter_rates":{"statsd.bad_lines_seen":0,"statsd.packets_received":1},"counters":{"statsd.bad_lines_seen":0,"statsd.packets_received":1},"timers":{"a_test_value":["100"]},"pctThreshold":["90"],"gauges":{}}
# stats.counters.statsd.bad_lines_seen.rate 0.000000 1757155968
# stats.counters.statsd.bad_lines_seen.count 0 1757155968
# stats.counters.statsd.packets_received.rate 1.000000 1757155968
# stats.counters.statsd.packets_received.count 1 1757155968
# stats.timers.a_test_value.sum 100.000000 1757155968
# stats.timers.a_test_value.lower 100.000000 1757155968
# stats.timers.a_test_value.std 0.000000 1757155968
# stats.timers.a_test_value.mean 100.000000 1757155968
# stats.timers.a_test_value.mean_90 100.000000 1757155968
# stats.timers.a_test_value.sum_90 100.000000 1757155968
# stats.timers.a_test_value.median 100.000000 1757155968
# stats.timers.a_test_value.sum_squares 10000.000000 1757155968
# stats.timers.a_test_value.count_ps 1.000000 1757155968
# stats.timers.a_test_value.count_90 1.000000 1757155968
# stats.timers.a_test_value.count 1.000000 1757155968
# stats.timers.a_test_value.sum_squares_90 10000.000000 1757155968
# stats.timers.a_test_value.upper_90 100.000000 1757155968
# stats.timers.a_test_value.upper 100.000000 1757155968
# stats.statsd.numStats 3 1757155968
# stats.statsd.graphiteStats.calculationtime 0.056000 1757155968
# stats.statsd.processing_time 0.043 1757155968
# stats.statsd.graphiteStats.last_exception 101868278742280 1757155968
# stats.statsd.graphiteStats.last_flush 101868278742280 1757155968
t/integration-tests/timers-are-valid.t ..... ok
t/process-metrics.t ........................ ok
t/trim.t ................................... ok
All tests successful.
Files=12, Tests=92, 11 wallclock secs ( 0.05 usr  0.02 sys +  1.04 cusr  0.28 csys =  1.39 CPU)
Result: PASS

------------------------------
PREREQUISITES
------------------------------

Prerequisite modules loaded:

requires:

    Module                Need Have    
    --------------------- ---- --------
    AnyEvent::Handle::UDP 0    0.050   
    IO::Socket::INET      0    1.55    
    JSON::XS              0    4.03    

build_requires:

    Module                Need Have    
    --------------------- ---- --------
    ExtUtils::MakeMaker   0    7.76    
    Test::More            0    1.302214

configure_requires:

    Module                Need Have    
    --------------------- ---- --------
    ExtUtils::MakeMaker   0    7.76    


------------------------------
ENVIRONMENT AND OTHER CONTEXT
------------------------------

Environment variables:

    AUTOMATED_TESTING = 1
    LANG = en_US.UTF-8
    LC_ADDRESS = de_DE.UTF-8
    LC_IDENTIFICATION = de_DE.UTF-8
    LC_MEASUREMENT = de_DE.UTF-8
    LC_MONETARY = de_DE.UTF-8
    LC_NAME = de_DE.UTF-8
    LC_NUMERIC = de_DE.UTF-8
    LC_PAPER = de_DE.UTF-8
    LC_TELEPHONE = de_DE.UTF-8
    LC_TIME = de_DE.UTF-8
    PATH = /home/sand/bin:/usr/local/bin:/usr/local/sbin:/usr/sbin:/usr/bin:/sbin:/bin:/usr/games:/usr/local/games:/snap/bin:/usr/local/perl/bin:/usr/X11/bin
    PERL = /tmp/basesmoker-reloperl-Cfju/bin/perl
    PERL5LIB = /tmp/loop_over_bdir-1721494-QTfThW/Dpkg-1.22.21-0/blib/arch:/tmp/loop_over_bdir-1721494-QTfThW/Dpkg-1.22.21-0/blib/lib:/tmp/loop_over_bdir-1721494-QTfThW/LiquidWeb-Storm-CLI-1.03-0/blib/arch:/tmp/loop_over_bdir-1721494-QTfThW/LiquidWeb-Storm-CLI-1.03-0/blib/lib:/tmp/loop_over_bdir-1721494-QTfThW/perl-Hardware-UPS-Perl-0.43-0/blib/arch:/tmp/loop_over_bdir-1721494-QTfThW/perl-Hardware-UPS-Perl-0.43-0/blib/lib:/tmp/loop_over_bdir-1721494-QTfThW/Linux-InitFS-0.2-0/blib/arch:/tmp/loop_over_bdir-1721494-QTfThW/Linux-InitFS-0.2-0/blib/lib:/tmp/loop_over_bdir-1721494-QTfThW/makepp-1.19-0/blib/arch:/tmp/loop_over_bdir-1721494-QTfThW/makepp-1.19-0/blib/lib:/tmp/loop_over_bdir-1721494-QTfThW/Lingua-YaTeA-0.626-0/blib/arch:/tmp/loop_over_bdir-1721494-QTfThW/Lingua-YaTeA-0.626-0/blib/lib:/tmp/loop_over_bdir-1721494-QTfThW/Module-ScanDeps-Static-1.7.6-0/blib/arch:/tmp/loop_over_bdir-1721494-QTfThW/Module-ScanDeps-Static-1.7.6-0/blib/lib:/tmp/loop_over_bdir-1721494-QTfThW/shishi-0.0.1-0/blib/arch:/tmp/loop_over_bdir-1721494-QTfThW/shishi-0.0.1-0/blib/lib
    PERL5OPT = 
    PERL5_CPANPLUS_IS_RUNNING = 1721505
    PERL5_CPAN_IS_RUNNING = 1721505
    PERL_CANARY_STABILITY_NOPROMPT = 1
    PERL_MM_USE_DEFAULT = 1
    PERL_USE_UNSAFE_INC = 1
    SHELL = /usr/bin/zsh
    TERM = screen

Perl special variables (and OS-specific diagnostics, for MSWin32):

    $^X = /tmp/basesmoker-reloperl-Cfju/bin/perl
    $UID/$EUID = 1005 / 1005
    $GID = 1005 1005
    $EGID = 1005 1005

Perl module toolchain versions installed:

    Module              Have    
    ------------------- --------
    CPAN                2.38    
    CPAN::Meta          2.150010
    Cwd                 3.94    
    ExtUtils::CBuilder  0.280242
    ExtUtils::Command   7.76    
    ExtUtils::Install   2.22    
    ExtUtils::MakeMaker 7.76    
    ExtUtils::Manifest  1.75    
    ExtUtils::ParseXS   3.59    
    File::Spec          3.94    
    JSON                4.10    
    JSON::PP            4.16    
    Module::Build       0.4234  
    Module::Signature   0.93    
    Parse::CPAN::Meta   2.150010
    Test2               1.302214
    Test::Harness       3.52    
    Test::More          1.302214
    YAML                1.31    
    YAML::Syck          1.34    
    version             0.9933  


--

Summary of my perl5 (revision 5 version 43 subversion 2) configuration:
  Commit id: 7afd3f158f75d5730469889406f8f98c681d58c1
  Platform:
    osname=linux
    osvers=6.8.0-64-generic
    archname=x86_64-linux
    uname='linux k93jammy 6.8.0-64-generic #67~22.04.1-ubuntu smp preempt_dynamic tue jun 24 15:19:46 utc 2 x86_64 x86_64 x86_64 gnulinux '
    config_args='-Dprefix=/home/sand/src/perl/repoperls/installed-perls/host/k93jammy/v5.43.2/6567 -Dmyhostname=k93jammy -Dinstallusrbinperl=n -Uversiononly -Dusedevel -des -Ui_db -Dlibswanted=cl pthread socket inet nsl gdbm dbm malloc dl ld sun m crypt sec util c cposix posix ucb BSD gdbm_compat -Uuseithreads -Uuselongdouble -DEBUGGING=-g'
    hint=recommended
    useposix=true
    d_sigaction=define
    useithreads=undef
    usemultiplicity=undef
    use64bitint=define
    use64bitall=define
    uselongdouble=undef
    usemymalloc=n
    default_inc_excludes_dot=define
  Compiler:
    cc='cc'
    ccflags ='-fwrapv -fno-strict-aliasing -pipe -fstack-protector-strong -I/usr/local/include -D_LARGEFILE_SOURCE -D_FILE_OFFSET_BITS=64'
    optimize='-O2 -g'
    cppflags='-fwrapv -fno-strict-aliasing -pipe -fstack-protector-strong -I/usr/local/include'
    ccversion=''
    gccversion='11.4.0'
    gccosandvers=''
    intsize=4
    longsize=8
    ptrsize=8
    doublesize=8
    byteorder=12345678
    doublekind=3
    d_longlong=define
    longlongsize=8
    d_longdbl=define
    longdblsize=16
    longdblkind=3
    ivtype='long'
    ivsize=8
    nvtype='double'
    nvsize=8
    Off_t='off_t'
    lseeksize=8
    alignbytes=8
    prototype=define
  Linker and Libraries:
    ld='cc'
    ldflags =' -fstack-protector-strong -L/usr/local/lib'
    libpth=/usr/local/lib /usr/lib/x86_64-linux-gnu /usr/lib /usr/lib64
    libs=-lpthread -lnsl -ldl -lm -lcrypt -lutil -lc
    perllibs=-lpthread -lnsl -ldl -lm -lcrypt -lutil -lc
    libc=/lib/x86_64-linux-gnu/libc.so.6
    so=so
    useshrplib=false
    libperl=libperl.a
    gnulibc_version='2.35'
  Dynamic Linking:
    dlsrc=dl_dlopen.xs
    dlext=so
    d_dlsymun=undef
    ccdlflags='-Wl,-E'
    cccdlflags='-fPIC'
    lddlflags='-shared -O2 -g -L/usr/local/lib -fstack-protector-strong'


Characteristics of this binary (from libperl): 
  Compile-time options:
    HAS_LONG_DOUBLE
    HAS_STRTOLD
    HAS_TIMES
    PERLIO_LAYERS
    PERL_COPY_ON_WRITE
    PERL_DONT_CREATE_GVSV
    PERL_HASH_FUNC_SIPHASH13
    PERL_HASH_USE_SBOX32
    PERL_MALLOC_WRAP
    PERL_OP_PARENT
    PERL_PRESERVE_IVUV
    PERL_USE_DEVEL
    PERL_USE_SAFE_PUTENV
    USE_64_BIT_ALL
    USE_64_BIT_INT
    USE_LARGE_FILES
    USE_LOCALE
    USE_LOCALE_COLLATE
    USE_LOCALE_CTYPE
    USE_LOCALE_NUMERIC
    USE_LOCALE_TIME
    USE_PERLIO
    USE_PERL_ATOF
  Built under linux
  Compiled at Aug 25 2025 00:04:02
  %ENV:
    PERL="/tmp/basesmoker-reloperl-Cfju/bin/perl"
    PERL5LIB="/tmp/loop_over_bdir-1721494-QTfThW/Dpkg-1.22.21-0/blib/arch:/tmp/loop_over_bdir-1721494-QTfThW/Dpkg-1.22.21-0/blib/lib:/tmp/loop_over_bdir-1721494-QTfThW/LiquidWeb-Storm-CLI-1.03-0/blib/arch:/tmp/loop_over_bdir-1721494-QTfThW/LiquidWeb-Storm-CLI-1.03-0/blib/lib:/tmp/loop_over_bdir-1721494-QTfThW/perl-Hardware-UPS-Perl-0.43-0/blib/arch:/tmp/loop_over_bdir-1721494-QTfThW/perl-Hardware-UPS-Perl-0.43-0/blib/lib:/tmp/loop_over_bdir-1721494-QTfThW/Linux-InitFS-0.2-0/blib/arch:/tmp/loop_over_bdir-1721494-QTfThW/Linux-InitFS-0.2-0/blib/lib:/tmp/loop_over_bdir-1721494-QTfThW/makepp-1.19-0/blib/arch:/tmp/loop_over_bdir-1721494-QTfThW/makepp-1.19-0/blib/lib:/tmp/loop_over_bdir-1721494-QTfThW/Lingua-YaTeA-0.626-0/blib/arch:/tmp/loop_over_bdir-1721494-QTfThW/Lingua-YaTeA-0.626-0/blib/lib:/tmp/loop_over_bdir-1721494-QTfThW/Module-ScanDeps-Static-1.7.6-0/blib/arch:/tmp/loop_over_bdir-1721494-QTfThW/Module-ScanDeps-Static-1.7.6-0/blib/lib:/tmp/loop_over_bdir-1721494-QTfThW/shishi-0.0.1-0/blib/arch:/tmp/loop_over_bdir-1721494-QTfThW/shishi-0.0.1-0/blib/lib"
    PERL5OPT=""
    PERL5_CPANPLUS_IS_RUNNING="1721505"
    PERL5_CPAN_IS_RUNNING="1721505"
    PERL_CANARY_STABILITY_NOPROMPT="1"
    PERL_MM_USE_DEFAULT="1"
    PERL_USE_UNSAFE_INC="1"
  @INC:
    /tmp/loop_over_bdir-1721494-QTfThW/Dpkg-1.22.21-0/blib/arch
    /tmp/loop_over_bdir-1721494-QTfThW/Dpkg-1.22.21-0/blib/lib
    /tmp/loop_over_bdir-1721494-QTfThW/LiquidWeb-Storm-CLI-1.03-0/blib/arch
    /tmp/loop_over_bdir-1721494-QTfThW/LiquidWeb-Storm-CLI-1.03-0/blib/lib
    /tmp/loop_over_bdir-1721494-QTfThW/perl-Hardware-UPS-Perl-0.43-0/blib/arch
    /tmp/loop_over_bdir-1721494-QTfThW/perl-Hardware-UPS-Perl-0.43-0/blib/lib
    /tmp/loop_over_bdir-1721494-QTfThW/Linux-InitFS-0.2-0/blib/arch
    /tmp/loop_over_bdir-1721494-QTfThW/Linux-InitFS-0.2-0/blib/lib
    /tmp/loop_over_bdir-1721494-QTfThW/makepp-1.19-0/blib/arch
    /tmp/loop_over_bdir-1721494-QTfThW/makepp-1.19-0/blib/lib
    /tmp/loop_over_bdir-1721494-QTfThW/Lingua-YaTeA-0.626-0/blib/arch
    /tmp/loop_over_bdir-1721494-QTfThW/Lingua-YaTeA-0.626-0/blib/lib
    /tmp/loop_over_bdir-1721494-QTfThW/Module-ScanDeps-Static-1.7.6-0/blib/arch
    /tmp/loop_over_bdir-1721494-QTfThW/Module-ScanDeps-Static-1.7.6-0/blib/lib
    /tmp/loop_over_bdir-1721494-QTfThW/shishi-0.0.1-0/blib/arch
    /tmp/loop_over_bdir-1721494-QTfThW/shishi-0.0.1-0/blib/lib
    /home/sand/src/perl/repoperls/installed-perls/host/k93jammy/v5.43.2/6567/lib/site_perl/5.43.2/x86_64-linux
    /home/sand/src/perl/repoperls/installed-perls/host/k93jammy/v5.43.2/6567/lib/site_perl/5.43.2
    /home/sand/src/perl/repoperls/installed-perls/host/k93jammy/v5.43.2/6567/lib/5.43.2/x86_64-linux
    /home/sand/src/perl/repoperls/installed-perls/host/k93jammy/v5.43.2/6567/lib/5.43.2
    .