Config-IniFiles v2.96 Perl 5 v5.22.4 x86_64-linux-thread-multi

Status
Pass
From
Nigel Horne
Dist
Config-IniFiles v2.96
Platform
Perl 5 v5.22.4 x86_64-linux-thread-multi
Date
2018-04-07 09:50:53
ID
298e9b4e-3a49-11e8-91ce-d3e3deac0b3f
This distribution has been tested as part of the CPAN Testers
project, supporting the Perl programming language.  See
http://wiki.cpantesters.org/ for more information or email
questions to cpan-testers-discuss@perl.org


--
Dear Shlomi Fish,

This is a computer-generated report for Config-IniFiles-2.96
on perl 5.22.4, created by CPAN-Reporter-1.2018.

Thank you for uploading your work to CPAN.  Congratulations!
All tests were successful.

Sections of this report:

    * Tester comments
    * Program output
    * Prerequisites
    * Environment and other context

------------------------------
TESTER COMMENTS
------------------------------

Additional comments from tester:

this report is from an automated smoke testing program
and was not reviewed by a human for accuracy

------------------------------
PROGRAM OUTPUT
------------------------------

Output from './Build test':

t/00load.t .................................... ok
t/00-compile.t ................................ ok
t/01basic.t ................................... ok
t/02weird.t ................................... ok
t/03comments.t ................................ ok
t/04import.t .................................. ok
t/06oo.t ...................................... ok
t/05hash.t .................................... ok
t/07misc.t .................................... ok
t/08group.t ................................... ok
t/09case.t .................................... ok
t/10delta.t ................................... ok
t/11copy-ties-with-array-vals.t ............... ok
t/12open-empty-file.t ......................... ok
t/13val-in-list-context.t ..................... ok
t/14brackets-within-values.t .................. ok
t/15store-and-retrieve-here-doc-terminator.t .. ok
t/16case-sensitive-default.t .................. ok
t/17untainted-multiline-values.t .............. ok
t/18non-contiguous-groups.t ................... ok
t/19param-found-outside-section.t ............. ok
t/20allowedcommentchars.t ..................... ok
t/22trailing-comment-lines.t .................. ok
t/23scalar-ref.t .............................. ok
t/24case-sensitive-exists.t ................... ok
t/25line-endings.t ............................ ok
t/27empty-ini.t ............................... ok
t/26scalar-filehandle.t ....................... ok
t/28nomultiline.t ............................. ok
t/29end-of-line-comment.t ..................... ok
t/30parameters-with-empty-values.t ............ ok
t/31comments_with_spaces.t .................... ok
t/32mswin-outputs-contain-crs.t ............... skipped: Test is only relevant for Microsoft Windows
untie attempted while 1 inner references still exist at t/33update-using-tied-fh-w-shorter-names.t line 52.
t/33update-using-tied-fh-w-shorter-names.t .... ok
t/34trailing-comments-double-delimeter.t ...... ok
t/35reload-config-no-file.t ................... ok
t/author-pod-coverage.t ....................... skipped: these tests are for testing by the author
t/author-pod-syntax.t ......................... skipped: these tests are for testing by the author
t/author-tidyall.t ............................ skipped: these tests are for testing by the author
t/35section-iterators.t ....................... ok
t/cpan-changes.t .............................. skipped: Test::CPAN::Changes required for this test
t/pod-coverage.t .............................. ok
t/release-cpan-changes.t ...................... skipped: these tests are for release candidate testing
t/pod.t ....................................... ok
t/style-trailing-space.t ...................... skipped: Test::TrailingSpace required for trailing space test.
All tests successful.
Files=45, Tests=201,  2 wallclock secs ( 0.17 usr  0.08 sys +  3.96 cusr  0.55 csys =  4.76 CPU)
Result: PASS

------------------------------
PREREQUISITES
------------------------------

Prerequisite modules loaded:

requires:

    Module              Need  Have    
    ------------------- ----- --------
    Carp                0     1.36    
    Fcntl               0     1.13    
    File::Basename      0     2.85    
    File::Temp          0     0.2304  
    IO::Scalar          0     2.111   
    List::Util          1.33  1.48    
    perl                5.008 5.022004
    strict              0     1.09    
    Symbol              0     1.07    
    vars                0     1.03    
    warnings            0     1.34    

build_requires:

    Module              Need  Have    
    ------------------- ----- --------
    base                0     2.22_01 
    English             0     1.09    
    Exporter            0     5.72    
    File::Spec          0     3.56_02 
    File::Temp          0     0.2304  
    IO::File            0     1.16    
    IO::Handle          0     1.35    
    IPC::Open3          0     1.18    
    lib                 0     0.63    
    Module::Build       0.28  0.4224  
    parent              0     0.232   
    Scalar::Util        0     1.48    
    Test::More          0     1.302086

configure_requires:

    Module              Need  Have    
    ------------------- ----- --------
    ExtUtils::MakeMaker 0     7.30    
    Module::Build       0.28  0.4224  


------------------------------
ENVIRONMENT AND OTHER CONTEXT
------------------------------

Environment variables:

    AUTOMATED_TESTING = 1
    HARNESS_OPTIONS = j2
    LANG = en_US.UTF-8
    PATH = /home/njh/perl5/perlbrew/bin:/home/njh/perl5/perlbrew/perls/perl-5.22.4/bin:src/njh/smoker/bin:/usr/bin:/bin
    PERL5LIB = 
    PERL5OPT = 
    PERL5_CPANPLUS_IS_RUNNING = 26062
    PERL5_CPAN_IS_RUNNING = 26062
    PERLBREW_HOME = /home/njh/.perlbrew
    PERLBREW_MANPATH = /home/njh/perl5/perlbrew/perls/perl-5.22.4/man
    PERLBREW_PATH = /home/njh/perl5/perlbrew/bin:/home/njh/perl5/perlbrew/perls/perl-5.22.4/bin
    PERLBREW_PERL = perl-5.22.4
    PERLBREW_ROOT = /home/njh/perl5/perlbrew
    PERLBREW_SHELLRC_VERSION = 0.82
    PERLBREW_VERSION = 0.82
    SHELL = /bin/sh

Perl special variables (and OS-specific diagnostics, for MSWin32):

    $^X = /home/njh/perl5/perlbrew/perls/perl-5.22.4/bin/perl5.22.4
    $UID/$EUID = 1000 / 1000
    $GID = 1000 4 24 25 29 30 44 46 103 108 115 123 1000
    $EGID = 1000 4 24 25 29 30 44 46 103 108 115 123 1000

Perl module toolchain versions installed:

    Module              Have      
    ------------------- ----------
    CPAN                2.16      
    CPAN::Meta          2.150001  
    Cwd                 3.56_02   
    ExtUtils::CBuilder  0.280221  
    ExtUtils::Command   7.30      
    ExtUtils::Install   2.06      
    ExtUtils::MakeMaker 7.30      
    ExtUtils::Manifest  1.70      
    ExtUtils::ParseXS   3.28      
    File::Spec          3.56_02   
    JSON                2.94      
    JSON::PP            2.27300_01
    Module::Build       0.4224    
    Module::Signature   n/a       
    Parse::CPAN::Meta   1.4414_001
    Test::Harness       3.35_01   
    Test::More          1.302086  
    YAML                1.23      
    YAML::Syck          1.30      
    version             0.9909    


--

Summary of my perl5 (revision 5 version 22 subversion 4) configuration:
   
  Platform:
    osname=linux, osvers=4.9.0-3-amd64, archname=x86_64-linux-thread-multi
    uname='linux amelia 4.9.0-3-amd64 #1 smp debian 4.9.25-1 (2017-05-02) x86_64 gnulinux '
    config_args='-de -Dprefix=/home/njh/perl5/perlbrew/perls/perl-5.22.4 -Duseithreads -Dusemultiplicity -Dusedevel -Accflags= -Aeval:scriptdir=/home/njh/perl5/perlbrew/perls/perl-5.22.4/bin'
    hint=recommended, useposix=true, d_sigaction=define
    useithreads=define, usemultiplicity=define
    use64bitint=define, use64bitall=define, uselongdouble=undef
    usemymalloc=n, bincompat5005=undef
  Compiler:
    cc='cc', ccflags ='-D_REENTRANT -D_GNU_SOURCE -fwrapv -fno-strict-aliasing -pipe -fstack-protector-strong -I/usr/local/include -D_LARGEFILE_SOURCE -D_FILE_OFFSET_BITS=64',
    optimize='-O2',
    cppflags='-D_REENTRANT -D_GNU_SOURCE -fwrapv -fno-strict-aliasing -pipe -fstack-protector-strong -I/usr/local/include'
    ccversion='', gccversion='6.4.0 20170704', gccosandvers=''
    intsize=4, longsize=8, ptrsize=8, doublesize=8, byteorder=12345678, doublekind=3
    d_longlong=define, longlongsize=8, d_longdbl=define, longdblsize=16, longdblkind=3
    ivtype='long', ivsize=8, nvtype='double', nvsize=8, Off_t='off_t', lseeksize=8
    alignbytes=8, prototype=define
  Linker and Libraries:
    ld='cc', ldflags =' -fstack-protector-strong -L/usr/local/lib'
    libpth=/usr/local/lib /usr/lib/gcc/x86_64-linux-gnu/6/include-fixed /usr/include/x86_64-linux-gnu /usr/lib /lib/x86_64-linux-gnu /lib/../lib /usr/lib/x86_64-linux-gnu /usr/lib/../lib /lib /lib64 /usr/lib64
    libs=-lpthread -lnsl -lgdbm -ldb -ldl -lm -lcrypt -lutil -lc -lgdbm_compat
    perllibs=-lpthread -lnsl -ldl -lm -lcrypt -lutil -lc
    libc=libc-2.24.so, so=so, useshrplib=false, libperl=libperl.a
    gnulibc_version='2.24'
  Dynamic Linking:
    dlsrc=dl_dlopen.xs, dlext=so, d_dlsymun=undef, ccdlflags='-Wl,-E'
    cccdlflags='-fPIC', lddlflags='-shared -O2 -L/usr/local/lib -fstack-protector-strong'


Characteristics of this binary (from libperl): 
  Compile-time options: HAS_TIMES MULTIPLICITY PERLIO_LAYERS
                        PERL_DONT_CREATE_GVSV
                        PERL_HASH_FUNC_ONE_AT_A_TIME_HARD
                        PERL_IMPLICIT_CONTEXT PERL_MALLOC_WRAP
                        PERL_NEW_COPY_ON_WRITE PERL_PRESERVE_IVUV
                        PERL_USE_DEVEL USE_64_BIT_ALL USE_64_BIT_INT
                        USE_ITHREADS USE_LARGE_FILES USE_LOCALE
                        USE_LOCALE_COLLATE USE_LOCALE_CTYPE
                        USE_LOCALE_NUMERIC USE_LOCALE_TIME USE_PERLIO
                        USE_PERL_ATOF USE_REENTRANT_API
  Built under linux
  Compiled at Jul 19 2017 00:51:15
  %ENV:
    PERL5LIB=""
    PERL5OPT=""
    PERL5_CPANPLUS_IS_RUNNING="26062"
    PERL5_CPAN_IS_RUNNING="26062"
    PERLBREW_HOME="/home/njh/.perlbrew"
    PERLBREW_MANPATH="/home/njh/perl5/perlbrew/perls/perl-5.22.4/man"
    PERLBREW_PATH="/home/njh/perl5/perlbrew/bin:/home/njh/perl5/perlbrew/perls/perl-5.22.4/bin"
    PERLBREW_PERL="perl-5.22.4"
    PERLBREW_ROOT="/home/njh/perl5/perlbrew"
    PERLBREW_SHELLRC_VERSION="0.82"
    PERLBREW_VERSION="0.82"
  @INC:
    /home/njh/perl5/perlbrew/perls/perl-5.22.4/lib/site_perl/5.22.4/x86_64-linux-thread-multi
    /home/njh/perl5/perlbrew/perls/perl-5.22.4/lib/site_perl/5.22.4
    /home/njh/perl5/perlbrew/perls/perl-5.22.4/lib/5.22.4/x86_64-linux-thread-multi
    /home/njh/perl5/perlbrew/perls/perl-5.22.4/lib/5.22.4
    .