Report for CGI-Session-4.43

Back
From: metabase:user:31dd1d2e-2aae-11df-837a-5e0a49663a4f
Subject: PASS CGI-Session-4.43 v5.12.2 
Date: 2011-01-27T15:03:41Z

This distribution has been tested as part of the CPAN Testers
project, supporting the Perl programming language.  See
http://wiki.cpantesters.org/ for more information or email
questions to cpan-testers-discuss@perl.org


--
Dear Mark Stosberg,

This is a computer-generated report for CGI-Session-4.43
on perl 5.12.2, created by CPAN-Reporter-1.1902.

Thank you for uploading your work to CPAN.  Congratulations!
All tests were successful.

Sections of this report:

    * Tester comments
    * Program output
    * Prerequisites
    * Environment and other context

------------------------------
TESTER COMMENTS
------------------------------

Additional comments from tester:

this report is from an automated smoke testing program
and was not reviewed by a human for accuracy

------------------------------
PROGRAM OUTPUT
------------------------------

Output from 'C:\Perl-12\bin\perl.exe ./Build test':

t\api3_db_file.t ................ skipped: DB_File not available
t\api3_db_file_freezethaw.t ..... skipped: DB_File not available
t\api3_db_file_storable.t ....... skipped: DB_File not available
t\api3_db_file_storable_incr.t .. skipped: DB_File not available
t\api3_file.t ................... ok
t\api3_file_freezethaw.t ........ skipped: FreezeThaw not available
t\api3_file_freezethaw_incr.t ... skipped: FreezeThaw not available
t\api3_file_storable.t .......... ok
t\api3_file_storable_incr.t ..... ok
t\api3_incr.t ................... ok
#Using Storable as object serializer
t\api3_obj_store.t .............. ok
t\api3_obj_store_db_file.t ...... skipped: DB_File is not available
t\bug21952.t .................... ok
t\bug24285.t .................... ok
t\cgi_simple.t .................. skipped: CGI::Simple not installed, so skipping related tests.
t\complex_ds.t .................. ok
t\driver_dbi.t .................. ok
t\expire.t ...................... ok
# The found session has been deleted and flushed
t\find.t ........................ ok
t\flush.t ....................... ok
t\g4.t .......................... ok
t\g4_dbfile.t ................... skipped: DB_File is NOT available
t\g4_dbfile_freezethaw.t ........ skipped: DB_File is NOT available
t\g4_dbfile_storable.t .......... skipped: DB_File is NOT available
t\g4_freezethaw.t ............... skipped: FreezeThaw is NOT available
t\g4_mysql.t .................... skipped: DBD::mysql is NOT available
t\g4_mysql_freezethaw.t ......... skipped: DBD::mysql is NOT available
t\g4_mysql_storable.t ........... skipped: DBD::mysql is NOT available
t\g4_postgresql.t ............... skipped: DataSource is not known
t\g4_postgresql_freezethaw.t .... skipped: DataSource is not known
t\g4_postgresql_storable.t ...... skipped: DataSource is not known
t\g4_sqlite.t ................... ok
t\g4_sqlite_freezethaw.t ........ skipped: FreezeThaw is NOT available
t\g4_sqlite_storable.t .......... ok
t\g4_storable.t ................. ok
t\header.t ...................... ok
t\ip_matches.t .................. ok
t\is_new.t ...................... ok
Argument "wrong" isn't numeric in numeric ne (!=) at
	C:\Perl-12\cpan\build\CGI-Session-4.43-D9sICK\blib\lib/CGI/Session.pm line 684 (#1)
    (W numeric) The indicated string was fed as an argument to an operator
    that expected a numeric value instead.  If you're fortunate the message
    will identify which operator was so unfortunate.
    
t\load.t ........................ ok
t\load_with_undef.t ............. ok
t\name.t ........................ ok
t\new_with_undef.t .............. ok
t\parse_dsn.t ................... ok
t\remote_addr.t ................. ok
# Check in STORE of original item
# Check in STORE of stored/retrieved item
# Check in LOAD after loading from session
t\session_param_undef.t ......... ok
t\str2seconds.t ................. ok
t\symlink_db_file.t ............. skipped: DB_File not available
t\symlink_file.t ................ skipped: Your OS doesn't support symlinks
All tests successful.
Files=48, Tests=608, 25 wallclock secs ( 0.25 usr +  0.03 sys =  0.28 CPU)
Result: PASS

------------------------------
PREREQUISITES
------------------------------

Prerequisite modules loaded:

requires:

    Module              Need Have 
    ------------------- ---- -----
    CGI                 3.26 3.50 
    Data::Dumper        0    2.128
    Digest::MD5         0    2.51 
    Scalar::Util        0    1.23 

build_requires:

    Module              Need Have 
    ------------------- ---- -----
    Test::More          0    0.96 

configure_requires:

    Module              Need Have 
    ------------------- ---- -----
    ExtUtils::MakeMaker 0    6.56 


------------------------------
ENVIRONMENT AND OTHER CONTEXT
------------------------------

Environment variables:

    ACTIVEPERL_CONFIG_SILENT = 1
    AUTOMATED_TESTING = 1
    COMSPEC = C:\Windows\system32\cmd.exe
    NUMBER_OF_PROCESSORS = 2
    PATH = C:\Perl-12\site\bin;C:\Perl-12\bin;C:\Program Files (x86)\PC Connectivity Solution\;c:\Program Files (x86)\NVIDIA Corporation\PhysX\Common;C:\Program Files (x86)\ActiveState Komodo IDE 5\;C:\Windows\system32;C:\Windows;C:\Windows\System32\Wbem;C:\Windows\System32\WindowsPowerShell\v1.0\;C:\Program Files (x86)\TortoiseSVN\bin
    PERL5LIB = C:\Perl-12\cpan\build\Statistics-Descriptive-3.0201-r7Rp0h/blib/arch;C:\Perl-12\cpan\build\Statistics-Descriptive-3.0201-r7Rp0h/blib/lib;C:\Perl-12\cpan\build\Data-Stag-0.11-dlcmRP/blib/arch;C:\Perl-12\cpan\build\Data-Stag-0.11-dlcmRP/blib/lib
    PERL5OPT = 
    PERL5_CPANPLUS_IS_RUNNING = 5668
    PERL5_CPAN_IS_RUNNING = 5668
    PERL5_CPAN_IS_RUNNING_IN_RECURSION = 7692,5668
    PERL_CR_SMOKER_CURRENT = GBrowse-2.22
    PERL_EXTUTILS_AUTOINSTALL = --defaultdeps
    PERL_MM_USE_DEFAULT = 1
    PROCESSOR_IDENTIFIER = AMD64 Family 16 Model 4 Stepping 2, AuthenticAMD
    TEMP = C:\Users\Mithaldu\AppData\Local\Temp
    TERM = dumb

Perl special variables (and OS-specific diagnostics, for MSWin32):

    $^X = C:\Perl-12\bin\perl.exe
    $UID/$EUID = 0 / 0
    $GID = 0
    $EGID = 0
    Win32::GetOSName = Win7
    Win32::GetOSVersion = , 6, 1, 7600, 2, 0, 0, 256, 1
    Win32::FsType = NTFS
    Win32::IsAdminUser = 0

Perl module toolchain versions installed:

    Module              Have   
    ------------------- -------
    CPAN                1.94_56
    Cwd                 3.33   
    ExtUtils::CBuilder  0.2703 
    ExtUtils::Command   1.16   
    ExtUtils::Install   1.55   
    ExtUtils::MakeMaker 6.56   
    ExtUtils::Manifest  1.58   
    ExtUtils::ParseXS   2.2206 
    File::Spec          3.33   
    Module::Build       0.3607 
    Module::Signature   n/a    
    Test::Harness       3.22   
    Test::More          0.96   
    YAML                n/a    
    YAML::Syck          n/a    
    version             0.82   


--

Summary of my perl5 (revision 5 version 12 subversion 2) configuration:
   
  Platform:
    osname=MSWin32, osvers=5.2, archname=MSWin32-x86-multi-thread
    uname=''
    config_args='undef'
    hint=recommended, useposix=true, d_sigaction=undef
    useithreads=define, usemultiplicity=define
    useperlio=define, d_sfio=undef, uselargefiles=define, usesocks=undef
    use64bitint=undef, use64bitall=undef, uselongdouble=undef
    usemymalloc=n, bincompat5005=undef
  Compiler:
    cc='C:/Perl-12/site/bin/gcc.exe', ccflags ='-DNDEBUG -DWIN32 -D_CONSOLE -DNO_STRICT -DHAVE_DES_FCRYPT -DUSE_SITECUSTOMIZE -DPERL_IMPLICIT_CONTEXT -DPERL_IMPLICIT_SYS -DUSE_PERLIO -D_USE_32BIT_TIME_T -DPERL_MSVCRT_READFIX -DHASATTRIBUTE -fno-strict-aliasing -mms-bitfields',
    optimize='-O2',
    cppflags='-DWIN32'
    ccversion='', gccversion='3.4.5 (mingw-vista special r3)', gccosandvers=''
    intsize=4, longsize=4, ptrsize=4, doublesize=8, byteorder=1234
    d_longlong=undef, longlongsize=8, d_longdbl=define, longdblsize=8
    ivtype='long', ivsize=4, nvtype='double', nvsize=8, Off_t='__int64', lseeksize=8
    alignbytes=8, prototype=define
  Linker and Libraries:
    ld='C:\Perl-12\site\bin\g++.exe', ldflags ='-L"C:\Perl-12\lib\CORE"'
    libpth=\lib
    libs=-lkernel32 -luser32 -lgdi32 -lwinspool -lcomdlg32 -ladvapi32 -lshell32 -lole32 -loleaut32 -lnetapi32 -luuid -lws2_32 -lmpr -lwinmm -lversion -lodbc32 -lodbccp32 -lcomctl32 -lmsvcrt
    perllibs=-lkernel32 -luser32 -lgdi32 -lwinspool -lcomdlg32 -ladvapi32 -lshell32 -lole32 -loleaut32 -lnetapi32 -luuid -lws2_32 -lmpr -lwinmm -lversion -lodbc32 -lodbccp32 -lcomctl32 -lmsvcrt
    libc=msvcrt.lib, so=dll, useshrplib=true, libperl=perl512.lib
    gnulibc_version=''
  Dynamic Linking:
    dlsrc=dl_win32.xs, dlext=dll, d_dlsymun=undef, ccdlflags=' '
    cccdlflags=' ', lddlflags='-mdll -L"C:\Perl-12\lib\CORE"'


Characteristics of this binary (from libperl): 
  Compile-time options: MULTIPLICITY PERL_DONT_CREATE_GVSV
                        PERL_IMPLICIT_CONTEXT PERL_IMPLICIT_SYS
                        PERL_MALLOC_WRAP PL_OP_SLAB_ALLOC USE_ITHREADS
                        USE_LARGE_FILES USE_PERLIO USE_PERL_ATOF
                        USE_SITECUSTOMIZE
  Locally applied patches:
	ActivePerl Build 1203 [294165]
	1fd8fa4 Add Wolfram Humann to AUTHORS
	f120055 make string-append on win32 100 times faster
	a2a8d15 Define _USE_32BIT_TIME_T for VC6 and VC7
	007cfe1 Don't pretend to support really old VC++ compilers
	6d8f7c9 Get rid of obsolete PerlCRT.dll support
	d956618 Make Term::ReadLine::findConsole fall back to STDIN if /dev/tty can't be opened
	321e50c Escape patch strings before embedding them in patchlevel.h
  Built under MSWin32
  Compiled at Dec  9 2010 04:03:28
  %ENV:
    PERL5LIB="C:\Perl-12\cpan\build\Statistics-Descriptive-3.0201-r7Rp0h/blib/arch;C:\Perl-12\cpan\build\Statistics-Descriptive-3.0201-r7Rp0h/blib/lib;C:\Perl-12\cpan\build\Data-Stag-0.11-dlcmRP/blib/arch;C:\Perl-12\cpan\build\Data-Stag-0.11-dlcmRP/blib/lib"
    PERL5_CPANPLUS_IS_RUNNING="5668"
    PERL5_CPAN_IS_RUNNING="5668"
    PERL5_CPAN_IS_RUNNING_IN_RECURSION="7692,5668"
    PERL_CR_SMOKER_CURRENT="GBrowse-2.22"
    PERL_EXTUTILS_AUTOINSTALL="--defaultdeps"
    PERL_MM_USE_DEFAULT="1"
  @INC:
    C:\Perl-12\cpan\build\Statistics-Descriptive-3.0201-r7Rp0h/blib/arch
    C:\Perl-12\cpan\build\Statistics-Descriptive-3.0201-r7Rp0h/blib/lib
    C:\Perl-12\cpan\build\Data-Stag-0.11-dlcmRP/blib/arch
    C:\Perl-12\cpan\build\Data-Stag-0.11-dlcmRP/blib/lib
    C:/Perl-12/site/lib
    C:/Perl-12/lib
    .