Report for HTML-Template-Parser-0.1011

Back
From: metabase:user:3198cbe2-2aae-11df-837a-5e0a49663a4f
Subject: PASS HTML-Template-Parser-0.1011 v5.18.1 GNU/Linux
Date: 2013-10-25T20:15:16Z

This distribution has been tested as part of the CPAN Testers
project, supporting the Perl programming language.  See
http://wiki.cpantesters.org/ for more information or email
questions to cpan-testers-discuss@perl.org


--
Dear Shigeki Morimoto,

This is a computer-generated report for HTML-Template-Parser-0.1011
on perl 5.18.1, created by CPAN-Reporter-1.2010.

Thank you for uploading your work to CPAN.  Congratulations!
All tests were successful.

Sections of this report:

    * Tester comments
    * Program output
    * Prerequisites
    * Environment and other context

------------------------------
TESTER COMMENTS
------------------------------

Additional comments from tester:

this report is from an automated smoke testing program
and was not reviewed by a human for accuracy

------------------------------
PROGRAM OUTPUT
------------------------------

Output from '/usr/bin/make test':

PERL_DL_NONLAZY=1 /home/graham/perls/perl-5.18.1/bin/perl "-MExtUtils::Command::MM" "-MTest::Harness" "-e" "undef *Test::Harness::Switches; test_harness(0, 'inc', 'blib/lib', 'blib/arch')" t/*.t t/010_expr_parser/*.t t/020_template_parser/*.t t/030_tree_writer/010_htp/*.t t/030_tree_writer/020_textxslate_metakolon/*.t t/900_bug/*.t
t/000_load.t .............................................................. ok
t/010_expr_parser/001_use.t ............................................... ok
t/010_expr_parser/002_error.t ............................................. ok
t/010_expr_parser/003_number.t ............................................ ok
t/010_expr_parser/004_string.t ............................................ ok
t/010_expr_parser/005_variable.t .......................................... ok
t/010_expr_parser/006_not.t ............................................... ok
t/010_expr_parser/007_match.t ............................................. ok
t/010_expr_parser/008_math.t .............................................. ok
t/010_expr_parser/009_compare.t ........................................... ok
t/010_expr_parser/010_andor.t ............................................. ok
t/010_expr_parser/011_complex.t ........................................... ok
t/020_template_parser/001_use.t ........................................... ok
t/020_template_parser/002_error.t ......................................... ok
t/020_template_parser/003_to_list.t ....................................... ok
t/020_template_parser/004_to_tree.t ....................................... ok
t/030_tree_writer/010_htp/001_use.t ....................................... ok
t/030_tree_writer/010_htp/002_write.t ..................................... ok
t/030_tree_writer/020_textxslate_metakolon/001_use.t ...................... ok
Use of uninitialized value in lc at /home/graham/perls/caches/perl-5.18.1/build/HTML-Template-Parser-0.1011-BEUCPz/blib/lib/HTML/Template/Parser/TreeWriter/TextXslate/Metakolon.pm line 58.
Use of uninitialized value in lc at /home/graham/perls/caches/perl-5.18.1/build/HTML-Template-Parser-0.1011-BEUCPz/blib/lib/HTML/Template/Parser/TreeWriter/TextXslate/Metakolon.pm line 58.
Use of uninitialized value in lc at /home/graham/perls/caches/perl-5.18.1/build/HTML-Template-Parser-0.1011-BEUCPz/blib/lib/HTML/Template/Parser/TreeWriter/TextXslate/Metakolon.pm line 58.
Use of uninitialized value in lc at /home/graham/perls/caches/perl-5.18.1/build/HTML-Template-Parser-0.1011-BEUCPz/blib/lib/HTML/Template/Parser/TreeWriter/TextXslate/Metakolon.pm line 58.
Use of uninitialized value in lc at /home/graham/perls/caches/perl-5.18.1/build/HTML-Template-Parser-0.1011-BEUCPz/blib/lib/HTML/Template/Parser/TreeWriter/TextXslate/Metakolon.pm line 58.
Use of uninitialized value in lc at /home/graham/perls/caches/perl-5.18.1/build/HTML-Template-Parser-0.1011-BEUCPz/blib/lib/HTML/Template/Parser/TreeWriter/TextXslate/Metakolon.pm line 58.
Use of uninitialized value in lc at /home/graham/perls/caches/perl-5.18.1/build/HTML-Template-Parser-0.1011-BEUCPz/blib/lib/HTML/Template/Parser/TreeWriter/TextXslate/Metakolon.pm line 58.
Use of uninitialized value in lc at /home/graham/perls/caches/perl-5.18.1/build/HTML-Template-Parser-0.1011-BEUCPz/blib/lib/HTML/Template/Parser/TreeWriter/TextXslate/Metakolon.pm line 58.
Use of uninitialized value in lc at /home/graham/perls/caches/perl-5.18.1/build/HTML-Template-Parser-0.1011-BEUCPz/blib/lib/HTML/Template/Parser/TreeWriter/TextXslate/Metakolon.pm line 58.
Use of uninitialized value in lc at /home/graham/perls/caches/perl-5.18.1/build/HTML-Template-Parser-0.1011-BEUCPz/blib/lib/HTML/Template/Parser/TreeWriter/TextXslate/Metakolon.pm line 58.
Use of uninitialized value in lc at /home/graham/perls/caches/perl-5.18.1/build/HTML-Template-Parser-0.1011-BEUCPz/blib/lib/HTML/Template/Parser/TreeWriter/TextXslate/Metakolon.pm line 58.
Use of uninitialized value in lc at /home/graham/perls/caches/perl-5.18.1/build/HTML-Template-Parser-0.1011-BEUCPz/blib/lib/HTML/Template/Parser/TreeWriter/TextXslate/Metakolon.pm line 58.
Use of uninitialized value in lc at /home/graham/perls/caches/perl-5.18.1/build/HTML-Template-Parser-0.1011-BEUCPz/blib/lib/HTML/Template/Parser/TreeWriter/TextXslate/Metakolon.pm line 58.
Use of uninitialized value in lc at /home/graham/perls/caches/perl-5.18.1/build/HTML-Template-Parser-0.1011-BEUCPz/blib/lib/HTML/Template/Parser/TreeWriter/TextXslate/Metakolon.pm line 58.
Use of uninitialized value in lc at /home/graham/perls/caches/perl-5.18.1/build/HTML-Template-Parser-0.1011-BEUCPz/blib/lib/HTML/Template/Parser/TreeWriter/TextXslate/Metakolon.pm line 58.
Use of uninitialized value in lc at /home/graham/perls/caches/perl-5.18.1/build/HTML-Template-Parser-0.1011-BEUCPz/blib/lib/HTML/Template/Parser/TreeWriter/TextXslate/Metakolon.pm line 58.
Use of uninitialized value in lc at /home/graham/perls/caches/perl-5.18.1/build/HTML-Template-Parser-0.1011-BEUCPz/blib/lib/HTML/Template/Parser/TreeWriter/TextXslate/Metakolon.pm line 58.
Use of uninitialized value in lc at /home/graham/perls/caches/perl-5.18.1/build/HTML-Template-Parser-0.1011-BEUCPz/blib/lib/HTML/Template/Parser/TreeWriter/TextXslate/Metakolon.pm line 58.
Use of uninitialized value in lc at /home/graham/perls/caches/perl-5.18.1/build/HTML-Template-Parser-0.1011-BEUCPz/blib/lib/HTML/Template/Parser/TreeWriter/TextXslate/Metakolon.pm line 58.
Use of uninitialized value in lc at /home/graham/perls/caches/perl-5.18.1/build/HTML-Template-Parser-0.1011-BEUCPz/blib/lib/HTML/Template/Parser/TreeWriter/TextXslate/Metakolon.pm line 58.
Use of uninitialized value in lc at /home/graham/perls/caches/perl-5.18.1/build/HTML-Template-Parser-0.1011-BEUCPz/blib/lib/HTML/Template/Parser/TreeWriter/TextXslate/Metakolon.pm line 58.
Use of uninitialized value in lc at /home/graham/perls/caches/perl-5.18.1/build/HTML-Template-Parser-0.1011-BEUCPz/blib/lib/HTML/Template/Parser/TreeWriter/TextXslate/Metakolon.pm line 58.
Use of uninitialized value in lc at /home/graham/perls/caches/perl-5.18.1/build/HTML-Template-Parser-0.1011-BEUCPz/blib/lib/HTML/Template/Parser/TreeWriter/TextXslate/Metakolon.pm line 58.
Use of uninitialized value in lc at /home/graham/perls/caches/perl-5.18.1/build/HTML-Template-Parser-0.1011-BEUCPz/blib/lib/HTML/Template/Parser/TreeWriter/TextXslate/Metakolon.pm line 58.
Use of uninitialized value in lc at /home/graham/perls/caches/perl-5.18.1/build/HTML-Template-Parser-0.1011-BEUCPz/blib/lib/HTML/Template/Parser/TreeWriter/TextXslate/Metakolon.pm line 58.
Use of uninitialized value in lc at /home/graham/perls/caches/perl-5.18.1/build/HTML-Template-Parser-0.1011-BEUCPz/blib/lib/HTML/Template/Parser/TreeWriter/TextXslate/Metakolon.pm line 58.
t/030_tree_writer/020_textxslate_metakolon/002_write.t .................... ok
t/030_tree_writer/020_textxslate_metakolon/003_replace_tempalte_suffix.t .. ok
t/030_tree_writer/020_textxslate_metakolon/004_wrap_include_target.t ...... ok
t/900_bug/001_not.t ....................................................... ok
t/900_bug/002_float.t ..................................................... ok
t/900_bug/003_name_and_expr.t ............................................. ok
All tests successful.
Files=25, Tests=238,  8 wallclock secs ( 0.17 usr  0.04 sys +  5.95 cusr  0.46 csys =  6.62 CPU)
Result: PASS

------------------------------
PREREQUISITES
------------------------------

Prerequisite modules loaded:

requires:

    Module                Need     Have    
    --------------------- -------- --------
    Class::Accessor::Fast 0        0.34    
    Parse::RecDescent     0        1.967009
    perl                  5.008001 5.018001
    YAML                  0        0.84    

build_requires:

    Module                Need     Have    
    --------------------- -------- --------
    ExtUtils::MakeMaker   6.59     6.81_03 

configure_requires:

    Module                Need     Have    
    --------------------- -------- --------
    ExtUtils::MakeMaker   6.59     6.81_03 


------------------------------
ENVIRONMENT AND OTHER CONTEXT
------------------------------

Environment variables:

    AUTOMATED_TESTING = 1
    LANG = en_GB.UTF-8
    PATH = /home/graham/perls/perl-5.18.1/bin:/usr/local/sbin:/usr/local/bin:/usr/bin:/usr/bin/vendor_perl:/usr/bin/core_perl
    PERL5LIB = 
    PERL5OPT = 
    PERL5_CPANPLUS_IS_RUNNING = 24540
    PERL5_CPAN_IS_RUNNING = 24540
    PERL5_CPAN_IS_RUNNING_IN_RECURSION = 374,24540
    PERL_CR_SMOKER_CURRENT = HTML-Template-Parser-0.1011
    PERL_EXTUTILS_AUTOINSTALL = --defaultdeps
    PERL_MM_USE_DEFAULT = 1
    SHELL = /bin/bash
    TERM = xterm

Perl special variables (and OS-specific diagnostics, for MSWin32):

    $^X = /home/graham/perls/perl-5.18.1/bin/perl
    $UID/$EUID = 1000 / 1000
    $GID = 100 10 95 98 100
    $EGID = 100 10 95 98 100

Perl module toolchain versions installed:

    Module              Have    
    ------------------- --------
    CPAN                2.00    
    CPAN::Meta          2.132830
    Cwd                 3.40    
    ExtUtils::CBuilder  0.280212
    ExtUtils::Command   1.18    
    ExtUtils::Install   1.59    
    ExtUtils::MakeMaker 6.81_03 
    ExtUtils::Manifest  1.63    
    ExtUtils::ParseXS   3.22    
    File::Spec          3.40    
    JSON                2.61    
    JSON::PP            2.27203 
    Module::Build       0.4003  
    Module::Signature   0.73    
    Parse::CPAN::Meta   1.4409  
    Test::Harness       3.29    
    Test::More          0.99    
    YAML                0.84    
    YAML::Syck          1.27    
    version             0.9904  


--

Summary of my perl5 (revision 5 version 18 subversion 1) configuration:
   
  Platform:
    osname=linux, osvers=3.11.4-1-arch, archname=x86_64-linux
    uname='linux grosics 3.11.4-1-arch #1 smp preempt sat oct 5 21:22:51 cest 2013 x86_64 gnulinux '
    config_args=''
    hint=recommended, useposix=true, d_sigaction=define
    useithreads=undef, usemultiplicity=undef
    useperlio=define, d_sfio=undef, uselargefiles=define, usesocks=undef
    use64bitint=define, use64bitall=define, uselongdouble=undef
    usemymalloc=n, bincompat5005=undef
  Compiler:
    cc='cc', ccflags ='-fno-strict-aliasing -pipe -fstack-protector -I/usr/local/include -D_LARGEFILE_SOURCE -D_FILE_OFFSET_BITS=64',
    optimize='-O2',
    cppflags='-fno-strict-aliasing -pipe -fstack-protector -I/usr/local/include'
    ccversion='', gccversion='4.8.1 20130725 (prerelease)', gccosandvers=''
    intsize=4, longsize=8, ptrsize=8, doublesize=8, byteorder=12345678
    d_longlong=define, longlongsize=8, d_longdbl=define, longdblsize=16
    ivtype='long', ivsize=8, nvtype='double', nvsize=8, Off_t='off_t', lseeksize=8
    alignbytes=8, prototype=define
  Linker and Libraries:
    ld='cc', ldflags =' -fstack-protector -L/usr/local/lib'
    libpth=/usr/local/lib /lib/../lib /usr/lib/../lib /lib /usr/lib /lib64 /usr/lib64
    libs=-lnsl -lgdbm -ldb -ldl -lm -lcrypt -lutil -lc -lgdbm_compat
    perllibs=-lnsl -ldl -lm -lcrypt -lutil -lc
    libc=/lib/libc-2.18.so, so=so, useshrplib=false, libperl=libperl.a
    gnulibc_version='2.18'
  Dynamic Linking:
    dlsrc=dl_dlopen.xs, dlext=so, d_dlsymun=undef, ccdlflags='-Wl,-E'
    cccdlflags='-fPIC', lddlflags='-shared -O2 -L/usr/local/lib -fstack-protector'


Characteristics of this binary (from libperl): 
  Compile-time options: HAS_TIMES PERLIO_LAYERS PERL_DONT_CREATE_GVSV
                        PERL_HASH_FUNC_ONE_AT_A_TIME_HARD PERL_MALLOC_WRAP
                        PERL_PRESERVE_IVUV PERL_SAWAMPERSAND USE_64_BIT_ALL
                        USE_64_BIT_INT USE_LARGE_FILES USE_LOCALE
                        USE_LOCALE_COLLATE USE_LOCALE_CTYPE
                        USE_LOCALE_NUMERIC USE_PERLIO USE_PERL_ATOF
  Built under linux
  Compiled at Oct 11 2013 10:49:28
  %ENV:
    PERL5LIB=""
    PERL5OPT=""
    PERL5_CPANPLUS_IS_RUNNING="24540"
    PERL5_CPAN_IS_RUNNING="24540"
    PERL5_CPAN_IS_RUNNING_IN_RECURSION="374,24540"
    PERL_CR_SMOKER_CURRENT="HTML-Template-Parser-0.1011"
    PERL_EXTUTILS_AUTOINSTALL="--defaultdeps"
    PERL_MM_USE_DEFAULT="1"
  @INC:
    /home/graham/perls/perl-5.18.1/lib/site_perl/5.18.1/x86_64-linux
    /home/graham/perls/perl-5.18.1/lib/site_perl/5.18.1
    /home/graham/perls/perl-5.18.1/lib/5.18.1/x86_64-linux
    /home/graham/perls/perl-5.18.1/lib/5.18.1
    .