Back
From: metabase:user:0d96120c-29e2-11e5-b049-ede3035d37de
Subject: PASS Catalyst-Plugin-HashedCookies-1.131710 v5.23.1 GNU/Linux
Date: 2015-08-06T16:57:04Z
This distribution has been tested as part of the CPAN Testers
project, supporting the Perl programming language. See
http://wiki.cpantesters.org/ for more information or email
questions to cpan-testers-discuss@perl.org
--
Dear Oliver Gorwits,
This is a computer-generated report for Catalyst-Plugin-HashedCookies-1.131710
on perl 5.23.1, created by CPAN-Reporter-1.2015.
Thank you for uploading your work to CPAN. Congratulations!
All tests were successful.
Sections of this report:
* Tester comments
* Program output
* Prerequisites
* Environment and other context
------------------------------
TESTER COMMENTS
------------------------------
Additional comments from tester:
this report is from an automated smoke testing program
and was not reviewed by a human for accuracy
CPU : Intel(R) Xeon(R) CPU E5-2680 v2 @ 2.80GHz
MEMORY : 1.94 GB
ARCH : x86_64
OS : CentOS 7.1.1503
KERNEL : Linux 4.1.0-x86_64-linode59
VIRTUALIZATION : xen0
------------------------------
PROGRAM OUTPUT
------------------------------
Output from '/usr/bin/make test':
PERL_DL_NONLAZY=1 "/home/jmaslak/perl5/perlbrew/perls/perl-5.23.1-thread-multi-ld/bin/perl5.23.1" "-MExtUtils::Command::MM" "-MTest::Harness" "-e" "undef *Test::Harness::Switches; test_harness(0, 'blib/lib', 'blib/arch')" t/*.t
# Testing Catalyst::Plugin::HashedCookies 1.131710, Perl 5.023001, /home/jmaslak/perl5/perlbrew/perls/perl-5.23.1-thread-multi-ld/bin/perl5.23.1
t/00-load.t .................. ok
t/10-initialize.t ............ ok
t/21-setup.t ................. ok
t/21a-setup.t ................ ok
t/22-setup.t ................. ok
t/23-setup.t ................. ok
t/24-setup.t ................. ok
t/24a-setup.t ................ ok
t/25-setup.t ................. ok
Encountered CODE ref, using dummy placeholder at /home/jmaslak/perl5/perlbrew/perls/perl-5.23.1-thread-multi-ld/lib/5.23.1/x86_64-linux-thread-multi-ld/Data/Dumper.pm line 231.
Encountered CODE ref, using dummy placeholder at /home/jmaslak/perl5/perlbrew/perls/perl-5.23.1-thread-multi-ld/lib/5.23.1/x86_64-linux-thread-multi-ld/Data/Dumper.pm line 231.
Encountered CODE ref, using dummy placeholder at /home/jmaslak/perl5/perlbrew/perls/perl-5.23.1-thread-multi-ld/lib/5.23.1/x86_64-linux-thread-multi-ld/Data/Dumper.pm line 231.
[error] Attempted use of restricted ("_hashedcookies_*") value in cookie
t/30-restricted.t ............ ok
Encountered CODE ref, using dummy placeholder at /home/jmaslak/perl5/perlbrew/perls/perl-5.23.1-thread-multi-ld/lib/5.23.1/x86_64-linux-thread-multi-ld/Data/Dumper.pm line 231.
Encountered CODE ref, using dummy placeholder at /home/jmaslak/perl5/perlbrew/perls/perl-5.23.1-thread-multi-ld/lib/5.23.1/x86_64-linux-thread-multi-ld/Data/Dumper.pm line 231.
Encountered CODE ref, using dummy placeholder at /home/jmaslak/perl5/perlbrew/perls/perl-5.23.1-thread-multi-ld/lib/5.23.1/x86_64-linux-thread-multi-ld/Data/Dumper.pm line 231.
t/50-installed_extensions.t .. ok
Encountered CODE ref, using dummy placeholder at /home/jmaslak/perl5/perlbrew/perls/perl-5.23.1-thread-multi-ld/lib/5.23.1/x86_64-linux-thread-multi-ld/Data/Dumper.pm line 231.
Encountered CODE ref, using dummy placeholder at /home/jmaslak/perl5/perlbrew/perls/perl-5.23.1-thread-multi-ld/lib/5.23.1/x86_64-linux-thread-multi-ld/Data/Dumper.pm line 231.
Encountered CODE ref, using dummy placeholder at /home/jmaslak/perl5/perlbrew/perls/perl-5.23.1-thread-multi-ld/lib/5.23.1/x86_64-linux-thread-multi-ld/Data/Dumper.pm line 231.
t/60-request_hooks.t ......... ok
Encountered CODE ref, using dummy placeholder at /home/jmaslak/perl5/perlbrew/perls/perl-5.23.1-thread-multi-ld/lib/5.23.1/x86_64-linux-thread-multi-ld/Data/Dumper.pm line 231.
Encountered CODE ref, using dummy placeholder at /home/jmaslak/perl5/perlbrew/perls/perl-5.23.1-thread-multi-ld/lib/5.23.1/x86_64-linux-thread-multi-ld/Data/Dumper.pm line 231.
Encountered CODE ref, using dummy placeholder at /home/jmaslak/perl5/perlbrew/perls/perl-5.23.1-thread-multi-ld/lib/5.23.1/x86_64-linux-thread-multi-ld/Data/Dumper.pm line 231.
Encountered CODE ref, using dummy placeholder at /home/jmaslak/perl5/perlbrew/perls/perl-5.23.1-thread-multi-ld/lib/5.23.1/x86_64-linux-thread-multi-ld/Data/Dumper.pm line 231.
Encountered CODE ref, using dummy placeholder at /home/jmaslak/perl5/perlbrew/perls/perl-5.23.1-thread-multi-ld/lib/5.23.1/x86_64-linux-thread-multi-ld/Data/Dumper.pm line 231.
Encountered CODE ref, using dummy placeholder at /home/jmaslak/perl5/perlbrew/perls/perl-5.23.1-thread-multi-ld/lib/5.23.1/x86_64-linux-thread-multi-ld/Data/Dumper.pm line 231.
Encountered CODE ref, using dummy placeholder at /home/jmaslak/perl5/perlbrew/perls/perl-5.23.1-thread-multi-ld/lib/5.23.1/x86_64-linux-thread-multi-ld/Data/Dumper.pm line 231.
Encountered CODE ref, using dummy placeholder at /home/jmaslak/perl5/perlbrew/perls/perl-5.23.1-thread-multi-ld/lib/5.23.1/x86_64-linux-thread-multi-ld/Data/Dumper.pm line 231.
Encountered CODE ref, using dummy placeholder at /home/jmaslak/perl5/perlbrew/perls/perl-5.23.1-thread-multi-ld/lib/5.23.1/x86_64-linux-thread-multi-ld/Data/Dumper.pm line 231.
Encountered CODE ref, using dummy placeholder at /home/jmaslak/perl5/perlbrew/perls/perl-5.23.1-thread-multi-ld/lib/5.23.1/x86_64-linux-thread-multi-ld/Data/Dumper.pm line 231.
Encountered CODE ref, using dummy placeholder at /home/jmaslak/perl5/perlbrew/perls/perl-5.23.1-thread-multi-ld/lib/5.23.1/x86_64-linux-thread-multi-ld/Data/Dumper.pm line 231.
Encountered CODE ref, using dummy placeholder at /home/jmaslak/perl5/perlbrew/perls/perl-5.23.1-thread-multi-ld/lib/5.23.1/x86_64-linux-thread-multi-ld/Data/Dumper.pm line 231.
Encountered CODE ref, using dummy placeholder at /home/jmaslak/perl5/perlbrew/perls/perl-5.23.1-thread-multi-ld/lib/5.23.1/x86_64-linux-thread-multi-ld/Data/Dumper.pm line 231.
Encountered CODE ref, using dummy placeholder at /home/jmaslak/perl5/perlbrew/perls/perl-5.23.1-thread-multi-ld/lib/5.23.1/x86_64-linux-thread-multi-ld/Data/Dumper.pm line 231.
Encountered CODE ref, using dummy placeholder at /home/jmaslak/perl5/perlbrew/perls/perl-5.23.1-thread-multi-ld/lib/5.23.1/x86_64-linux-thread-multi-ld/Data/Dumper.pm line 231.
Encountered CODE ref, using dummy placeholder at /home/jmaslak/perl5/perlbrew/perls/perl-5.23.1-thread-multi-ld/lib/5.23.1/x86_64-linux-thread-multi-ld/Data/Dumper.pm line 231.
Encountered CODE ref, using dummy placeholder at /home/jmaslak/perl5/perlbrew/perls/perl-5.23.1-thread-multi-ld/lib/5.23.1/x86_64-linux-thread-multi-ld/Data/Dumper.pm line 231.
Encountered CODE ref, using dummy placeholder at /home/jmaslak/perl5/perlbrew/perls/perl-5.23.1-thread-multi-ld/lib/5.23.1/x86_64-linux-thread-multi-ld/Data/Dumper.pm line 231.
t/70-algorithms.t ............ ok
Encountered CODE ref, using dummy placeholder at /home/jmaslak/perl5/perlbrew/perls/perl-5.23.1-thread-multi-ld/lib/5.23.1/x86_64-linux-thread-multi-ld/Data/Dumper.pm line 231.
Encountered CODE ref, using dummy placeholder at /home/jmaslak/perl5/perlbrew/perls/perl-5.23.1-thread-multi-ld/lib/5.23.1/x86_64-linux-thread-multi-ld/Data/Dumper.pm line 231.
Encountered CODE ref, using dummy placeholder at /home/jmaslak/perl5/perlbrew/perls/perl-5.23.1-thread-multi-ld/lib/5.23.1/x86_64-linux-thread-multi-ld/Data/Dumper.pm line 231.
Encountered CODE ref, using dummy placeholder at /home/jmaslak/perl5/perlbrew/perls/perl-5.23.1-thread-multi-ld/lib/5.23.1/x86_64-linux-thread-multi-ld/Data/Dumper.pm line 231.
Encountered CODE ref, using dummy placeholder at /home/jmaslak/perl5/perlbrew/perls/perl-5.23.1-thread-multi-ld/lib/5.23.1/x86_64-linux-thread-multi-ld/Data/Dumper.pm line 231.
Encountered CODE ref, using dummy placeholder at /home/jmaslak/perl5/perlbrew/perls/perl-5.23.1-thread-multi-ld/lib/5.23.1/x86_64-linux-thread-multi-ld/Data/Dumper.pm line 231.
Encountered CODE ref, using dummy placeholder at /home/jmaslak/perl5/perlbrew/perls/perl-5.23.1-thread-multi-ld/lib/5.23.1/x86_64-linux-thread-multi-ld/Data/Dumper.pm line 231.
Encountered CODE ref, using dummy placeholder at /home/jmaslak/perl5/perlbrew/perls/perl-5.23.1-thread-multi-ld/lib/5.23.1/x86_64-linux-thread-multi-ld/Data/Dumper.pm line 231.
Encountered CODE ref, using dummy placeholder at /home/jmaslak/perl5/perlbrew/perls/perl-5.23.1-thread-multi-ld/lib/5.23.1/x86_64-linux-thread-multi-ld/Data/Dumper.pm line 231.
Encountered CODE ref, using dummy placeholder at /home/jmaslak/perl5/perlbrew/perls/perl-5.23.1-thread-multi-ld/lib/5.23.1/x86_64-linux-thread-multi-ld/Data/Dumper.pm line 231.
Encountered CODE ref, using dummy placeholder at /home/jmaslak/perl5/perlbrew/perls/perl-5.23.1-thread-multi-ld/lib/5.23.1/x86_64-linux-thread-multi-ld/Data/Dumper.pm line 231.
Encountered CODE ref, using dummy placeholder at /home/jmaslak/perl5/perlbrew/perls/perl-5.23.1-thread-multi-ld/lib/5.23.1/x86_64-linux-thread-multi-ld/Data/Dumper.pm line 231.
t/80-response_hooks.t ........ ok
t/pod-coverage.t ............. ok
t/pod.t ...................... ok
All tests successful.
Files=16, Tests=178, 12 wallclock secs ( 0.09 usr 0.07 sys + 10.54 cusr 1.64 csys = 12.34 CPU)
Result: PASS
------------------------------
PREREQUISITES
------------------------------
Prerequisite modules loaded:
requires:
Module Need Have
--------------------- ---- --------
base 0 2.22
Catalyst::Request 0 0
CGI::Simple::Cookie 0 1.114
Digest::HMAC_MD5 0 1.01
Digest::HMAC_SHA1 0 1.03
MRO::Compat 0 0.12
strict 0 1.09
Symbol 0 1.07
Tie::IxHash 0 1.23
warnings 0 1.33
build_requires:
Module Need Have
--------------------- ---- --------
Catalyst 0 5.90094
Catalyst::Controller 0 0
Data::Dumper 0 2.158
File::Spec::Functions 0 3.56
HTTP::Headers::Util 0 6.10
HTTP::Request::Common 0 6.10
Scalar::Util 0 1.42_01
Test::More 0 1.001014
configure_requires:
Module Need Have
--------------------- ---- --------
ExtUtils::MakeMaker 6.30 7.04_01
------------------------------
ENVIRONMENT AND OTHER CONTEXT
------------------------------
Environment variables:
AUTOMATED_TESTING = 1
LANG = en_US.UTF-8
NONINTERACTIVE_TESTING = 1
PATH = /home/jmaslak/perl5/perlbrew/bin:/home/jmaslak/perl5/perlbrew/perls/perl-5.23.1-thread-multi-ld/bin:/home/jmaslak/perltest/bin:/home/jmaslak/perltest/bin:/home/jmaslak/perltest/bin:/home/jmaslak/perl5/perlbrew/bin:/home/jmaslak/perl5/perlbrew/perls/perl-5.23.1/bin:/usr/local/bin:/usr/bin:/usr/local/sbin:/usr/sbin:/usr/sbin:~/perltest/bin
PERL5LIB = /home/jmaslak/.cpan/build/Catalyst-Plugin-Redirect-0.02-td7Q7Q/blib/arch:/home/jmaslak/.cpan/build/Catalyst-Plugin-Redirect-0.02-td7Q7Q/blib/lib:/home/jmaslak/.cpan/build/Catalyst-Plugin-Session-Store-FastMmap-0.16-qNPLLI/blib/arch:/home/jmaslak/.cpan/build/Catalyst-Plugin-Session-Store-FastMmap-0.16-qNPLLI/blib/lib:/home/jmaslak/.cpan/build/Cache-FastMmap-1.40-rITs0C/blib/arch:/home/jmaslak/.cpan/build/Cache-FastMmap-1.40-rITs0C/blib/lib:/home/jmaslak/.cpan/build/Catalyst-Plugin-Browser-0.08-4YLicH/blib/arch:/home/jmaslak/.cpan/build/Catalyst-Plugin-Browser-0.08-4YLicH/blib/lib:/home/jmaslak/.cpan/build/Catalyst-TraitFor-Request-BrowserDetect-0.02-CGErPA/blib/arch:/home/jmaslak/.cpan/build/Catalyst-TraitFor-Request-BrowserDetect-0.02-CGErPA/blib/lib:/home/jmaslak/.cpan/build/HTTP-BrowserDetect-2.05-_QtIJl/blib/arch:/home/jmaslak/.cpan/build/HTTP-BrowserDetect-2.05-_QtIJl/blib/lib:/home/jmaslak/.cpan/build/CatalystX-RoleApplicator-0.005-klXPe9/blib/arch:/home/jmaslak/.cpan/build/CatalystX-RoleApplicator-0.005-klXPe9/blib/lib:/home/jmaslak/.cpan/build/Net-Telnet-3.04-SAyKVe/blib/arch:/home/jmaslak/.cpan/build/Net-Telnet-3.04-SAyKVe/blib/lib:/home/jmaslak/.cpan/build/Net-OpenSSH-0.64-s6V0gB/blib/arch:/home/jmaslak/.cpan/build/Net-OpenSSH-0.64-s6V0gB/blib/lib:/home/jmaslak/.cpan/build/DateTime-Format-Pg-0.16011-E_PaHF/blib/arch:/home/jmaslak/.cpan/build/DateTime-Format-Pg-0.16011-E_PaHF/blib/lib:/home/jmaslak/.cpan/build/DateTime-Format-Builder-0.81-8oGI87/blib/arch:/home/jmaslak/.cpan/build/DateTime-Format-Builder-0.81-8oGI87/blib/lib:/home/jmaslak/.cpan/build/Class-Factory-Util-1.7-XxxsG6/blib/arch:/home/jmaslak/.cpan/build/Class-Factory-Util-1.7-XxxsG6/blib/lib:/home/jmaslak/.cpan/build/forks-0.36-3t20no/blib/arch:/home/jmaslak/.cpan/build/forks-0.36-3t20no/blib/lib:/home/jmaslak/.cpan/build/Acme-Damn-0.06-Au9VnM/blib/arch:/home/jmaslak/.cpan/build/Acme-Damn-0.06-Au9VnM/blib/lib:/home/jmaslak/.cpan/build/Catalyst-Plugin-Cache-0.12-hRcwxw/blib/arch:/home/jmaslak/.cpan/build/Catalyst-Plugin-Cache-0.12-hRcwxw/blib/lib
PERL5OPT =
PERL5_CPANPLUS_IS_RUNNING = 19557
PERL5_CPAN_IS_RUNNING = 19557
PERL5_CPAN_IS_RUNNING_IN_RECURSION = 17441,19557
PERLBREW_BASHRC_VERSION = 0.73
PERLBREW_HOME = /home/jmaslak/.perlbrew
PERLBREW_LIB =
PERLBREW_MANPATH = /home/jmaslak/perl5/perlbrew/perls/perl-5.23.1-thread-multi-ld/man
PERLBREW_PATH = /home/jmaslak/perl5/perlbrew/bin:/home/jmaslak/perl5/perlbrew/perls/perl-5.23.1-thread-multi-ld/bin
PERLBREW_PERL = perl-5.23.1-thread-multi-ld
PERLBREW_ROOT = /home/jmaslak/perl5/perlbrew
PERLBREW_VERSION = 0.73
PERL_CR_SMOKER_CURRENT = Task-Cpanel-Catalyst-11.36.001
PERL_EXTUTILS_AUTOINSTALL = --defaultdeps
PERL_LOCAL_LIB_ROOT =
PERL_MM_USE_DEFAULT = 1
SHELL = /bin/bash
TERM = screen
Perl special variables (and OS-specific diagnostics, for MSWin32):
$^X = /home/jmaslak/perl5/perlbrew/perls/perl-5.23.1-thread-multi-ld/bin/perl5.23.1
$UID/$EUID = 1000 / 1000
$GID = 1000 10 1000
$EGID = 1000 10 1000
Perl module toolchain versions installed:
Module Have
------------------- --------
CPAN 2.11
CPAN::Meta 2.150005
Cwd 3.56
ExtUtils::CBuilder 0.280223
ExtUtils::Command 1.20
ExtUtils::Install 2.04
ExtUtils::MakeMaker 7.04_01
ExtUtils::Manifest 1.70
ExtUtils::ParseXS 3.28
File::Spec 3.56
JSON 2.90
JSON::PP 2.27300
Module::Build 0.4214
Module::Signature n/a
Parse::CPAN::Meta 1.4417
Test::Harness 3.35
Test::More 1.001014
YAML 1.15
YAML::Syck n/a
version 0.9909
--
Summary of my perl5 (revision 5 version 23 subversion 1) configuration:
Platform:
osname=linux, osvers=4.1.0-x86_64-linode59, archname=x86_64-linux-thread-multi-ld
uname='linux cpantest.antelope.net 4.1.0-x86_64-linode59 #1 smp mon jun 22 10:39:23 edt 2015 x86_64 x86_64 x86_64 gnulinux '
config_args='-de -Dprefix=/home/jmaslak/perl5/perlbrew/perls/perl-5.23.1-thread-multi-ld -Dusethreads -Duselongdouble -Dusemultiplicity -Dusedevel -Aeval:scriptdir=/home/jmaslak/perl5/perlbrew/perls/perl-5.23.1-thread-multi-ld/bin'
hint=recommended, useposix=true, d_sigaction=define
useithreads=define, usemultiplicity=define
use64bitint=define, use64bitall=define, uselongdouble=define
usemymalloc=n, bincompat5005=undef
Compiler:
cc='cc', ccflags ='-D_REENTRANT -D_GNU_SOURCE -fwrapv -fno-strict-aliasing -pipe -fstack-protector-strong -I/usr/local/include -D_LARGEFILE_SOURCE -D_FILE_OFFSET_BITS=64 -D_FORTIFY_SOURCE=2',
optimize='-O2',
cppflags='-D_REENTRANT -D_GNU_SOURCE -fwrapv -fno-strict-aliasing -pipe -fstack-protector-strong -I/usr/local/include'
ccversion='', gccversion='4.8.3 20140911 (Red Hat 4.8.3-9)', gccosandvers=''
intsize=4, longsize=8, ptrsize=8, doublesize=8, byteorder=12345678, doublekind=3
d_longlong=define, longlongsize=8, d_longdbl=define, longdblsize=16, longdblkind=3
ivtype='long', ivsize=8, nvtype='long double', nvsize=16, Off_t='off_t', lseeksize=8
alignbytes=16, prototype=define
Linker and Libraries:
ld='cc', ldflags =' -fstack-protector-strong -L/usr/local/lib'
libpth=/usr/local/lib /usr/lib /lib/../lib64 /usr/lib/../lib64 /lib /lib64 /usr/lib64 /usr/local/lib64
libs=-lpthread -lnsl -ldl -lm -lcrypt -lutil -lc
perllibs=-lpthread -lnsl -ldl -lm -lcrypt -lutil -lc
libc=libc-2.17.so, so=so, useshrplib=false, libperl=libperl.a
gnulibc_version='2.17'
Dynamic Linking:
dlsrc=dl_dlopen.xs, dlext=so, d_dlsymun=undef, ccdlflags='-Wl,-E'
cccdlflags='-fPIC', lddlflags='-shared -O2 -L/usr/local/lib -fstack-protector-strong'
Characteristics of this binary (from libperl):
Compile-time options: HAS_TIMES MULTIPLICITY PERLIO_LAYERS
PERL_COPY_ON_WRITE PERL_DONT_CREATE_GVSV
PERL_HASH_FUNC_ONE_AT_A_TIME_HARD
PERL_IMPLICIT_CONTEXT PERL_MALLOC_WRAP
PERL_PRESERVE_IVUV PERL_USE_DEVEL USE_64_BIT_ALL
USE_64_BIT_INT USE_ITHREADS USE_LARGE_FILES
USE_LOCALE USE_LOCALE_COLLATE USE_LOCALE_CTYPE
USE_LOCALE_NUMERIC USE_LOCALE_TIME USE_LONG_DOUBLE
USE_PERLIO USE_PERL_ATOF USE_REENTRANT_API
Locally applied patches:
Devel::PatchPerl 1.38
Built under linux
Compiled at Jul 26 2015 05:30:26
%ENV:
PERL5LIB="/home/jmaslak/.cpan/build/Catalyst-Plugin-Redirect-0.02-td7Q7Q/blib/arch:/home/jmaslak/.cpan/build/Catalyst-Plugin-Redirect-0.02-td7Q7Q/blib/lib:/home/jmaslak/.cpan/build/Catalyst-Plugin-Session-Store-FastMmap-0.16-qNPLLI/blib/arch:/home/jmaslak/.cpan/build/Catalyst-Plugin-Session-Store-FastMmap-0.16-qNPLLI/blib/lib:/home/jmaslak/.cpan/build/Cache-FastMmap-1.40-rITs0C/blib/arch:/home/jmaslak/.cpan/build/Cache-FastMmap-1.40-rITs0C/blib/lib:/home/jmaslak/.cpan/build/Catalyst-Plugin-Browser-0.08-4YLicH/blib/arch:/home/jmaslak/.cpan/build/Catalyst-Plugin-Browser-0.08-4YLicH/blib/lib:/home/jmaslak/.cpan/build/Catalyst-TraitFor-Request-BrowserDetect-0.02-CGErPA/blib/arch:/home/jmaslak/.cpan/build/Catalyst-TraitFor-Request-BrowserDetect-0.02-CGErPA/blib/lib:/home/jmaslak/.cpan/build/HTTP-BrowserDetect-2.05-_QtIJl/blib/arch:/home/jmaslak/.cpan/build/HTTP-BrowserDetect-2.05-_QtIJl/blib/lib:/home/jmaslak/.cpan/build/CatalystX-RoleApplicator-0.005-klXPe9/blib/arch:/home/jmaslak/.cpan/build/CatalystX-RoleApplicator-0.005-klXPe9/blib/lib:/home/jmaslak/.cpan/build/Net-Telnet-3.04-SAyKVe/blib/arch:/home/jmaslak/.cpan/build/Net-Telnet-3.04-SAyKVe/blib/lib:/home/jmaslak/.cpan/build/Net-OpenSSH-0.64-s6V0gB/blib/arch:/home/jmaslak/.cpan/build/Net-OpenSSH-0.64-s6V0gB/blib/lib:/home/jmaslak/.cpan/build/DateTime-Format-Pg-0.16011-E_PaHF/blib/arch:/home/jmaslak/.cpan/build/DateTime-Format-Pg-0.16011-E_PaHF/blib/lib:/home/jmaslak/.cpan/build/DateTime-Format-Builder-0.81-8oGI87/blib/arch:/home/jmaslak/.cpan/build/DateTime-Format-Builder-0.81-8oGI87/blib/lib:/home/jmaslak/.cpan/build/Class-Factory-Util-1.7-XxxsG6/blib/arch:/home/jmaslak/.cpan/build/Class-Factory-Util-1.7-XxxsG6/blib/lib:/home/jmaslak/.cpan/build/forks-0.36-3t20no/blib/arch:/home/jmaslak/.cpan/build/forks-0.36-3t20no/blib/lib:/home/jmaslak/.cpan/build/Acme-Damn-0.06-Au9VnM/blib/arch:/home/jmaslak/.cpan/build/Acme-Damn-0.06-Au9VnM/blib/lib:/home/jmaslak/.cpan/build/Catalyst-Plugin-Cache-0.12-hRcwxw/blib/arch:/home/jmaslak/.cpan/build/Catalyst-Plugin-Cache-0.12-hRcwxw/blib/lib"
PERL5OPT=""
PERL5_CPANPLUS_IS_RUNNING="19557"
PERL5_CPAN_IS_RUNNING="19557"
PERL5_CPAN_IS_RUNNING_IN_RECURSION="17441,19557"
PERLBREW_BASHRC_VERSION="0.73"
PERLBREW_HOME="/home/jmaslak/.perlbrew"
PERLBREW_LIB=""
PERLBREW_MANPATH="/home/jmaslak/perl5/perlbrew/perls/perl-5.23.1-thread-multi-ld/man"
PERLBREW_PATH="/home/jmaslak/perl5/perlbrew/bin:/home/jmaslak/perl5/perlbrew/perls/perl-5.23.1-thread-multi-ld/bin"
PERLBREW_PERL="perl-5.23.1-thread-multi-ld"
PERLBREW_ROOT="/home/jmaslak/perl5/perlbrew"
PERLBREW_VERSION="0.73"
PERL_CR_SMOKER_CURRENT="Task-Cpanel-Catalyst-11.36.001"
PERL_EXTUTILS_AUTOINSTALL="--defaultdeps"
PERL_LOCAL_LIB_ROOT=""
PERL_MM_USE_DEFAULT="1"
@INC:
/home/jmaslak/.cpan/build/Catalyst-Plugin-Redirect-0.02-td7Q7Q/blib/arch
/home/jmaslak/.cpan/build/Catalyst-Plugin-Redirect-0.02-td7Q7Q/blib/lib
/home/jmaslak/.cpan/build/Catalyst-Plugin-Session-Store-FastMmap-0.16-qNPLLI/blib/arch
/home/jmaslak/.cpan/build/Catalyst-Plugin-Session-Store-FastMmap-0.16-qNPLLI/blib/lib
/home/jmaslak/.cpan/build/Cache-FastMmap-1.40-rITs0C/blib/arch
/home/jmaslak/.cpan/build/Cache-FastMmap-1.40-rITs0C/blib/lib
/home/jmaslak/.cpan/build/Catalyst-Plugin-Browser-0.08-4YLicH/blib/arch
/home/jmaslak/.cpan/build/Catalyst-Plugin-Browser-0.08-4YLicH/blib/lib
/home/jmaslak/.cpan/build/Catalyst-TraitFor-Request-BrowserDetect-0.02-CGErPA/blib/arch
/home/jmaslak/.cpan/build/Catalyst-TraitFor-Request-BrowserDetect-0.02-CGErPA/blib/lib
/home/jmaslak/.cpan/build/HTTP-BrowserDetect-2.05-_QtIJl/blib/arch
/home/jmaslak/.cpan/build/HTTP-BrowserDetect-2.05-_QtIJl/blib/lib
/home/jmaslak/.cpan/build/CatalystX-RoleApplicator-0.005-klXPe9/blib/arch
/home/jmaslak/.cpan/build/CatalystX-RoleApplicator-0.005-klXPe9/blib/lib
/home/jmaslak/.cpan/build/Net-Telnet-3.04-SAyKVe/blib/arch
/home/jmaslak/.cpan/build/Net-Telnet-3.04-SAyKVe/blib/lib
/home/jmaslak/.cpan/build/Net-OpenSSH-0.64-s6V0gB/blib/arch
/home/jmaslak/.cpan/build/Net-OpenSSH-0.64-s6V0gB/blib/lib
/home/jmaslak/.cpan/build/DateTime-Format-Pg-0.16011-E_PaHF/blib/arch
/home/jmaslak/.cpan/build/DateTime-Format-Pg-0.16011-E_PaHF/blib/lib
/home/jmaslak/.cpan/build/DateTime-Format-Builder-0.81-8oGI87/blib/arch
/home/jmaslak/.cpan/build/DateTime-Format-Builder-0.81-8oGI87/blib/lib
/home/jmaslak/.cpan/build/Class-Factory-Util-1.7-XxxsG6/blib/arch
/home/jmaslak/.cpan/build/Class-Factory-Util-1.7-XxxsG6/blib/lib
/home/jmaslak/.cpan/build/forks-0.36-3t20no/blib/arch
/home/jmaslak/.cpan/build/forks-0.36-3t20no/blib/lib
/home/jmaslak/.cpan/build/Acme-Damn-0.06-Au9VnM/blib/arch
/home/jmaslak/.cpan/build/Acme-Damn-0.06-Au9VnM/blib/lib
/home/jmaslak/.cpan/build/Catalyst-Plugin-Cache-0.12-hRcwxw/blib/arch
/home/jmaslak/.cpan/build/Catalyst-Plugin-Cache-0.12-hRcwxw/blib/lib
/home/jmaslak/perl5/perlbrew/perls/perl-5.23.1-thread-multi-ld/lib/site_perl/5.23.1/x86_64-linux-thread-multi-ld
/home/jmaslak/perl5/perlbrew/perls/perl-5.23.1-thread-multi-ld/lib/site_perl/5.23.1
/home/jmaslak/perl5/perlbrew/perls/perl-5.23.1-thread-multi-ld/lib/5.23.1/x86_64-linux-thread-multi-ld
/home/jmaslak/perl5/perlbrew/perls/perl-5.23.1-thread-multi-ld/lib/5.23.1
.