Data-DPath v0.59 Perl 5 v5.38.2 i86pc-solaris-thread-multi-64

Status
Pass
From
Chris Williams (BINGOS)
Dist
Data-DPath v0.59
Platform
Perl 5 v5.38.2 i86pc-solaris-thread-multi-64
Date
2024-05-06 07:42:17
ID
29f4b6ee-0b7c-11ef-98b0-b3c3213a625c
This distribution has been tested as part of the CPAN Testers
project, supporting the Perl programming language.  See
http://wiki.cpantesters.org/ for more information or email
questions to cpan-testers-discuss@perl.org


--

Dear Steffen Schwigon,

This is a computer-generated error report created automatically by
CPANPLUS, version 0.9914. Testers personal comments may appear
at the end of this report.


Thank you for uploading your work to CPAN.  Congratulations!
All tests were successful.

TEST RESULTS:

Below is the error stack from stage 'make test':

PERL_DL_NONLAZY=1 "/home/cpan/pit/thr/perl-5.38.2/bin/perl" "-MExtUtils::Command::MM" "-MTest::Harness" "-e" "undef *Test::Harness::Switches; test_harness(0, 'blib/lib', 'blib/arch')" t/*.t
t/00-compile.t ................ ok
t/00-load.t ................... ok
t/author-eol.t ................ skipped: these tests are for testing by the author
t/author-no-tabs.t ............ skipped: these tests are for testing by the author
t/author-pod-syntax.t ......... skipped: these tests are for testing by the author
t/basics_without_overload.t ... ok
t/cyclic_structures.t ......... ok
Smartmatch is deprecated at t/data_dpath.t line 237.
Smartmatch is deprecated at t/data_dpath.t line 238.
Smartmatch is deprecated at t/data_dpath.t line 239.
Smartmatch is deprecated at t/data_dpath.t line 246.
Smartmatch is deprecated at t/data_dpath.t line 247.
Smartmatch is deprecated at t/data_dpath.t line 248.
Smartmatch is deprecated at t/data_dpath.t line 249.
Smartmatch is deprecated at t/data_dpath.t line 268.
Smartmatch is deprecated at t/data_dpath.t line 271.
Smartmatch is deprecated at t/data_dpath.t line 274.
Smartmatch is deprecated at t/data_dpath.t line 277.
Smartmatch is deprecated at t/data_dpath.t line 280.
Smartmatch is deprecated at t/data_dpath.t line 286.
Smartmatch is deprecated at t/data_dpath.t line 289.
Smartmatch is deprecated at t/data_dpath.t line 292.
Smartmatch is deprecated at t/data_dpath.t line 294.
Smartmatch is deprecated at t/data_dpath.t line 297.
Smartmatch is deprecated at t/data_dpath.t line 303.
Smartmatch is deprecated at t/data_dpath.t line 313.
Smartmatch is deprecated at t/data_dpath.t line 321.
Smartmatch is deprecated at t/data_dpath.t line 324.
Smartmatch is deprecated at t/data_dpath.t line 332.
Smartmatch is deprecated at t/data_dpath.t line 337.
Smartmatch is deprecated at t/data_dpath.t line 344.
Smartmatch is deprecated at t/data_dpath.t line 353.
Smartmatch is deprecated at t/data_dpath.t line 361.
Smartmatch is deprecated at t/data_dpath.t line 363.
Smartmatch is deprecated at t/data_dpath.t line 366.
Smartmatch is deprecated at t/data_dpath.t line 368.
Smartmatch is deprecated at t/data_dpath.t line 371.
Smartmatch is deprecated at t/data_dpath.t line 374.
Smartmatch is deprecated at t/data_dpath.t line 375.
Smartmatch is deprecated at t/data_dpath.t line 378.
Smartmatch is deprecated at t/data_dpath.t line 381.
Smartmatch is deprecated at t/data_dpath.t line 384.
Smartmatch is deprecated at t/data_dpath.t line 387.
Smartmatch is deprecated at t/data_dpath.t line 396.
Smartmatch is deprecated at t/data_dpath.t line 399.
Smartmatch is deprecated at t/data_dpath.t line 409.
Smartmatch is deprecated at t/data_dpath.t line 418.
Smartmatch is deprecated at t/data_dpath.t line 423.
Smartmatch is deprecated at t/data_dpath.t line 430.
Smartmatch is deprecated at t/data_dpath.t line 436.
Smartmatch is deprecated at t/data_dpath.t line 438.
Smartmatch is deprecated at t/data_dpath.t line 441.
Smartmatch is deprecated at t/data_dpath.t line 443.
Smartmatch is deprecated at t/data_dpath.t line 446.
Smartmatch is deprecated at t/data_dpath.t line 448.
Smartmatch is deprecated at t/data_dpath.t line 451.
Smartmatch is deprecated at t/data_dpath.t line 453.
Smartmatch is deprecated at t/data_dpath.t line 456.
Smartmatch is deprecated at t/data_dpath.t line 458.
Smartmatch is deprecated at t/data_dpath.t line 461.
Smartmatch is deprecated at t/data_dpath.t line 463.
Smartmatch is deprecated at t/data_dpath.t line 466.
Smartmatch is deprecated at t/data_dpath.t line 469.
Smartmatch is deprecated at t/data_dpath.t line 473.
Smartmatch is deprecated at t/data_dpath.t line 477.
Smartmatch is deprecated at t/data_dpath.t line 480.
Smartmatch is deprecated at t/data_dpath.t line 484.
Smartmatch is deprecated at t/data_dpath.t line 498.
Smartmatch is deprecated at t/data_dpath.t line 501.
Smartmatch is deprecated at t/data_dpath.t line 504.
Smartmatch is deprecated at t/data_dpath.t line 514.
Smartmatch is deprecated at t/data_dpath.t line 517.
Smartmatch is deprecated at t/data_dpath.t line 520.
Smartmatch is deprecated at t/data_dpath.t line 524.
Smartmatch is deprecated at t/data_dpath.t line 528.
Smartmatch is deprecated at t/data_dpath.t line 530.
Smartmatch is deprecated at t/data_dpath.t line 532.
Smartmatch is deprecated at t/data_dpath.t line 534.
Smartmatch is deprecated at t/data_dpath.t line 536.
Smartmatch is deprecated at t/data_dpath.t line 538.
Smartmatch is deprecated at t/data_dpath.t line 582.
Smartmatch is deprecated at t/data_dpath.t line 585.
Smartmatch is deprecated at t/data_dpath.t line 588.
Smartmatch is deprecated at t/data_dpath.t line 593.
Smartmatch is deprecated at t/data_dpath.t line 597.
Smartmatch is deprecated at t/data_dpath.t line 600.
Smartmatch is deprecated at t/data_dpath.t line 603.
Smartmatch is deprecated at t/data_dpath.t line 606.
Smartmatch is deprecated at t/data_dpath.t line 609.
Smartmatch is deprecated at t/data_dpath.t line 614.
Smartmatch is deprecated at t/data_dpath.t line 618.
Smartmatch is deprecated at t/data_dpath.t line 622.
Smartmatch is deprecated at t/data_dpath.t line 626.
Smartmatch is deprecated at t/data_dpath.t line 630.
Smartmatch is deprecated at t/data_dpath.t line 634.
Smartmatch is deprecated at t/data_dpath.t line 638.
Smartmatch is deprecated at t/data_dpath.t line 642.
Smartmatch is deprecated at t/data_dpath.t line 646.
Smartmatch is deprecated at t/data_dpath.t line 650.
Smartmatch is deprecated at t/data_dpath.t line 654.
Smartmatch is deprecated at t/data_dpath.t line 658.
Smartmatch is deprecated at t/data_dpath.t line 662.
Smartmatch is deprecated at t/data_dpath.t line 666.
Smartmatch is deprecated at t/data_dpath.t line 670.
Smartmatch is deprecated at t/data_dpath.t line 674.
Smartmatch is deprecated at t/data_dpath.t line 678.
Smartmatch is deprecated at t/data_dpath.t line 682.
Smartmatch is deprecated at t/data_dpath.t line 686.
Smartmatch is deprecated at t/data_dpath.t line 690.
Smartmatch is deprecated at t/data_dpath.t line 694.
Smartmatch is deprecated at t/data_dpath.t line 730.
Smartmatch is deprecated at t/data_dpath.t line 733.
Smartmatch is deprecated at t/data_dpath.t line 736.
Smartmatch is deprecated at t/data_dpath.t line 739.
Smartmatch is deprecated at t/data_dpath.t line 742.
Smartmatch is deprecated at t/data_dpath.t line 748.
Smartmatch is deprecated at t/data_dpath.t line 752.
Smartmatch is deprecated at t/data_dpath.t line 758.
Smartmatch is deprecated at t/data_dpath.t line 761.
Smartmatch is deprecated at t/data_dpath.t line 765.
Smartmatch is deprecated at t/data_dpath.t line 772.
Smartmatch is deprecated at t/data_dpath.t line 779.
Smartmatch is deprecated at t/data_dpath.t line 786.
Smartmatch is deprecated at t/data_dpath.t line 791.
Smartmatch is deprecated at t/data_dpath.t line 796.
Smartmatch is deprecated at t/data_dpath.t line 803.
Smartmatch is deprecated at t/data_dpath.t line 811.
Smartmatch is deprecated at t/data_dpath.t line 819.
Smartmatch is deprecated at t/data_dpath.t line 827.
Smartmatch is deprecated at t/data_dpath.t line 830.
Smartmatch is deprecated at t/data_dpath.t line 837.
Smartmatch is deprecated at t/data_dpath.t line 843.
Smartmatch is deprecated at t/data_dpath.t line 848.
Smartmatch is deprecated at t/data_dpath.t line 866.
Smartmatch is deprecated at t/data_dpath.t line 875.
Smartmatch is deprecated at t/data_dpath.t line 878.
Smartmatch is deprecated at t/data_dpath.t line 881.
Smartmatch is deprecated at t/data_dpath.t line 884.
Smartmatch is deprecated at t/data_dpath.t line 905.
Smartmatch is deprecated at t/data_dpath.t line 908.
Smartmatch is deprecated at t/data_dpath.t line 913.
Smartmatch is deprecated at t/data_dpath.t line 916.
Smartmatch is deprecated at t/data_dpath.t line 919.
Smartmatch is deprecated at t/data_dpath.t line 926.
Smartmatch is deprecated at t/data_dpath.t line 944.
Smartmatch is deprecated at t/data_dpath.t line 998.
Smartmatch is deprecated at t/data_dpath.t line 1007.
t/data_dpath.t ................ ok
t/data_dpath_path_unescape.t .. ok
t/iterator.t .................. ok
t/matchr.t .................... ok
Smartmatch is deprecated at t/optimization.t line 37.
Smartmatch is deprecated at t/optimization.t line 40.
Smartmatch is deprecated at t/optimization.t line 71.
Smartmatch is deprecated at t/optimization.t line 74.
t/optimization.t .............. ok
t/parallel.t .................. ok
t/path.t ...................... ok
t/references.t ................ ok
Smartmatch is deprecated at t/regressions.t line 42.
Smartmatch is deprecated at t/regressions.t line 50.
Smartmatch is deprecated at t/regressions.t line 58.
Smartmatch is deprecated at t/regressions.t line 62.
Smartmatch is deprecated at t/regressions.t line 67.
Smartmatch is deprecated at t/regressions.t line 70.
Smartmatch is deprecated at t/regressions.t line 73.
t/regressions.t ............... ok
t/release-pod-coverage.t ...... skipped: these tests are for release candidate testing
Smartmatch is deprecated at t/zeros.t line 43.
Smartmatch is deprecated at t/zeros.t line 46.
Smartmatch is deprecated at t/zeros.t line 49.
Smartmatch is deprecated at t/zeros.t line 52.
Smartmatch is deprecated at t/zeros.t line 55.
Smartmatch is deprecated at t/zeros.t line 58.
Smartmatch is deprecated at t/zeros.t line 61.
Smartmatch is deprecated at t/zeros.t line 64.
Smartmatch is deprecated at t/zeros.t line 67.
t/zeros.t ..................... ok
All tests successful.
Files=18, Tests=530,  7 wallclock secs ( 0.22 usr  0.08 sys +  5.34 cusr  1.01 csys =  6.65 CPU)
Result: PASS


PREREQUISITES:

Here is a list of prerequisites you specified and versions we
managed to load:

	  Module Name                        Have     Want
	  Class::XSAccessor                  1.19        0
	  Class::XSAccessor::Array           1.19        0
	  Data::Dumper                      2.188        0
	  ExtUtils::MakeMaker                7.70        0
	  File::Spec                         3.88        0
	  IO::Handle                         1.52        0
	  IPC::Open3                         1.22        0
	  Iterator::Util                     0.02        0
	  List::Util                         1.63     1.45
	  POSIX                              2.13        0
	  Safe                               2.44     2.30
	  Scalar::Util                       1.63        0
	  Sub::Exporter                     0.991        0
	  Test::Deep                        1.204        0
	  Test::More                     1.302198     0.88
	  Text::Balanced                     2.06     2.02
	  aliased                            0.34     0.33
	  blib                               1.07     1.01
	  constant                           1.33        0
	  if                               0.0610        0
	  strict                             1.12        0
	  utf8                               1.25        0
	  warnings                           1.65        0

Perl module toolchain versions installed:
	Module Name                        Have
	CPANPLUS                         0.9914
	CPANPLUS::Dist::Build              0.90
	Cwd                                3.89
	ExtUtils::CBuilder             0.280238
	ExtUtils::Command                  7.70
	ExtUtils::Install                  2.22
	ExtUtils::MakeMaker                7.70
	ExtUtils::Manifest                 1.75
	ExtUtils::ParseXS                  3.51
	File::Spec                         3.88
	Module::Build                    0.4234
	Pod::Parser                           0
	Pod::Simple                        3.43
	Test2                          1.302198
	Test::Harness                      3.48
	Test::More                     1.302198
	version                          0.9930

******************************** NOTE ********************************
The comments above are created mechanically, possibly without manual
checking by the sender.  As there are many people performing automatic
tests on each upload to CPAN, it is likely that you will receive
identical messages about the same problem.

If you believe that the message is mistaken, please reply to the first
one with correction and/or additional informations, and do not take
it personally.  We appreciate your patience. :)
**********************************************************************

Additional comments:


This report was machine-generated by CPANPLUS::Dist::YACSmoke 1.08.
Powered by minismokebox version 0.68

CPANPLUS is prefering Build.PL

------------------------------
ENVIRONMENT AND OTHER CONTEXT
------------------------------

Environment variables:

    AUTOMATED_TESTING = 1
    LANG = en_GB.UTF-8
    NONINTERACTIVE_TESTING = 1
    PATH = /usr/bin:/usr/sbin:/sbin:/opt/ooce/bin:/usr/gnu/bin
    PERL5LIB = /home/cpan/pit/jail/0eSb30C0kG/lib/perl5:/home/cpan/pit/thr/conf/perl-5.38.2/.cpanplus/5.38.2/build/6osWTWWb0X/Module-Build-Tiny-0.048/blib/lib:/home/cpan/pit/thr/conf/perl-5.38.2/.cpanplus/5.38.2/build/6osWTWWb0X/Module-Build-Tiny-0.048/blib/arch:/home/cpan/pit/thr/conf/perl-5.38.2/.cpanplus/5.38.2/build/G23kH9dOTu/aliased-0.34/blib/lib:/home/cpan/pit/thr/conf/perl-5.38.2/.cpanplus/5.38.2/build/G23kH9dOTu/aliased-0.34/blib/arch:/home/cpan/pit/thr/conf/perl-5.38.2/.cpanplus/5.38.2/build/kH3_jwTRMX/Data-DPath-0.59/blib/lib:/home/cpan/pit/thr/conf/perl-5.38.2/.cpanplus/5.38.2/build/kH3_jwTRMX/Data-DPath-0.59/blib/arch
    PERL5_CPANPLUS_IS_RUNNING = 3207
    PERL5_CPANPLUS_IS_VERSION = 0.9914
    PERL5_MINISMOKEBOX = 0.68
    PERL5_YACSMOKE_BASE = /home/cpan/pit/thr/conf/perl-5.38.2
    PERL_EXTUTILS_AUTOINSTALL = --defaultdeps
    PERL_LOCAL_LIB_ROOT = /home/cpan/pit/jail/0eSb30C0kG
    PERL_MB_OPT = --install_base "/home/cpan/pit/jail/0eSb30C0kG"
    PERL_MM_OPT = INSTALL_BASE=/home/cpan/pit/jail/0eSb30C0kG
    PERL_MM_USE_DEFAULT = 1
    SHELL = /bin/bash
    TERM = screen.xterm-256color

Perl special variables (and OS-specific diagnostics, for MSWin32):

    Perl: $^X = /home/cpan/pit/thr/perl-5.38.2/bin/perl
    UID:  $<  = 101
    EUID: $>  = 101
    GID:  $(  = 101 101
    EGID: $)  = 101 101


-------------------------------


--

Summary of my perl5 (revision 5 version 38 subversion 2) configuration:
   
  Platform:
    osname=solaris
    osvers=2.11
    archname=i86pc-solaris-thread-multi-64
    uname='sunos ouzel 5.11 omnios-r151046-f51538a8df i86pc i386 i86pc '
    config_args='-des -Dprefix=/home/cpan/pit/thr/perl-5.38.2 -Dusethreads -Duse64bitall -Dcc=gcc'
    hint=recommended
    useposix=true
    d_sigaction=define
    useithreads=define
    usemultiplicity=define
    use64bitint=define
    use64bitall=define
    uselongdouble=undef
    usemymalloc=n
    default_inc_excludes_dot=define
  Compiler:
    cc='gcc'
    ccflags ='-D_REENTRANT -m64 -fwrapv -fno-strict-aliasing -pipe -fstack-protector-strong -D_LARGEFILE_SOURCE -D_FILE_OFFSET_BITS=64 -D_FORTIFY_SOURCE=2'
    optimize='-O'
    cppflags='-D_REENTRANT -m64 -fwrapv -fno-strict-aliasing -pipe -fstack-protector-strong'
    ccversion=''
    gccversion='12.2.0'
    gccosandvers=''
    intsize=4
    longsize=8
    ptrsize=8
    doublesize=8
    byteorder=12345678
    doublekind=3
    d_longlong=define
    longlongsize=8
    d_longdbl=define
    longdblsize=16
    longdblkind=3
    ivtype='long'
    ivsize=8
    nvtype='double'
    nvsize=8
    Off_t='off_t'
    lseeksize=8
    alignbytes=8
    prototype=define
  Linker and Libraries:
    ld='gcc'
    ldflags =' -m64 -fstack-protector-strong -L/usr/gnu/lib '
    libpth=/opt/gcc-12/lib /usr/lib /usr/gnu/lib /usr/ccs/lib
    libs=-lpthread -lsocket -lnsl -ldl -lm -lc
    perllibs=-lpthread -lsocket -lnsl -ldl -lm -lc
    libc=/lib/libc.so
    so=so
    useshrplib=true
    libperl=libperl.so
    gnulibc_version=''
  Dynamic Linking:
    dlsrc=dl_dlopen.xs
    dlext=so
    d_dlsymun=undef
    ccdlflags='  -R /home/cpan/pit/thr/perl-5.38.2/lib/5.38.2/i86pc-solaris-thread-multi-64/CORE'
    cccdlflags='-fPIC'
    lddlflags=' -shared -m64 -L/usr/gnu/lib -fstack-protector-strong'


Characteristics of this binary (from libperl): 
  Compile-time options:
    HAS_LONG_DOUBLE
    HAS_STRTOLD
    HAS_TIMES
    MULTIPLICITY
    PERLIO_LAYERS
    PERL_COPY_ON_WRITE
    PERL_DONT_CREATE_GVSV
    PERL_HASH_FUNC_SIPHASH13
    PERL_HASH_USE_SBOX32
    PERL_MALLOC_WRAP
    PERL_OP_PARENT
    PERL_PRESERVE_IVUV
    PERL_USE_SAFE_PUTENV
    USE_64_BIT_ALL
    USE_64_BIT_INT
    USE_ITHREADS
    USE_LARGE_FILES
    USE_LOCALE
    USE_LOCALE_COLLATE
    USE_LOCALE_CTYPE
    USE_LOCALE_NUMERIC
    USE_LOCALE_TIME
    USE_PERLIO
    USE_PERL_ATOF
    USE_REENTRANT_API
    USE_THREAD_SAFE_LOCALE
  Built under solaris
  Compiled at Dec 11 2023 02:16:54
  %ENV:
    PERL5LIB="/home/cpan/pit/jail/0eSb30C0kG/lib/perl5:/home/cpan/pit/thr/conf/perl-5.38.2/.cpanplus/5.38.2/build/6osWTWWb0X/Module-Build-Tiny-0.048/blib/lib:/home/cpan/pit/thr/conf/perl-5.38.2/.cpanplus/5.38.2/build/6osWTWWb0X/Module-Build-Tiny-0.048/blib/arch:/home/cpan/pit/thr/conf/perl-5.38.2/.cpanplus/5.38.2/build/G23kH9dOTu/aliased-0.34/blib/lib:/home/cpan/pit/thr/conf/perl-5.38.2/.cpanplus/5.38.2/build/G23kH9dOTu/aliased-0.34/blib/arch:/home/cpan/pit/thr/conf/perl-5.38.2/.cpanplus/5.38.2/build/kH3_jwTRMX/Data-DPath-0.59/blib/lib:/home/cpan/pit/thr/conf/perl-5.38.2/.cpanplus/5.38.2/build/kH3_jwTRMX/Data-DPath-0.59/blib/arch"
    PERL5_CPANPLUS_IS_RUNNING="3207"
    PERL5_CPANPLUS_IS_VERSION="0.9914"
    PERL5_MINISMOKEBOX="0.68"
    PERL5_YACSMOKE_BASE="/home/cpan/pit/thr/conf/perl-5.38.2"
    PERL_EXTUTILS_AUTOINSTALL="--defaultdeps"
    PERL_LOCAL_LIB_ROOT="/home/cpan/pit/jail/0eSb30C0kG"
    PERL_MB_OPT="--install_base "/home/cpan/pit/jail/0eSb30C0kG""
    PERL_MM_OPT="INSTALL_BASE=/home/cpan/pit/jail/0eSb30C0kG"
    PERL_MM_USE_DEFAULT="1"
  @INC:
    /home/cpan/pit/jail/0eSb30C0kG/lib/perl5/5.38.2/i86pc-solaris-thread-multi-64
    /home/cpan/pit/jail/0eSb30C0kG/lib/perl5/5.38.2
    /home/cpan/pit/jail/0eSb30C0kG/lib/perl5/i86pc-solaris-thread-multi-64
    /home/cpan/pit/jail/0eSb30C0kG/lib/perl5
    /home/cpan/pit/thr/conf/perl-5.38.2/.cpanplus/5.38.2/build/6osWTWWb0X/Module-Build-Tiny-0.048/blib/lib
    /home/cpan/pit/thr/conf/perl-5.38.2/.cpanplus/5.38.2/build/6osWTWWb0X/Module-Build-Tiny-0.048/blib/arch
    /home/cpan/pit/thr/conf/perl-5.38.2/.cpanplus/5.38.2/build/G23kH9dOTu/aliased-0.34/blib/lib
    /home/cpan/pit/thr/conf/perl-5.38.2/.cpanplus/5.38.2/build/G23kH9dOTu/aliased-0.34/blib/arch
    /home/cpan/pit/thr/conf/perl-5.38.2/.cpanplus/5.38.2/build/kH3_jwTRMX/Data-DPath-0.59/blib/lib
    /home/cpan/pit/thr/conf/perl-5.38.2/.cpanplus/5.38.2/build/kH3_jwTRMX/Data-DPath-0.59/blib/arch
    /home/cpan/pit/thr/perl-5.38.2/lib/site_perl/5.38.2/i86pc-solaris-thread-multi-64
    /home/cpan/pit/thr/perl-5.38.2/lib/site_perl/5.38.2
    /home/cpan/pit/thr/perl-5.38.2/lib/5.38.2/i86pc-solaris-thread-multi-64
    /home/cpan/pit/thr/perl-5.38.2/lib/5.38.2