HTML-Scrubber v0.17 Perl 5 v5.18.4 x86_64-linux-ld

Status
Pass
From
Andreas J. König (ANDK)
Dist
HTML-Scrubber v0.17
Platform
Perl 5 v5.18.4 x86_64-linux-ld
Date
2017-10-25 14:02:40
ID
2a057896-b98d-11e7-92fe-7cbf670be045
This distribution has been tested as part of the CPAN Testers
project, supporting the Perl programming language.  See
http://wiki.cpantesters.org/ for more information or email
questions to cpan-testers-discuss@perl.org


--
Dear Nigel Metheringham,

This is a computer-generated report for HTML-Scrubber-0.17
on perl 5.18.4, created by CPAN-Reporter-1.2018.

Thank you for uploading your work to CPAN.  Congratulations!
All tests were successful.

Sections of this report:

    * Tester comments
    * Program output
    * Prerequisites
    * Environment and other context

------------------------------
TESTER COMMENTS
------------------------------

Additional comments from tester:

this report is from an automated smoke testing program
and was not reviewed by a human for accuracy

------------------------------
PROGRAM OUTPUT
------------------------------

Output from '/usr/bin/make test':

PERL_DL_NONLAZY=1 "/home/sand/src/perl/repoperls/installed-perls/host/k93msid/v5.18.4/2d7c/bin/perl" "-MExtUtils::Command::MM" "-MTest::Harness" "-e" "undef *Test::Harness::Switches; test_harness(0, 'blib/lib', 'blib/arch')" t/*.t
# 
# Versions for all modules listed in MYMETA.json (including optional ones):
# 
# === Configure Requires ===
# 
#     Module              Want Have
#     ------------------- ---- ----
#     ExtUtils::MakeMaker  any 7.30
# 
# === Build Requires ===
# 
#     Module              Want Have
#     ------------------- ---- ----
#     ExtUtils::MakeMaker  any 7.30
# 
# === Test Requires ===
# 
#     Module                   Want     Have
#     ------------------------ ---- --------
#     ExtUtils::MakeMaker       any     7.30
#     File::Spec                any     3.62
#     File::Temp                any   0.2304
#     Pod::Coverage::TrustPod   any 0.100003
#     Test                      any     1.26
#     Test::CPAN::Meta          any     0.25
#     Test::Differences         any     0.64
#     Test::EOL                 any     2.00
#     Test::Kwalitee           1.21     1.26
#     Test::Memory::Cycle       any     1.06
#     Test::More               0.88 1.302106
#     Test::NoTabs              any     2.00
#     Test::PAUSE::Permissions  any     0.06
#     Test::Pod                1.41     1.51
#     Test::Pod::Coverage      1.08     1.10
#     utf8                      any     1.10
# 
# === Test Recommends ===
# 
#     Module         Want     Have
#     ---------- -------- --------
#     CPAN::Meta 2.120900 2.150010
# 
# === Runtime Requires ===
# 
#     Module         Want Have
#     -------------- ---- ----
#     HTML::Entities  any 3.69
#     HTML::Parser   3.47 3.72
#     List::Util      any 1.49
#     Scalar::Util    any 1.49
#     strict          any 1.07
#     warnings        any 1.18
# 
t/00-report-prereqs.t ........... ok
# Testing HTML::Scrubber 0.17, Perl 5.018004, /home/sand/src/perl/repoperls/installed-perls/host/k93msid/v5.18.4/2d7c/bin/perl
t/01_use.t ...................... ok
t/02_basic.t .................... ok
t/03_more.t ..................... ok
t/04_style_script.t ............. ok
t/05_pi_comment.t ............... ok
t/06_scrub_file.t ............... ok
t/07_booleans.t ................. ok
t/08_cb_attrs.t ................. ok
t/09_memory_cycle.t ............. ok
t/09_no_scrub_warnings.t ........ ok
t/jvn53973084.t ................. ok
t/rt120384_remove_false_tags.t .. ok
t/rt19063_xhtml.t ............... ok
t/rt25477_self_closing.t ........ ok
t/rt72659_utf8.t ................ ok
t/rt79044_multiple.t ............ ok
All tests successful.
Files=17, Tests=172,  7 wallclock secs ( 0.07 usr  0.08 sys +  1.13 cusr  0.40 csys =  1.68 CPU)
Result: PASS

------------------------------
PREREQUISITES
------------------------------

Prerequisite modules loaded:

requires:

    Module                   Need  Have    
    ------------------------ ----- --------
    HTML::Entities           0     3.69    
    HTML::Parser             3.47  3.72    
    List::Util               0     1.49    
    perl                     5.008 5.018004
    Scalar::Util             0     1.49    
    strict                   0     1.07    
    warnings                 0     1.18    

build_requires:

    Module                   Need  Have    
    ------------------------ ----- --------
    ExtUtils::MakeMaker      0     7.30    
    File::Spec               0     3.62    
    File::Temp               0     0.2304  
    Pod::Coverage::TrustPod  0     0.100003
    Test                     0     1.26    
    Test::CPAN::Meta         0     0.25    
    Test::Differences        0     0.64    
    Test::EOL                0     2.00    
    Test::Kwalitee           1.21  1.26    
    Test::Memory::Cycle      0     1.06    
    Test::More               0.88  1.302106
    Test::NoTabs             0     2.00    
    Test::PAUSE::Permissions 0     0.06    
    Test::Pod                1.41  1.51    
    Test::Pod::Coverage      1.08  1.10    
    utf8                     0     1.10    

configure_requires:

    Module                   Need  Have    
    ------------------------ ----- --------
    ExtUtils::MakeMaker      0     7.30    


------------------------------
ENVIRONMENT AND OTHER CONTEXT
------------------------------

Environment variables:

    AUTOMATED_TESTING = 1
    LANG = en_US.UTF-8
    PATH = /home/sand/bin:/usr/local/bin:/usr/bin:/bin:/usr/games:/usr/local/perl/bin:/usr/X11/bin:/sbin:/usr/sbin
    PERL5LIB = /tmp/loop_over_bdir-13561-khCLYQ/Test-PAUSE-Permissions-0.06-0/blib/arch:/tmp/loop_over_bdir-13561-khCLYQ/Test-PAUSE-Permissions-0.06-0/blib/lib:/tmp/loop_over_bdir-13561-khCLYQ/Parse-LocalDistribution-0.19-0/blib/arch:/tmp/loop_over_bdir-13561-khCLYQ/Parse-LocalDistribution-0.19-0/blib/lib:/tmp/loop_over_bdir-13561-khCLYQ/PAUSE-Permissions-0.17-0/blib/arch:/tmp/loop_over_bdir-13561-khCLYQ/PAUSE-Permissions-0.17-0/blib/lib:/tmp/loop_over_bdir-13561-khCLYQ/Alien-Tidyp-v1.4.7-0/blib/arch:/tmp/loop_over_bdir-13561-khCLYQ/Alien-Tidyp-v1.4.7-0/blib/lib:/tmp/loop_over_bdir-13561-khCLYQ/IronMan-Schema-0.03-0/blib/arch:/tmp/loop_over_bdir-13561-khCLYQ/IronMan-Schema-0.03-0/blib/lib:/tmp/loop_over_bdir-13561-khCLYQ/HTML-Truncate-0.20-0/blib/arch:/tmp/loop_over_bdir-13561-khCLYQ/HTML-Truncate-0.20-0/blib/lib
    PERL5OPT = 
    PERL5_CPANPLUS_IS_RUNNING = 13567
    PERL5_CPAN_IS_RUNNING = 13567
    PERL5_CPAN_IS_RUNNING_IN_RECURSION = 5940,13567
    PERL_CANARY_STABILITY_NOPROMPT = 1
    PERL_MM_USE_DEFAULT = 1
    PERL_USE_UNSAFE_INC = 1
    SHELL = /usr/bin/zsh
    TERM = screen

Perl special variables (and OS-specific diagnostics, for MSWin32):

    $^X = /home/sand/src/perl/repoperls/installed-perls/host/k93msid/v5.18.4/2d7c/bin/perl
    $UID/$EUID = 1005 / 1005
    $GID = 1005 1005
    $EGID = 1005 1005

Perl module toolchain versions installed:

    Module              Have    
    ------------------- --------
    CPAN                2.18    
    CPAN::Meta          2.150010
    Cwd                 3.62    
    ExtUtils::CBuilder  0.280226
    ExtUtils::Command   7.30    
    ExtUtils::Install   2.06    
    ExtUtils::MakeMaker 7.30    
    ExtUtils::Manifest  1.70    
    ExtUtils::ParseXS   3.35    
    File::Spec          3.62    
    JSON                2.94    
    JSON::PP            2.94    
    Module::Build       0.4224  
    Module::Signature   0.81    
    Parse::CPAN::Meta   2.150010
    Test::Harness       3.39    
    Test::More          1.302106
    YAML                1.23    
    YAML::Syck          1.30    
    version             0.9918  


--

Summary of my perl5 (revision 5 version 18 subversion 4) configuration:
  Derived from: 51202371ba68f3f52f13124a3ea1bc3c171e0ee2
  Platform:
    osname=linux, osvers=4.12.0-2-amd64, archname=x86_64-linux-ld
    uname='linux k93msid 4.12.0-2-amd64 #1 smp debian 4.12.13-1 (2017-09-19) x86_64 gnulinux '
    config_args='-Dprefix=/home/sand/src/perl/repoperls/installed-perls/host/k93msid/v5.18.4/2d7c -Dmyhostname=k93msid -Dinstallusrbinperl=n -Uversiononly -Dusedevel -des -Ui_db -Dlibswanted=cl pthread socket inet nsl gdbm dbm malloc dl ld sun m crypt sec util c cposix posix ucb BSD gdbm_compat -Uuseithreads -Duselongdouble -DDEBUGGING=-g'
    hint=recommended, useposix=true, d_sigaction=define
    useithreads=undef, usemultiplicity=undef
    useperlio=define, d_sfio=undef, uselargefiles=define, usesocks=undef
    use64bitint=define, use64bitall=define, uselongdouble=define
    usemymalloc=n, bincompat5005=undef
  Compiler:
    cc='cc', ccflags ='-fno-strict-aliasing -pipe -fstack-protector -I/usr/local/include -D_LARGEFILE_SOURCE -D_FILE_OFFSET_BITS=64',
    optimize='-O2 -g',
    cppflags='-fno-strict-aliasing -pipe -fstack-protector -I/usr/local/include'
    ccversion='', gccversion='7.2.0', gccosandvers=''
    intsize=4, longsize=8, ptrsize=8, doublesize=8, byteorder=12345678
    d_longlong=define, longlongsize=8, d_longdbl=define, longdblsize=16
    ivtype='long', ivsize=8, nvtype='long double', nvsize=16, Off_t='off_t', lseeksize=8
    alignbytes=16, prototype=define
  Linker and Libraries:
    ld='cc', ldflags =' -fstack-protector -L/usr/local/lib'
    libpth=/usr/local/lib /lib/x86_64-linux-gnu /lib/../lib /usr/lib/x86_64-linux-gnu /usr/lib/../lib /lib /usr/lib
    libs=-lpthread -lnsl -ldl -lm -lcrypt -lutil -lc
    perllibs=-lpthread -lnsl -ldl -lm -lcrypt -lutil -lc
    libc=libc-2.24.so, so=so, useshrplib=false, libperl=libperl.a
    gnulibc_version='2.24'
  Dynamic Linking:
    dlsrc=dl_dlopen.xs, dlext=so, d_dlsymun=undef, ccdlflags='-Wl,-E'
    cccdlflags='-fPIC', lddlflags='-shared -O2 -g -L/usr/local/lib -fstack-protector'


Characteristics of this binary (from libperl): 
  Compile-time options: HAS_TIMES PERLIO_LAYERS PERL_DONT_CREATE_GVSV
                        PERL_HASH_FUNC_ONE_AT_A_TIME_HARD PERL_MALLOC_WRAP
                        PERL_PRESERVE_IVUV PERL_SAWAMPERSAND PERL_USE_DEVEL
                        USE_64_BIT_ALL USE_64_BIT_INT USE_LARGE_FILES
                        USE_LOCALE USE_LOCALE_COLLATE USE_LOCALE_CTYPE
                        USE_LOCALE_NUMERIC USE_LONG_DOUBLE USE_PERLIO
                        USE_PERL_ATOF
  Locally applied patches:
	uncommitted-changes
  Built under linux
  Compiled at Oct  3 2017 19:53:19
  %ENV:
    PERL5LIB="/tmp/loop_over_bdir-13561-khCLYQ/Test-PAUSE-Permissions-0.06-0/blib/arch:/tmp/loop_over_bdir-13561-khCLYQ/Test-PAUSE-Permissions-0.06-0/blib/lib:/tmp/loop_over_bdir-13561-khCLYQ/Parse-LocalDistribution-0.19-0/blib/arch:/tmp/loop_over_bdir-13561-khCLYQ/Parse-LocalDistribution-0.19-0/blib/lib:/tmp/loop_over_bdir-13561-khCLYQ/PAUSE-Permissions-0.17-0/blib/arch:/tmp/loop_over_bdir-13561-khCLYQ/PAUSE-Permissions-0.17-0/blib/lib:/tmp/loop_over_bdir-13561-khCLYQ/Alien-Tidyp-v1.4.7-0/blib/arch:/tmp/loop_over_bdir-13561-khCLYQ/Alien-Tidyp-v1.4.7-0/blib/lib:/tmp/loop_over_bdir-13561-khCLYQ/IronMan-Schema-0.03-0/blib/arch:/tmp/loop_over_bdir-13561-khCLYQ/IronMan-Schema-0.03-0/blib/lib:/tmp/loop_over_bdir-13561-khCLYQ/HTML-Truncate-0.20-0/blib/arch:/tmp/loop_over_bdir-13561-khCLYQ/HTML-Truncate-0.20-0/blib/lib"
    PERL5OPT=""
    PERL5_CPANPLUS_IS_RUNNING="13567"
    PERL5_CPAN_IS_RUNNING="13567"
    PERL5_CPAN_IS_RUNNING_IN_RECURSION="5940,13567"
    PERL_CANARY_STABILITY_NOPROMPT="1"
    PERL_MM_USE_DEFAULT="1"
    PERL_USE_UNSAFE_INC="1"
  @INC:
    /tmp/loop_over_bdir-13561-khCLYQ/Test-PAUSE-Permissions-0.06-0/blib/arch
    /tmp/loop_over_bdir-13561-khCLYQ/Test-PAUSE-Permissions-0.06-0/blib/lib
    /tmp/loop_over_bdir-13561-khCLYQ/Parse-LocalDistribution-0.19-0/blib/arch
    /tmp/loop_over_bdir-13561-khCLYQ/Parse-LocalDistribution-0.19-0/blib/lib
    /tmp/loop_over_bdir-13561-khCLYQ/PAUSE-Permissions-0.17-0/blib/arch
    /tmp/loop_over_bdir-13561-khCLYQ/PAUSE-Permissions-0.17-0/blib/lib
    /tmp/loop_over_bdir-13561-khCLYQ/Alien-Tidyp-v1.4.7-0/blib/arch
    /tmp/loop_over_bdir-13561-khCLYQ/Alien-Tidyp-v1.4.7-0/blib/lib
    /tmp/loop_over_bdir-13561-khCLYQ/IronMan-Schema-0.03-0/blib/arch
    /tmp/loop_over_bdir-13561-khCLYQ/IronMan-Schema-0.03-0/blib/lib
    /tmp/loop_over_bdir-13561-khCLYQ/HTML-Truncate-0.20-0/blib/arch
    /tmp/loop_over_bdir-13561-khCLYQ/HTML-Truncate-0.20-0/blib/lib
    /home/sand/src/perl/repoperls/installed-perls/host/k93msid/v5.18.4/2d7c/lib/site_perl/5.18.4/x86_64-linux-ld
    /home/sand/src/perl/repoperls/installed-perls/host/k93msid/v5.18.4/2d7c/lib/site_perl/5.18.4
    /home/sand/src/perl/repoperls/installed-perls/host/k93msid/v5.18.4/2d7c/lib/5.18.4/x86_64-linux-ld
    /home/sand/src/perl/repoperls/installed-perls/host/k93msid/v5.18.4/2d7c/lib/5.18.4
    .