Report for Dancer2-Plugin-Queue-MongoDB-0.003

Back
From: metabase:user:320bfe00-2aae-11df-837a-5e0a49663a4f
Subject: PASS Dancer2-Plugin-Queue-MongoDB-0.003 v5.10.1 GNU/Linux
Date: 2013-03-10T02:42:35Z

This distribution has been tested as part of the CPAN Testers
project, supporting the Perl programming language.  See
http://wiki.cpantesters.org/ for more information or email
questions to cpan-testers-discuss@perl.org


--
Dear David Golden,

This is a computer-generated report for Dancer2-Plugin-Queue-MongoDB-0.003
on perl 5.10.1, created by CPAN-Reporter-1.2009.

Thank you for uploading your work to CPAN.  Congratulations!
All tests were successful.

Sections of this report:

    * Tester comments
    * Program output
    * Prerequisites
    * Environment and other context

------------------------------
TESTER COMMENTS
------------------------------

Additional comments from tester:

this report is from an automated smoke testing program
and was not reviewed by a human for accuracy

------------------------------
PROGRAM OUTPUT
------------------------------

Output from '/usr/bin/make test':

PERL_DL_NONLAZY=1 /home/sand/src/perl/repoperls/installed-perls/perl/perl-5.10.1/eae2/bin/perl "-MExtUtils::Command::MM" "-e" "test_harness(0, 'blib/lib', 'blib/arch')" t/*.t
t/00-compile.t ......... ok
# Prerequisite Report:
#   Version Module                             
#   ------- -----------------------------------
#     0.003 Dancer2::Plugin::Queue             
#     0.003 Dancer2::Plugin::Queue::Role::Queue
#     0.003 Dancer2::Plugin::Queue::Role::Test 
#      6.64 ExtUtils::MakeMaker                
#      1.14 File::Find                         
#      3.40 File::Spec::Functions              
#      0.22 File::Temp                         
#     0.028 HTTP::Tiny                         
#      1.27 List::Util                         
#   0.503.3 MongoDB                            
#   0.503.3 MongoDB::MongoClient               
#     0.002 MongoDBx::Queue                    
#      0.23 MooX::Types::MooseLike::Base       
#    2.0604 Moose                              
#      0.98 Test::More                         
#     1.000 Test::Roo                          
#      1.21 Test::TCP                          
#      1.04 strict                             
#      1.06 warnings                           
t/00-report-prereqs.t .. ok
t/mongodb.t ............ skipped: No MongoDB on localhost
All tests successful.
Files=3, Tests=2,  1 wallclock secs ( 0.02 usr  0.00 sys +  0.80 cusr  0.09 csys =  0.91 CPU)
Result: PASS

------------------------------
PREREQUISITES
------------------------------

Prerequisite modules loaded:

requires:

    Module                              Need  Have   
    ----------------------------------- ----- -------
    Dancer2::Plugin::Queue              0.003 0.003  
    Dancer2::Plugin::Queue::Role::Queue 0     0.003  
    MongoDB                             0     0.503.3
    MongoDB::MongoClient                0     0.503.3
    MongoDBx::Queue                     0     0.002  
    Moose                               0     2.0604 
    strict                              0     1.04   
    warnings                            0     1.06   

build_requires:

    Module                              Need  Have   
    ----------------------------------- ----- -------
    Dancer2::Plugin::Queue::Role::Test  0     0.003  
    ExtUtils::MakeMaker                 0     6.64   
    File::Find                          0     1.14   
    File::Spec::Functions               0     3.40   
    File::Temp                          0     0.22   
    HTTP::Tiny                          0     0.028  
    List::Util                          0     1.27   
    MongoDB                             0.45  0.503.3
    MooX::Types::MooseLike::Base        0     0.23   
    Test::More                          0     0.98   
    Test::Roo                           0     1.000  
    Test::TCP                           0     1.21   

configure_requires:

    Module                              Need  Have   
    ----------------------------------- ----- -------
    ExtUtils::MakeMaker                 6.30  6.64   


------------------------------
ENVIRONMENT AND OTHER CONTEXT
------------------------------

Environment variables:

    AUTOMATED_TESTING = 1
    LANG = en_US.UTF-8
    LANGUAGE = en_US:en
    PATH = /usr/lib/ccache:/home/sand/bin:/usr/local/bin:/usr/bin:/bin:/usr/bin/X11:/usr/games:/usr/local/perl/bin:/usr/X11/bin:/sbin:/usr/sbin
    PERL5LIB = 
    PERL5OPT = 
    PERL5_CPANPLUS_IS_RUNNING = 31843
    PERL5_CPAN_IS_RUNNING = 31843
    PERL_MM_USE_DEFAULT = 1
    SHELL = /usr/bin/zsh
    TERM = screen

Perl special variables (and OS-specific diagnostics, for MSWin32):

    $^X = /home/sand/src/perl/repoperls/installed-perls/perl/perl-5.10.1/eae2/bin/perl
    $UID/$EUID = 1005 / 1005
    $GID = 1005 1005
    $EGID = 1005 1005

Perl module toolchain versions installed:

    Module              Have    
    ------------------- --------
    CPAN                2.00    
    CPAN::Meta          2.120921
    Cwd                 3.40    
    ExtUtils::CBuilder  0.280205
    ExtUtils::Command   1.16    
    ExtUtils::Install   1.54    
    ExtUtils::MakeMaker 6.64    
    ExtUtils::Manifest  1.60    
    ExtUtils::ParseXS   3.18    
    File::Spec          3.40    
    JSON                2.53    
    JSON::PP            2.27200 
    Module::Build       0.4003  
    Module::Signature   0.70    
    Parse::CPAN::Meta   1.4404  
    Test::Harness       3.26    
    Test::More          0.98    
    YAML                0.84    
    YAML::Syck          1.24    
    version             0.9902  


--

Summary of my perl5 (revision 5 version 10 subversion 1) configuration:
  Commit id: 5348debf9fd57fc15c26529386769684fab96e57
  Platform:
    osname=linux, osvers=3.2.0-4-amd64, archname=x86_64-linux
    uname='linux k83 3.2.0-4-amd64 #1 smp debian 3.2.35-2 x86_64 gnulinux '
    config_args='-Dprefix=/home/src/perl/repoperls/installed-perls/perl/perl-5.10.1/eae2 -Dmyhostname=k83 -Dinstallusrbinperl=n -Uversiononly -Dusedevel -des -Ui_db -Uuseithreads -Uuselongdouble -DDEBUGGING=-g -Dusedl -Ddlsrc=dl_dlopen.xs'
    hint=recommended, useposix=true, d_sigaction=define
    useithreads=undef, usemultiplicity=undef
    useperlio=define, d_sfio=undef, uselargefiles=define, usesocks=undef
    use64bitint=define, use64bitall=define, uselongdouble=undef
    usemymalloc=n, bincompat5005=undef
  Compiler:
    cc='cc', ccflags ='-fno-strict-aliasing -pipe -fstack-protector -I/usr/local/include -D_LARGEFILE_SOURCE -D_FILE_OFFSET_BITS=64',
    optimize='-O2 -g',
    cppflags='-fno-strict-aliasing -pipe -fstack-protector -I/usr/local/include'
    ccversion='', gccversion='4.7.2', gccosandvers=''
    intsize=4, longsize=8, ptrsize=8, doublesize=8, byteorder=12345678
    d_longlong=define, longlongsize=8, d_longdbl=define, longdblsize=16
    ivtype='long', ivsize=8, nvtype='double', nvsize=8, Off_t='off_t', lseeksize=8
    alignbytes=8, prototype=define
  Linker and Libraries:
    ld='cc', ldflags =' -fstack-protector -L/usr/local/lib'
    libpth=/usr/local/lib /lib /usr/lib
    libs= 
    perllibs=
    libc=, so=so, useshrplib=false, libperl=libperl.a
    gnulibc_version='2.13'
  Dynamic Linking:
    dlsrc=dl_dlopen.xs, dlext=so, d_dlsymun=undef, ccdlflags='-Wl,-E'
    cccdlflags='-fPIC', lddlflags='-shared -O2 -g -L/usr/local/lib -fstack-protector'


Characteristics of this binary (from libperl): 
  Compile-time options: PERL_DONT_CREATE_GVSV PERL_MALLOC_WRAP PERL_USE_DEVEL
                        USE_64_BIT_ALL USE_64_BIT_INT USE_LARGE_FILES
                        USE_PERLIO
  Built under linux
  Compiled at Feb  3 2013 06:52:34
  %ENV:
    PERL5LIB=""
    PERL5OPT=""
    PERL5_CPANPLUS_IS_RUNNING="31843"
    PERL5_CPAN_IS_RUNNING="31843"
    PERL_MM_USE_DEFAULT="1"
  @INC:
    /home/src/perl/repoperls/installed-perls/perl/perl-5.10.1/eae2/lib/5.10.1/x86_64-linux
    /home/src/perl/repoperls/installed-perls/perl/perl-5.10.1/eae2/lib/5.10.1
    /home/src/perl/repoperls/installed-perls/perl/perl-5.10.1/eae2/lib/site_perl/5.10.1/x86_64-linux
    /home/src/perl/repoperls/installed-perls/perl/perl-5.10.1/eae2/lib/site_perl/5.10.1
    .