Class-Throwable v0.13 Perl 5 v5.24.4 x86_64-linux-gnu
- Status
- Pass
- From
- Dist
-
Class-Throwable v0.13
- Platform
- Perl 5 v5.24.4 x86_64-linux-gnu
- Date
- 2019-06-25 00:50:01
- ID
- 2a0fa1ce-96e3-11e9-8521-53df1a78ae5e
This distribution has been tested as part of the CPAN Testers
project, supporting the Perl programming language. See
http://wiki.cpantesters.org/ for more information or email
questions to cpan-testers-discuss@perl.org
--
Dear KMX,
This is a computer-generated report for Class-Throwable-0.13
on perl 5.24.4, created by App::cpanminus::reporter 0.17 (1.7044).
Thank you for uploading your work to CPAN. Congratulations!
All tests were successful.
Sections of this report:
* Tester comments
* Program output
* Prerequisites
* Environment and other context
------------------------------
TESTER COMMENTS
------------------------------
Additional comments from tester:
none provided
------------------------------
PROGRAM OUTPUT
------------------------------
Output from '':
Building and testing Class-Throwable-0.13
cp lib/Class/Throwable.pm blib/lib/Class/Throwable.pm
PERL_DL_NONLAZY=1 "/usr/local/bin/perl" "-MExtUtils::Command::MM" "-MTest::Harness" "-e" "undef *Test::Harness::Switches; test_harness(0, 'blib/lib', 'blib/arch')" t/*.t
t/10_Class_Throwable_test.t .................... ok
t/20_Class_Throwable_subException_test.t ....... ok
t/30_Class_Throwable_inline_exceptions_test.t .. ok
t/35_Class_Throwable_sub_class_test.t .......... ok
Bareword found where operator expected at (eval 62) line 1, near "@+::ISA"
(Missing operator before ::ISA?)
t/40_Class_Throwable_misc_test.t ............... ok
no_plan takes no arguments at t/50_Class_Throwable_retrofit_test.t line 6.
t/50_Class_Throwable_retrofit_test.t ........... ok
t/pod.t ........................................ ok
t/pod_coverage.t ............................... ok
All tests successful.
Files=8, Tests=77, 2 wallclock secs ( 0.09 usr 0.14 sys + 1.73 cusr 0.53 csys = 2.49 CPU)
Result: PASS
------------------------------
PREREQUISITES
------------------------------
Prerequisite modules loaded:
No requirements found
------------------------------
ENVIRONMENT AND OTHER CONTEXT
------------------------------
Environment variables:
PATH = /usr/local/sbin:/usr/local/bin:/usr/sbin:/usr/bin:/sbin:/bin
PERL_CPAN_REPORTER_DIR = /etc/cpanm-reporter
TERM = xterm
Perl special variables (and OS-specific diagnostics, for MSWin32):
EGID = 0
EUID = 0
EXECUTABLE_NAME = /usr/local/bin/perl
GID = 0
UID = 0
Perl module toolchain versions installed:
Module Have
------------------- ----------
CPAN 2.11_01
CPAN::Meta 2.150010
Cwd 3.63_01
ExtUtils::CBuilder 0.280225
ExtUtils::Command 7.10_02
ExtUtils::Install 2.04
ExtUtils::MakeMaker 7.10_02
ExtUtils::Manifest 1.70
ExtUtils::ParseXS 3.31
File::Spec 3.63_01
JSON 4.02
JSON::PP 2.27300_01
Module::Build 0.4229
Module::Signature n/a
Parse::CPAN::Meta 2.150010
Test::Harness 3.36_01
Test::More 1.302164
YAML 1.29
YAML::Syck 1.31
version 0.9916
--
Summary of my perl5 (revision 5 version 24 subversion 4) configuration:
Platform:
osname=linux, osvers=4.9.0-8-amd64, archname=x86_64-linux-gnu
uname='linux 8134edaab9e6 4.9.0-8-amd64 #1 smp debian 4.9.110-3+deb9u4 (2018-08-21) x86_64 gnulinux '
config_args='-Darchname=x86_64-linux-gnu -Duse64bitall -Duseshrplib -Dvendorprefix=/usr/local -des'
hint=recommended, useposix=true, d_sigaction=define
useithreads=undef, usemultiplicity=undef
use64bitint=define, use64bitall=define, uselongdouble=undef
usemymalloc=n, bincompat5005=undef
Compiler:
cc='cc', ccflags ='-fwrapv -fno-strict-aliasing -pipe -fstack-protector-strong -I/usr/local/include -D_LARGEFILE_SOURCE -D_FILE_OFFSET_BITS=64 -D_FORTIFY_SOURCE=2',
optimize='-O2',
cppflags='-fwrapv -fno-strict-aliasing -pipe -fstack-protector-strong -I/usr/local/include'
ccversion='', gccversion='6.3.0 20170516', gccosandvers=''
intsize=4, longsize=8, ptrsize=8, doublesize=8, byteorder=12345678, doublekind=3
d_longlong=define, longlongsize=8, d_longdbl=define, longdblsize=16, longdblkind=3
ivtype='long', ivsize=8, nvtype='double', nvsize=8, Off_t='off_t', lseeksize=8
alignbytes=8, prototype=define
Linker and Libraries:
ld='cc', ldflags =' -fstack-protector-strong -L/usr/local/lib'
libpth=/usr/local/lib /usr/lib/gcc/x86_64-linux-gnu/6/include-fixed /usr/include/x86_64-linux-gnu /usr/lib /lib/x86_64-linux-gnu /lib/../lib /usr/lib/x86_64-linux-gnu /usr/lib/../lib /lib
libs=-lpthread -lnsl -lgdbm -ldb -ldl -lm -lcrypt -lutil -lc -lgdbm_compat
perllibs=-lpthread -lnsl -ldl -lm -lcrypt -lutil -lc
libc=libc-2.24.so, so=so, useshrplib=true, libperl=libperl.so
gnulibc_version='2.24'
Dynamic Linking:
dlsrc=dl_dlopen.xs, dlext=so, d_dlsymun=undef, ccdlflags='-Wl,-E -Wl,-rpath,/usr/local/lib/perl5/5.24.4/x86_64-linux-gnu/CORE'
cccdlflags='-fPIC', lddlflags='-shared -O2 -L/usr/local/lib -fstack-protector-strong'
Characteristics of this binary (from libperl):
Compile-time options: HAS_TIMES PERLIO_LAYERS PERL_COPY_ON_WRITE
PERL_DONT_CREATE_GVSV
PERL_HASH_FUNC_ONE_AT_A_TIME_HARD PERL_MALLOC_WRAP
PERL_PRESERVE_IVUV USE_64_BIT_ALL USE_64_BIT_INT
USE_LARGE_FILES USE_LOCALE USE_LOCALE_COLLATE
USE_LOCALE_CTYPE USE_LOCALE_NUMERIC USE_LOCALE_TIME
USE_PERLIO USE_PERL_ATOF
Built under linux
Compiled at May 8 2019 04:48:35
%ENV:
PERL_CPAN_REPORTER_DIR="/etc/cpanm-reporter"
@INC:
/usr/local/lib/perl5/site_perl/5.24.4/x86_64-linux-gnu
/usr/local/lib/perl5/site_perl/5.24.4
/usr/local/lib/perl5/vendor_perl/5.24.4/x86_64-linux-gnu
/usr/local/lib/perl5/vendor_perl/5.24.4
/usr/local/lib/perl5/5.24.4/x86_64-linux-gnu
/usr/local/lib/perl5/5.24.4
.