Report for Template-Plugin-Map-0.03

Back
From: metabase:user:3c0d75b6-029c-11e5-90b1-5b610b895903
Subject: PASS Template-Plugin-Map-0.03 v5.26.0 GNU/Linux
Date: 2017-08-07T23:28:48Z

This distribution has been tested as part of the CPAN Testers
project, supporting the Perl programming language.  See
http://wiki.cpantesters.org/ for more information or email
questions to cpan-testers-discuss@perl.org


--
Dear Michael Schout,

This is a computer-generated report for Template-Plugin-Map-0.03
on perl 5.26.0, created by CPAN-Reporter-1.2018.

Thank you for uploading your work to CPAN.  Congratulations!
All tests were successful.

Sections of this report:

    * Tester comments
    * Program output
    * Prerequisites
    * Environment and other context

------------------------------
TESTER COMMENTS
------------------------------

Additional comments from tester:

this report is from an automated smoke testing program
and was not reviewed by a human for accuracy

------------------------------
PROGRAM OUTPUT
------------------------------

Output from '/usr/bin/make test':

PERL_DL_NONLAZY=1 "/home/fperrad/perl5/perlbrew/perls/perl-5.26.0/bin/perl" "-MExtUtils::Command::MM" "-MTest::Harness" "-e" "undef *Test::Harness::Switches; test_harness(0, 'blib/lib', 'blib/arch')" t/*.t
t/author-pod-coverage.t .. skipped: these tests are for testing by the author
t/author-pod-syntax.t .... skipped: these tests are for testing by the author
t/author-signature.t ..... skipped: these tests are for testing by the author
t/smoke.t ................ ok
All tests successful.
Files=4, Tests=7,  1 wallclock secs ( 0.21 usr  0.04 sys +  0.52 cusr  0.12 csys =  0.89 CPU)
Result: PASS

------------------------------
PREREQUISITES
------------------------------

Prerequisite modules loaded:

requires:

    Module                     Need  Have    
    -------------------------- ----- --------
    base                       0     2.25    
    perl                       5.006 5.026000
    strict                     0     1.11    
    Template                   2.0   2.27    
    Template::Plugin::VMethods 0     0.03    
    warnings                   0     1.37    

build_requires:

    Module                     Need  Have    
    -------------------------- ----- --------
    ExtUtils::MakeMaker        0     7.24    
    Template::Test             0     2.75    

configure_requires:

    Module                     Need  Have    
    -------------------------- ----- --------
    ExtUtils::MakeMaker        0     7.24    
    perl                       5.006 5.026000


------------------------------
ENVIRONMENT AND OTHER CONTEXT
------------------------------

Environment variables:

    AUTOMATED_TESTING = 1
    HARNESS_OPTIONS = j2
    LANG = en_US.UTF-8
    LANGUAGE = en_US.UTF-8
    LC_MESSAGES = en_US.UTF-8
    PATH = /home/fperrad/perl5/perlbrew/bin:/home/fperrad/perl5/perlbrew/perls/perl-5.26.0/bin:/usr/local/bin:/usr/bin:/bin:/usr/local/games:/usr/games
    PERL5LIB = /home/fperrad/.cpan/build/Template-Plugin-VMethods-0.03-0/blib/arch:/home/fperrad/.cpan/build/Template-Plugin-VMethods-0.03-0/blib/lib:/home/fperrad/.cpan/build/Template-Toolkit-2.27-0/blib/arch:/home/fperrad/.cpan/build/Template-Toolkit-2.27-0/blib/lib:/home/fperrad/.cpan/build/Test-LeakTrace-0.16-7/blib/arch:/home/fperrad/.cpan/build/Test-LeakTrace-0.16-7/blib/lib:/home/fperrad/.cpan/build/CGI-4.36-0/blib/arch:/home/fperrad/.cpan/build/CGI-4.36-0/blib/lib:/home/fperrad/.cpan/build/Test-Warn-0.32-9/blib/arch:/home/fperrad/.cpan/build/Test-Warn-0.32-9/blib/lib:/home/fperrad/.cpan/build/Sub-Uplevel-0.2800-19/blib/arch:/home/fperrad/.cpan/build/Sub-Uplevel-0.2800-19/blib/lib:/home/fperrad/.cpan/build/Test-NoWarnings-1.04-5/blib/arch:/home/fperrad/.cpan/build/Test-NoWarnings-1.04-5/blib/lib:/home/fperrad/.cpan/build/Test-Deep-1.127-17/blib/arch:/home/fperrad/.cpan/build/Test-Deep-1.127-17/blib/lib:/home/fperrad/.cpan/build/AppConfig-1.71-0/blib/arch:/home/fperrad/.cpan/build/AppConfig-1.71-0/blib/lib:/home/fperrad/.cpan/build/Test-Pod-1.51-18/blib/arch:/home/fperrad/.cpan/build/Test-Pod-1.51-18/blib/lib
    PERL5OPT = 
    PERL5_CPANPLUS_IS_RUNNING = 22419
    PERL5_CPAN_IS_RUNNING = 22419
    PERL5_CPAN_IS_RUNNING_IN_RECURSION = 3061,22419
    PERLBREW_BASHRC_VERSION = 0.78
    PERLBREW_HOME = /home/fperrad/.perlbrew
    PERLBREW_MANPATH = /home/fperrad/perl5/perlbrew/perls/perl-5.26.0/man
    PERLBREW_PATH = /home/fperrad/perl5/perlbrew/bin:/home/fperrad/perl5/perlbrew/perls/perl-5.26.0/bin
    PERLBREW_PERL = perl-5.26.0
    PERLBREW_ROOT = /home/fperrad/perl5/perlbrew
    PERLBREW_VERSION = 0.78
    PERL_CR_SMOKER_CURRENT = Template-Plugin-Map-0.03
    PERL_EXTUTILS_AUTOINSTALL = --defaultdeps
    PERL_MM_USE_DEFAULT = 1
    PERL_USE_UNSAFE_INC = 1
    SHELL = /bin/bash
    TERM = xterm-256color

Perl special variables (and OS-specific diagnostics, for MSWin32):

    $^X = /home/fperrad/perl5/perlbrew/perls/perl-5.26.0/bin/perl
    $UID/$EUID = 1000 / 1000
    $GID = 1000 20 27 29 44 46 108 112 1000
    $EGID = 1000 20 27 29 44 46 108 112 1000

Perl module toolchain versions installed:

    Module              Have      
    ------------------- ----------
    CPAN                2.18      
    CPAN::Meta          2.150010  
    Cwd                 3.67      
    ExtUtils::CBuilder  0.280225  
    ExtUtils::Command   7.24      
    ExtUtils::Install   2.04      
    ExtUtils::MakeMaker 7.24      
    ExtUtils::Manifest  1.70      
    ExtUtils::ParseXS   3.34      
    File::Spec          3.67      
    JSON                n/a       
    JSON::PP            2.27400_02
    Module::Build       0.4224    
    Module::Signature   n/a       
    Parse::CPAN::Meta   2.150010  
    Test::Harness       3.38      
    Test::More          1.302073  
    YAML                n/a       
    YAML::Syck          n/a       
    version             0.9918    


--

Summary of my perl5 (revision 5 version 26 subversion 0) configuration:
   
  Platform:
    osname=linux
    osvers=3.4.113-sun7i
    archname=armv7l-linux
    uname='linux lime 3.4.113-sun7i #17 smp preempt thu feb 23 19:43:34 cet 2017 armv7l gnulinux '
    config_args='-de -Dprefix=/home/fperrad/perl5/perlbrew/perls/perl-5.26.0 -Aeval:scriptdir=/home/fperrad/perl5/perlbrew/perls/perl-5.26.0/bin'
    hint=recommended
    useposix=true
    d_sigaction=define
    useithreads=undef
    usemultiplicity=undef
    use64bitint=undef
    use64bitall=undef
    uselongdouble=undef
    usemymalloc=n
    default_inc_excludes_dot=define
    bincompat5005=undef
  Compiler:
    cc='cc'
    ccflags ='-fwrapv -fno-strict-aliasing -pipe -fstack-protector-strong -I/usr/local/include -D_LARGEFILE_SOURCE -D_FILE_OFFSET_BITS=64 -D_FORTIFY_SOURCE=2'
    optimize='-O2'
    cppflags='-fwrapv -fno-strict-aliasing -pipe -fstack-protector-strong -I/usr/local/include'
    ccversion=''
    gccversion='4.9.2'
    gccosandvers=''
    intsize=4
    longsize=4
    ptrsize=4
    doublesize=8
    byteorder=1234
    doublekind=3
    d_longlong=define
    longlongsize=8
    d_longdbl=define
    longdblsize=8
    longdblkind=0
    ivtype='long'
    ivsize=4
    nvtype='double'
    nvsize=8
    Off_t='off_t'
    lseeksize=8
    alignbytes=8
    prototype=define
  Linker and Libraries:
    ld='cc'
    ldflags =' -fstack-protector-strong -L/usr/local/lib'
    libpth=/usr/local/lib /usr/lib/gcc/arm-linux-gnueabihf/4.9/include-fixed /usr/include/arm-linux-gnueabihf /usr/lib /lib/arm-linux-gnueabihf /lib /usr/lib/arm-linux-gnueabihf
    libs=-lpthread -lnsl -ldl -lm -lcrypt -lutil -lc
    perllibs=-lpthread -lnsl -ldl -lm -lcrypt -lutil -lc
    libc=libc-2.19.so
    so=so
    useshrplib=false
    libperl=libperl.a
    gnulibc_version='2.19'
  Dynamic Linking:
    dlsrc=dl_dlopen.xs
    dlext=so
    d_dlsymun=undef
    ccdlflags='-Wl,-E'
    cccdlflags='-fPIC'
    lddlflags='-shared -O2 -L/usr/local/lib -fstack-protector-strong'


Characteristics of this binary (from libperl): 
  Compile-time options:
    HAS_TIMES
    PERLIO_LAYERS
    PERL_COPY_ON_WRITE
    PERL_DONT_CREATE_GVSV
    PERL_HASH_FUNC_ONE_AT_A_TIME_HARD
    PERL_MALLOC_WRAP
    PERL_OP_PARENT
    PERL_PRESERVE_IVUV
    USE_LARGE_FILES
    USE_LOCALE
    USE_LOCALE_COLLATE
    USE_LOCALE_CTYPE
    USE_LOCALE_NUMERIC
    USE_LOCALE_TIME
    USE_PERLIO
    USE_PERL_ATOF
  Locally applied patches:
    Devel::PatchPerl 1.38
  Built under linux
  Compiled at May 31 2017 12:56:18
  %ENV:
    PERL5LIB="/home/fperrad/.cpan/build/Template-Plugin-VMethods-0.03-0/blib/arch:/home/fperrad/.cpan/build/Template-Plugin-VMethods-0.03-0/blib/lib:/home/fperrad/.cpan/build/Template-Toolkit-2.27-0/blib/arch:/home/fperrad/.cpan/build/Template-Toolkit-2.27-0/blib/lib:/home/fperrad/.cpan/build/Test-LeakTrace-0.16-7/blib/arch:/home/fperrad/.cpan/build/Test-LeakTrace-0.16-7/blib/lib:/home/fperrad/.cpan/build/CGI-4.36-0/blib/arch:/home/fperrad/.cpan/build/CGI-4.36-0/blib/lib:/home/fperrad/.cpan/build/Test-Warn-0.32-9/blib/arch:/home/fperrad/.cpan/build/Test-Warn-0.32-9/blib/lib:/home/fperrad/.cpan/build/Sub-Uplevel-0.2800-19/blib/arch:/home/fperrad/.cpan/build/Sub-Uplevel-0.2800-19/blib/lib:/home/fperrad/.cpan/build/Test-NoWarnings-1.04-5/blib/arch:/home/fperrad/.cpan/build/Test-NoWarnings-1.04-5/blib/lib:/home/fperrad/.cpan/build/Test-Deep-1.127-17/blib/arch:/home/fperrad/.cpan/build/Test-Deep-1.127-17/blib/lib:/home/fperrad/.cpan/build/AppConfig-1.71-0/blib/arch:/home/fperrad/.cpan/build/AppConfig-1.71-0/blib/lib:/home/fperrad/.cpan/build/Test-Pod-1.51-18/blib/arch:/home/fperrad/.cpan/build/Test-Pod-1.51-18/blib/lib"
    PERL5OPT=""
    PERL5_CPANPLUS_IS_RUNNING="22419"
    PERL5_CPAN_IS_RUNNING="22419"
    PERL5_CPAN_IS_RUNNING_IN_RECURSION="3061,22419"
    PERLBREW_BASHRC_VERSION="0.78"
    PERLBREW_HOME="/home/fperrad/.perlbrew"
    PERLBREW_MANPATH="/home/fperrad/perl5/perlbrew/perls/perl-5.26.0/man"
    PERLBREW_PATH="/home/fperrad/perl5/perlbrew/bin:/home/fperrad/perl5/perlbrew/perls/perl-5.26.0/bin"
    PERLBREW_PERL="perl-5.26.0"
    PERLBREW_ROOT="/home/fperrad/perl5/perlbrew"
    PERLBREW_VERSION="0.78"
    PERL_CR_SMOKER_CURRENT="Template-Plugin-Map-0.03"
    PERL_EXTUTILS_AUTOINSTALL="--defaultdeps"
    PERL_MM_USE_DEFAULT="1"
    PERL_USE_UNSAFE_INC="1"
  @INC:
    /home/fperrad/.cpan/build/Template-Plugin-VMethods-0.03-0/blib/arch
    /home/fperrad/.cpan/build/Template-Plugin-VMethods-0.03-0/blib/lib
    /home/fperrad/.cpan/build/Template-Toolkit-2.27-0/blib/arch
    /home/fperrad/.cpan/build/Template-Toolkit-2.27-0/blib/lib
    /home/fperrad/.cpan/build/Test-LeakTrace-0.16-7/blib/arch
    /home/fperrad/.cpan/build/Test-LeakTrace-0.16-7/blib/lib
    /home/fperrad/.cpan/build/CGI-4.36-0/blib/arch
    /home/fperrad/.cpan/build/CGI-4.36-0/blib/lib
    /home/fperrad/.cpan/build/Test-Warn-0.32-9/blib/arch
    /home/fperrad/.cpan/build/Test-Warn-0.32-9/blib/lib
    /home/fperrad/.cpan/build/Sub-Uplevel-0.2800-19/blib/arch
    /home/fperrad/.cpan/build/Sub-Uplevel-0.2800-19/blib/lib
    /home/fperrad/.cpan/build/Test-NoWarnings-1.04-5/blib/arch
    /home/fperrad/.cpan/build/Test-NoWarnings-1.04-5/blib/lib
    /home/fperrad/.cpan/build/Test-Deep-1.127-17/blib/arch
    /home/fperrad/.cpan/build/Test-Deep-1.127-17/blib/lib
    /home/fperrad/.cpan/build/AppConfig-1.71-0/blib/arch
    /home/fperrad/.cpan/build/AppConfig-1.71-0/blib/lib
    /home/fperrad/.cpan/build/Test-Pod-1.51-18/blib/arch
    /home/fperrad/.cpan/build/Test-Pod-1.51-18/blib/lib
    /home/fperrad/perl5/perlbrew/perls/perl-5.26.0/lib/site_perl/5.26.0/armv7l-linux
    /home/fperrad/perl5/perlbrew/perls/perl-5.26.0/lib/site_perl/5.26.0
    /home/fperrad/perl5/perlbrew/perls/perl-5.26.0/lib/5.26.0/armv7l-linux
    /home/fperrad/perl5/perlbrew/perls/perl-5.26.0/lib/5.26.0
    .